{"text_format":"1","workbook":"xlsx","n_sheets":4,"sheets":["Základní údaje","Rozpis úklidu","Karty úklidu","Činnosti úklidu"],"not_rendered":{"charts":0,"images":0,"macros":1,"external_links":0,"defined_names":4,"comments":3,"pivot_tables":0},"unopened":[],"bounds":{"document_bytes":16777216,"sheet_cells":100000,"rows_first":2000,"rows_last":500,"rows_between":2000,"halvings":0,"cell_chars":16384,"cell_head_chars":4096},"cells_cut":0,"cells_raw":0,"read":"whole","date_system":"1900"}

{"sheet":"Základní údaje","index":0,"n_rows":15,"n_cols":8,"rows_kept":15,"cut":false,"hidden":false,"merged":[[8,3,8,6],[1,0,1,1]]}
["Centrum kolejí Jarov + \nxPORT VŠE"]
["OBDOBÍ:"]
["2020-12-07","2024-12-06"]
["Identifikace subjektu podávajícího nabídku:"]
["Název subjektu:"]
["IČ:"]
["Sídlo:"]
["Zapsaná v:"]
[null,null,null,"Předpoklad roční inflace"]
[null,null,null,"1. rok","2. rok","3. rok","4. rok"]
["CENA pracovní dny [Kč/hodinu/člověka]:",0,{"$f":"IF(B11<>0,B12/B11,0)","v":0},0,0.03,0.03,0.03]
["CENA víkendy [Kč/hodinu/člověka]:",0,{"$f":"IF(B11<>0,(5*B11+2*B12)/7/B11,0)","v":0},1,{"$f":"1+E11","v":1.03},{"$f":"1+F11","v":1.03},1.03]
[null,null,null,1,{"$f":"+D13*E12","v":1.03},{"$f":"+E13*F12","v":1.0609},1.092727,{"$f":"SUM(D13:G13)/4","v":1.0459067500000001}]
[]
["CENA CELKEM ZA ZAKÁZKU:",{"$f":"'Rozpis úklidu'!C86","v":0}]

{"sheet":"Rozpis úklidu","index":1,"n_rows":157,"n_cols":20,"rows_kept":157,"cut":false,"hidden":false,"merged":[[85,2,85,4]]}
[{"$f":"'Základní údaje'!A1","v":"Centrum kolejí Jarov + \nxPORT VŠE"},null,{"$f":"'Základní údaje'!A2","v":"OBDOBÍ:"},{"$f":"'Základní údaje'!A3","v":"2020-12-07"},{"$f":"'Základní údaje'!B3","v":"2024-12-06"}]
["Cena za 1 úklidovou hodinu:",null,{"$f":"'Základní údaje'!B11","v":0},"Kč/hod."]
["Úklidová jednotka","xPORT","plocha\n[m²]","kusy\n[-]","počet\núklidových jednotek","CELKEM\n[m²]\n[ks]","uklízí se","počet úklidů","sezonní\ntýden\nod","sezonní\ntýden\ndo","uklízí se v\npracovní dny","uklízí se o\nvíkendech","Popis činnosti","Zadavatelem předpokládaný čas na úklidovou jednotku\n[min]","Uchazečem navrhovaný čas na úklidovou jednotku\n[min.]","celkový čas úklidu všech úklidových jednotek\n[hod.]","Cena za úklidovou jednotku\n[Kč]","cena celkem za všechny úklidové jednotky \n(prac. dny)\n[Kč]","Cena celkem za období úklidu\n[Kč]","Poznámka"]
["ZÁVĚTŘÍ - 1. NP",null,9.1,null,1,{"$f":"C4*E4+D4*E4","v":9.1},"denně",1,null,null,1,0,"Zamést a odstranit odpadky a nečistoty.",5,null,{"$f":"IF(O4=0,N4*E4/60,O4*E4/60)","v":8.3333333333333329E-2},{"$f":"ROUND(IF(O4=0,N4/60*$C$2,O4/60*$C$2),0)","v":0},{"$f":"Q4*E4","v":0},{"$f":"IF(G4=\"denně\",R4*H4*$C$82,IF(G4=\"týdně\",R4*H4*$C$83,IF(G4=\"měsíčně\",R4*H4*$C$84,IF(G4=\"čtvrtletně\",R4*H4*4*$C$85,IF(G4=\"ročně\",R4*H4*$C$85,H4*R4*$C$85)))))*'Základní údaje'!$H$13*IF(L4=1,'Základní údaje'!$C$12,1)","v":0}]
["ZÁDVEŘÍ - 1. NP",null,11.2,null,1,11.2,"denně",1,null,null,1,0,"Typová činnost č.: 1",5,null,8.3333333333333329E-2,0,0,{"$f":"IF(G5=\"denně\",R5*H5*$C$82,IF(G5=\"týdně\",R5*H5*$C$83,IF(G5=\"měsíčně\",R5*H5*$C$84,IF(G5=\"čtvrtletně\",R5*H5*4*$C$85,IF(G5=\"ročně\",R5*H5*$C$85,H5*R5*$C$85)))))*'Základní údaje'!$H$13*IF(L5=1,'Základní údaje'!$C$12,1)","v":0}]
["VSTUPNÍ HALA - 1. NP",null,106.56,null,1,106.56,"denně",1,null,null,1,0,"Typová činnost č.: 1",{"$f":"25*C6/60","v":44.4},null,0.74,0,0,{"$f":"IF(G6=\"denně\",R6*H6*$C$82,IF(G6=\"týdně\",R6*H6*$C$83,IF(G6=\"měsíčně\",R6*H6*$C$84,IF(G6=\"čtvrtletně\",R6*H6*4*$C$85,IF(G6=\"ročně\",R6*H6*$C$85,H6*R6*$C$85)))))*'Základní údaje'!$H$13*IF(L6=1,'Základní údaje'!$C$12,1)","v":0}]
["WC - 1. NP",null,38.67,null,1,38.67,"denně",1,null,null,1,0,"Typová činnost č.: 14",8,null,0.13333333333333333,0,0,{"$f":"IF(G7=\"denně\",R7*H7*$C$82,IF(G7=\"týdně\",R7*H7*$C$83,IF(G7=\"měsíčně\",R7*H7*$C$84,IF(G7=\"čtvrtletně\",R7*H7*4*$C$85,IF(G7=\"ročně\",R7*H7*$C$85,H7*R7*$C$85)))))*'Základní údaje'!$H$13*IF(L7=1,'Základní údaje'!$C$12,1)","v":0}]
["SCHODIŠTĚ - XPORT - 1. NP",null,24.54,null,1,24.54,"denně",1,null,null,1,0,"Typová činnost č.: 1",{"$f":"15*C8/60","v":6.1349999999999998},null,0.10224999999999999,0,0,{"$f":"IF(G8=\"denně\",R8*H8*$C$82,IF(G8=\"týdně\",R8*H8*$C$83,IF(G8=\"měsíčně\",R8*H8*$C$84,IF(G8=\"čtvrtletně\",R8*H8*4*$C$85,IF(G8=\"ročně\",R8*H8*$C$85,H8*R8*$C$85)))))*'Základní údaje'!$H$13*IF(L8=1,'Základní údaje'!$C$12,1)","v":0}]
["SCHODIŠTĚ VENKOVNÍ - 1. NP",null,17.489999999999998,null,1,17.489999999999998,"denně",1,null,null,1,0,"Typová činnost č.: 1",{"$f":"15*C9/60","v":4.3724999999999996},null,7.2874999999999995E-2,0,0,{"$f":"IF(G9=\"denně\",R9*H9*$C$82,IF(G9=\"týdně\",R9*H9*$C$83,IF(G9=\"měsíčně\",R9*H9*$C$84,IF(G9=\"čtvrtletně\",R9*H9*4*$C$85,IF(G9=\"ročně\",R9*H9*$C$85,H9*R9*$C$85)))))*'Základní údaje'!$H$13*IF(L9=1,'Základní údaje'!$C$12,1)","v":0}]
["KANCELÁŘE - 1. NP",null,{"$f":"327.02/14","v":23.358571428571427},null,14,327.02,"denně",1,null,null,1,0,"Typová činnost č.: 3\nPodlahová krytina: koberec",{"$f":"15*C10/60","v":5.8396428571428567},null,1.3625833333333333,0,0,{"$f":"IF(G10=\"denně\",R10*H10*$C$82,IF(G10=\"týdně\",R10*H10*$C$83,IF(G10=\"měsíčně\",R10*H10*$C$84,IF(G10=\"čtvrtletně\",R10*H10*4*$C$85,IF(G10=\"ročně\",R10*H10*$C$85,H10*R10*$C$85)))))*'Základní údaje'!$H$13*IF(L10=1,'Základní údaje'!$C$12,1)","v":0}]
["Schodiště ze SÚZ do xPORT",1,24.54,null,1,24.54,"denně",1,null,null,1,0,"Typová činnost č.: 1\nPodlahová krytina: dlažba",{"$f":"15*C11/60","v":6.1349999999999998},null,0.10224999999999999,0,0,{"$f":"IF(G11=\"denně\",R11*H11*$C$82,IF(G11=\"týdně\",R11*H11*$C$83,IF(G11=\"měsíčně\",R11*H11*$C$84,IF(G11=\"čtvrtletně\",R11*H11*4*$C$85,IF(G11=\"ročně\",R11*H11*$C$85,H11*R11*$C$85)))))*'Základní údaje'!$H$13*IF(L11=1,'Základní údaje'!$C$12,1)","v":0}]
["vstupní hala xPORT + recepce",1,44.01,null,1,44.01,"denně",1,null,null,1,0,"Typová činnost č.: 1\nPodlahová krytina: lino",{"$f":"25*C12/60","v":18.337499999999999},null,0.30562499999999998,0,0,{"$f":"IF(G12=\"denně\",R12*H12*$C$82,IF(G12=\"týdně\",R12*H12*$C$83,IF(G12=\"měsíčně\",R12*H12*$C$84,IF(G12=\"čtvrtletně\",R12*H12*4*$C$85,IF(G12=\"ročně\",R12*H12*$C$85,H12*R12*$C$85)))))*'Základní údaje'!$H$13*IF(L12=1,'Základní údaje'!$C$12,1)","v":0}]
["Kuchyňka - 2. NP xPORT",1,71.55,null,1,71.55,"denně",1,null,null,1,0,"Typová činnost č.: 5\nPodlahová krytina: lino",{"$f":"30*C13/60","v":35.774999999999999},null,0.59624999999999995,0,0,{"$f":"IF(G13=\"denně\",R13*H13*$C$82,IF(G13=\"týdně\",R13*H13*$C$83,IF(G13=\"měsíčně\",R13*H13*$C$84,IF(G13=\"čtvrtletně\",R13*H13*4*$C$85,IF(G13=\"ročně\",R13*H13*$C$85,H13*R13*$C$85)))))*'Základní údaje'!$H$13*IF(L13=1,'Základní údaje'!$C$12,1)","v":0}]
["WC - 2. NP xPORT",1,34.25,null,1,34.25,"denně",1,null,null,1,0,"Typová činnost č.: 14\nPodlahová krytina: dlažba",{"$f":"450/60","v":7.5},null,0.125,0,0,{"$f":"IF(G14=\"denně\",R14*H14*$C$82,IF(G14=\"týdně\",R14*H14*$C$83,IF(G14=\"měsíčně\",R14*H14*$C$84,IF(G14=\"čtvrtletně\",R14*H14*4*$C$85,IF(G14=\"ročně\",R14*H14*$C$85,H14*R14*$C$85)))))*'Základní údaje'!$H$13*IF(L14=1,'Základní údaje'!$C$12,1)","v":0}]
["Director - 2. NP xPORT",1,14.51,null,1,14.51,"denně",1,null,null,1,0,"Typová činnost č.: 3\nPodlahová krytina: koberec",{"$f":"15*C15/60","v":3.6274999999999999},null,6.0458333333333329E-2,0,0,{"$f":"IF(G15=\"denně\",R15*H15*$C$82,IF(G15=\"týdně\",R15*H15*$C$83,IF(G15=\"měsíčně\",R15*H15*$C$84,IF(G15=\"čtvrtletně\",R15*H15*4*$C$85,IF(G15=\"ročně\",R15*H15*$C$85,H15*R15*$C$85)))))*'Základní údaje'!$H$13*IF(L15=1,'Základní údaje'!$C$12,1)","v":0}]
["Chill Out - 2. NP xPORT",1,57.06,null,1,57.06,"denně",1,null,null,1,0,"Typová činnost č.: 3\nPodlahová krytina: lino+koberec",14.265000000000002,null,0.23775000000000004,0,0,{"$f":"IF(G16=\"denně\",R16*H16*$C$82,IF(G16=\"týdně\",R16*H16*$C$83,IF(G16=\"měsíčně\",R16*H16*$C$84,IF(G16=\"čtvrtletně\",R16*H16*4*$C$85,IF(G16=\"ročně\",R16*H16*$C$85,H16*R16*$C$85)))))*'Základní údaje'!$H$13*IF(L16=1,'Základní údaje'!$C$12,1)","v":0}]
["Kuchyňka - 3. NP xPORT",1,5.7,null,1,5.7,"denně",1,null,null,1,0,"Typová činnost č.: 5\nPodlahová krytina: lino",{"$f":"30*C17/60","v":2.85},null,4.7500000000000001E-2,0,0,{"$f":"IF(G17=\"denně\",R17*H17*$C$82,IF(G17=\"týdně\",R17*H17*$C$83,IF(G17=\"měsíčně\",R17*H17*$C$84,IF(G17=\"čtvrtletně\",R17*H17*4*$C$85,IF(G17=\"ročně\",R17*H17*$C$85,H17*R17*$C$85)))))*'Základní údaje'!$H$13*IF(L17=1,'Základní údaje'!$C$12,1)","v":0}]
["Kanceláře - 3. NP xPORT",1,{"$f":"292.67/7","v":41.81},null,7,292.67,"denně",1,null,null,1,0,"Typová činnost č.: 3\nPodlahová krytina: koberec",{"$f":"15*C18/60","v":10.452500000000002},null,1.2194583333333335,0,0,{"$f":"IF(G18=\"denně\",R18*H18*$C$82,IF(G18=\"týdně\",R18*H18*$C$83,IF(G18=\"měsíčně\",R18*H18*$C$84,IF(G18=\"čtvrtletně\",R18*H18*4*$C$85,IF(G18=\"ročně\",R18*H18*$C$85,H18*R18*$C$85)))))*'Základní údaje'!$H$13*IF(L18=1,'Základní údaje'!$C$12,1)","v":0}]
["WC - 3. NP xPORT",1,26.75,null,1,26.75,"denně",1,null,null,1,0,"Typová činnost č.: 14\nPodlahová krytina: dlažba",7.5,null,0.125,0,0,{"$f":"IF(G19=\"denně\",R19*H19*$C$82,IF(G19=\"týdně\",R19*H19*$C$83,IF(G19=\"měsíčně\",R19*H19*$C$84,IF(G19=\"čtvrtletně\",R19*H19*4*$C$85,IF(G19=\"ročně\",R19*H19*$C$85,H19*R19*$C$85)))))*'Základní údaje'!$H$13*IF(L19=1,'Základní údaje'!$C$12,1)","v":0}]
["Bay Bridge - 2. NP xPORT",1,45.81,null,1,45.81,"denně",1,null,null,1,0,"Typová činnost č.: 3\nPodlahová krytina: koberec",{"$f":"20*C20/60","v":15.270000000000001},null,{"$f":"IF(O20=0,N20*E20/60,O20*E20/60)","v":0.2545},{"$f":"ROUND(IF(O20=0,N20/60*$C$2,O20/60*$C$2),0)","v":0},{"$f":"Q20*E20","v":0},{"$f":"IF(G20=\"denně\",R20*H20*$C$82,IF(G20=\"týdně\",R20*H20*$C$83,IF(G20=\"měsíčně\",R20*H20*$C$84,IF(G20=\"čtvrtletně\",R20*H20*4*$C$85,IF(G20=\"ročně\",R20*H20*$C$85,H20*R20*$C$85)))))*'Základní údaje'!$H$13*IF(L20=1,'Základní údaje'!$C$12,1)","v":0}]
["San Francisco - 2. NP xPORT",1,62.92,null,1,62.92,"denně",1,null,null,1,0,"Typová činnost č.: 3\nPodlahová krytina: koberec",20.973333333333336,null,0.34955555555555562,0,0,{"$f":"IF(G21=\"denně\",R21*H21*$C$82,IF(G21=\"týdně\",R21*H21*$C$83,IF(G21=\"měsíčně\",R21*H21*$C$84,IF(G21=\"čtvrtletně\",R21*H21*4*$C$85,IF(G21=\"ročně\",R21*H21*$C$85,H21*R21*$C$85)))))*'Základní údaje'!$H$13*IF(L21=1,'Základní údaje'!$C$12,1)","v":0}]
["Recepce - 2. NP xPORT",1,121.19,null,1,121.19,"denně",1,null,null,1,0,"Typová činnost č.: 1\nPodlahová krytina: lino",40.396666666666668,null,0.67327777777777775,0,0,{"$f":"IF(G22=\"denně\",R22*H22*$C$82,IF(G22=\"týdně\",R22*H22*$C$83,IF(G22=\"měsíčně\",R22*H22*$C$84,IF(G22=\"čtvrtletně\",R22*H22*4*$C$85,IF(G22=\"ročně\",R22*H22*$C$85,H22*R22*$C$85)))))*'Základní údaje'!$H$13*IF(L22=1,'Základní údaje'!$C$12,1)","v":0}]
["Open Space - 2. NP xPORT",1,313.64,null,1,313.64,"denně",1,null,null,1,0,"Typová činnost č.: 3\nPodlahová krytina: koberec",104.54666666666665,null,1.7424444444444442,0,0,{"$f":"IF(G23=\"denně\",R23*H23*$C$82,IF(G23=\"týdně\",R23*H23*$C$83,IF(G23=\"měsíčně\",R23*H23*$C$84,IF(G23=\"čtvrtletně\",R23*H23*4*$C$85,IF(G23=\"ročně\",R23*H23*$C$85,H23*R23*$C$85)))))*'Základní údaje'!$H$13*IF(L23=1,'Základní údaje'!$C$12,1)","v":0}]
["Lobby - 2. NP xPORT",1,26.46,null,1,26.46,"denně",1,null,null,1,0,"Typová činnost č.: 3\nPodlahová krytina: lino",8.82,null,0.14699999999999999,0,0,{"$f":"IF(G24=\"denně\",R24*H24*$C$82,IF(G24=\"týdně\",R24*H24*$C$83,IF(G24=\"měsíčně\",R24*H24*$C$84,IF(G24=\"čtvrtletně\",R24*H24*4*$C$85,IF(G24=\"ročně\",R24*H24*$C$85,H24*R24*$C$85)))))*'Základní údaje'!$H$13*IF(L24=1,'Základní údaje'!$C$12,1)","v":0}]
["Chodba - 2. NP xPORT",1,32.96,null,1,32.96,"denně",1,null,null,1,0,"Typová činnost č.: 1\nPodlahová krytina: koberec",{"$f":"10*C25/60","v":5.4933333333333341},null,9.1555555555555571E-2,0,0,{"$f":"IF(G25=\"denně\",R25*H25*$C$82,IF(G25=\"týdně\",R25*H25*$C$83,IF(G25=\"měsíčně\",R25*H25*$C$84,IF(G25=\"čtvrtletně\",R25*H25*4*$C$85,IF(G25=\"ročně\",R25*H25*$C$85,H25*R25*$C$85)))))*'Základní údaje'!$H$13*IF(L25=1,'Základní údaje'!$C$12,1)","v":0}]
["World Trade Centre - 2. NP xPORT",1,43.63,null,1,43.63,"denně",1,null,null,1,0,"Typová činnost č.: 3\nPodlahová krytina: koberec",{"$f":"20*C26/60","v":14.543333333333333},null,0.24238888888888888,0,0,{"$f":"IF(G26=\"denně\",R26*H26*$C$82,IF(G26=\"týdně\",R26*H26*$C$83,IF(G26=\"měsíčně\",R26*H26*$C$84,IF(G26=\"čtvrtletně\",R26*H26*4*$C$85,IF(G26=\"ročně\",R26*H26*$C$85,H26*R26*$C$85)))))*'Základní údaje'!$H$13*IF(L26=1,'Základní údaje'!$C$12,1)","v":0}]
["Malé zas. místnosti - 2. NP xPORT",1,49.98,null,1,49.98,"denně",1,null,null,1,0,"Typová činnost č.: 3\nPodlahová krytina: koberec",16.66,null,0.27766666666666667,0,0,{"$f":"IF(G27=\"denně\",R27*H27*$C$82,IF(G27=\"týdně\",R27*H27*$C$83,IF(G27=\"měsíčně\",R27*H27*$C$84,IF(G27=\"čtvrtletně\",R27*H27*4*$C$85,IF(G27=\"ročně\",R27*H27*$C$85,H27*R27*$C$85)))))*'Základní údaje'!$H$13*IF(L27=1,'Základní údaje'!$C$12,1)","v":0}]
["Area 51 - 2. NP xPORT",1,25.29,null,1,25.29,"denně",1,null,null,1,0,"Typová činnost č.: 3\nPodlahová krytina: koberec",8.43,null,0.14049999999999999,0,0,{"$f":"IF(G28=\"denně\",R28*H28*$C$82,IF(G28=\"týdně\",R28*H28*$C$83,IF(G28=\"měsíčně\",R28*H28*$C$84,IF(G28=\"čtvrtletně\",R28*H28*4*$C$85,IF(G28=\"ročně\",R28*H28*$C$85,H28*R28*$C$85)))))*'Základní údaje'!$H$13*IF(L28=1,'Základní údaje'!$C$12,1)","v":0}]
["Call rooms - 2. NP xPORT",1,12.68,null,1,12.68,"denně",1,null,null,1,0,"Typová činnost č.: 3\nPodlahová krytina: koberec",4.2266666666666666,null,7.0444444444444448E-2,0,0,{"$f":"IF(G29=\"denně\",R29*H29*$C$82,IF(G29=\"týdně\",R29*H29*$C$83,IF(G29=\"měsíčně\",R29*H29*$C$84,IF(G29=\"čtvrtletně\",R29*H29*4*$C$85,IF(G29=\"ročně\",R29*H29*$C$85,H29*R29*$C$85)))))*'Základní údaje'!$H$13*IF(L29=1,'Základní údaje'!$C$12,1)","v":0}]
["Manhattan - 2. NP xPORT",1,27.33,null,1,{"$f":"C30*E30+D30*E30","v":27.33},"denně",1,null,null,1,0,"Typová činnost č.: 3\nPodlahová krytina: koberec",9.1099999999999977,null,{"$f":"IF(O30=0,N30*E30/60,O30*E30/60)","v":0.15183333333333329},{"$f":"ROUND(IF(O30=0,N30/60*$C$2,O30/60*$C$2),0)","v":0},{"$f":"Q30*E30","v":0},{"$f":"IF(G30=\"denně\",R30*H30*$C$82,IF(G30=\"týdně\",R30*H30*$C$83,IF(G30=\"měsíčně\",R30*H30*$C$84,IF(G30=\"čtvrtletně\",R30*H30*4*$C$85,IF(G30=\"ročně\",R30*H30*$C$85,H30*R30*$C$85)))))*'Základní údaje'!$H$13*IF(L30=1,'Základní údaje'!$C$12,1)","v":0}]
["Chodba - 3. NP xPORT",1,11.65,null,1,11.65,"denně",1,null,null,1,0,"Typová činnost č.: 1\nPodlahová krytina: koberec",{"$f":"10*C31/60","v":1.9416666666666667},null,3.2361111111111111E-2,0,0,{"$f":"IF(G31=\"denně\",R31*H31*$C$82,IF(G31=\"týdně\",R31*H31*$C$83,IF(G31=\"měsíčně\",R31*H31*$C$84,IF(G31=\"čtvrtletně\",R31*H31*4*$C$85,IF(G31=\"ročně\",R31*H31*$C$85,H31*R31*$C$85)))))*'Základní údaje'!$H$13*IF(L31=1,'Základní údaje'!$C$12,1)","v":0}]
["Open Space - 3. NP xPORT",1,119.93,null,1,119.93,"denně",1,null,null,1,0,"Typová činnost č.: 3\nPodlahová krytina: koberec",39.976666666666674,null,0.66627777777777786,0,{"$f":"Q32*E32","v":0},{"$f":"IF(G32=\"denně\",R32*H32*$C$82,IF(G32=\"týdně\",R32*H32*$C$83,IF(G32=\"měsíčně\",R32*H32*$C$84,IF(G32=\"čtvrtletně\",R32*H32*4*$C$85,IF(G32=\"ročně\",R32*H32*$C$85,H32*R32*$C$85)))))*'Základní údaje'!$H$13*IF(L32=1,'Základní údaje'!$C$12,1)","v":0}]
["Schodiště - 3. NP xPORT",1,10.83,null,1,10.83,"denně",1,null,null,1,0,"Typová činnost č.: 1\nPodlahová krytina: koberec",{"$f":"15*C33/60","v":2.7075},null,4.5124999999999998E-2,0,0,{"$f":"IF(G33=\"denně\",R33*H33*$C$82,IF(G33=\"týdně\",R33*H33*$C$83,IF(G33=\"měsíčně\",R33*H33*$C$84,IF(G33=\"čtvrtletně\",R33*H33*4*$C$85,IF(G33=\"ročně\",R33*H33*$C$85,H33*R33*$C$85)))))*'Základní údaje'!$H$13*IF(L33=1,'Základní údaje'!$C$12,1)","v":0}]
["Kontrola a doplnění papírových ručníků a toaletního papíru na toalety",null,null,1,5,{"$f":"C34*E34+D34*E34","v":5},"denně",1,null,null,1,0,"kontrola a doplnění toaletního papíru a papírových ručníků do zásobníků na toaletách (materiál nakupuje zadavatel)",3,null,{"$f":"IF(O34=0,N34*E34/60,O34*E34/60)","v":0.25},{"$f":"ROUND(IF(O34=0,N34/60*$C$2,O34/60*$C$2),0)","v":0},{"$f":"Q34*E34","v":0},{"$f":"IF(G34=\"denně\",R34*H34*$C$82,IF(G34=\"týdně\",R34*H34*$C$83,IF(G34=\"měsíčně\",R34*H34*$C$84,IF(G34=\"čtvrtletně\",R34*H34*4*$C$85,IF(G34=\"ročně\",R34*H34*$C$85,H34*R34*$C$85)))))*'Základní údaje'!$H$13*IF(L34=1,'Základní údaje'!$C$12,1)","v":0}]
["VSTUPNÍ HALA - 1.PP",null,19.28,null,1,{"$f":"C35*E35+D35*E35","v":19.28},"týdně",2,null,null,1,0,"Typová činnost č.: 1\nPodlahová krytina: dlažba",{"$f":"25*C35/60","v":8.0333333333333332},null,{"$f":"IF(O35=0,N35*E35/60,O35*E35/60)","v":0.13388888888888889},{"$f":"ROUND(IF(O35=0,N35/60*$C$2,O35/60*$C$2),0)","v":0},{"$f":"Q35*E35","v":0},{"$f":"IF(G35=\"denně\",R35*H35*$C$82,IF(G35=\"týdně\",R35*H35*$C$83,IF(G35=\"měsíčně\",R35*H35*$C$84,IF(G35=\"čtvrtletně\",R35*H35*4*$C$85,IF(G35=\"ročně\",R35*H35*$C$85,H35*R35*$C$85)))))*'Základní údaje'!$H$13*IF(L35=1,'Základní údaje'!$C$12,1)","v":0}]
["SCHODIŠTĚ- K TĚLOCV. - 1.PP",null,10.8,null,1,10.8,"týdně",2,null,null,1,0,"Typová činnost č.: 1",{"$f":"15*C36/60","v":2.7},null,4.5000000000000005E-2,0,0,{"$f":"IF(G36=\"denně\",R36*H36*$C$82,IF(G36=\"týdně\",R36*H36*$C$83,IF(G36=\"měsíčně\",R36*H36*$C$84,IF(G36=\"čtvrtletně\",R36*H36*4*$C$85,IF(G36=\"ročně\",R36*H36*$C$85,H36*R36*$C$85)))))*'Základní údaje'!$H$13*IF(L36=1,'Základní údaje'!$C$12,1)","v":0}]
["CHODBA - 1.PP",null,12.83,null,1,12.83,"týdně",2,null,null,1,0,"Typová činnost č.: 1\nPodlahová krytina: dlažba",{"$f":"10*C37/60","v":2.1383333333333336},null,3.5638888888888894E-2,0,0,{"$f":"IF(G37=\"denně\",R37*H37*$C$82,IF(G37=\"týdně\",R37*H37*$C$83,IF(G37=\"měsíčně\",R37*H37*$C$84,IF(G37=\"čtvrtletně\",R37*H37*4*$C$85,IF(G37=\"ročně\",R37*H37*$C$85,H37*R37*$C$85)))))*'Základní údaje'!$H$13*IF(L37=1,'Základní údaje'!$C$12,1)","v":0}]
["HALA 1 - 1. NP",null,93.81,null,1,93.81,"týdně",2,null,null,1,0,"Typová činnost č.: 1\nPodlahová krytina: koberce",{"$f":"25*C38/60","v":39.087499999999999},null,0.65145833333333336,0,0,{"$f":"IF(G38=\"denně\",R38*H38*$C$82,IF(G38=\"týdně\",R38*H38*$C$83,IF(G38=\"měsíčně\",R38*H38*$C$84,IF(G38=\"čtvrtletně\",R38*H38*4*$C$85,IF(G38=\"ročně\",R38*H38*$C$85,H38*R38*$C$85)))))*'Základní údaje'!$H$13*IF(L38=1,'Základní údaje'!$C$12,1)","v":0}]
["HALA 2 - 1. NP",null,39.61,null,1,39.61,"týdně",2,null,null,1,0,"Typová činnost č.: 1\nPodlahová krytina: dlažba",{"$f":"25*C39/60","v":16.504166666666666},null,0.27506944444444442,0,0,{"$f":"IF(G39=\"denně\",R39*H39*$C$82,IF(G39=\"týdně\",R39*H39*$C$83,IF(G39=\"měsíčně\",R39*H39*$C$84,IF(G39=\"čtvrtletně\",R39*H39*4*$C$85,IF(G39=\"ročně\",R39*H39*$C$85,H39*R39*$C$85)))))*'Základní údaje'!$H$13*IF(L39=1,'Základní údaje'!$C$12,1)","v":0}]
["VÝTAH - 1. NP",null,3.58,null,1,3.58,"týdně",2,null,null,1,0,"Typová činnost č.: 11",5,null,8.3333333333333329E-2,0,0,{"$f":"IF(G40=\"denně\",R40*H40*$C$82,IF(G40=\"týdně\",R40*H40*$C$83,IF(G40=\"měsíčně\",R40*H40*$C$84,IF(G40=\"čtvrtletně\",R40*H40*4*$C$85,IF(G40=\"ročně\",R40*H40*$C$85,H40*R40*$C$85)))))*'Základní údaje'!$H$13*IF(L40=1,'Základní údaje'!$C$12,1)","v":0}]
["SCHODIŠTĚ- K TĚLOCV. - 1. NP",null,9.92,null,1,9.92,"týdně",2,null,null,1,0,"Typová činnost č.: 1",{"$f":"15*C41/60","v":2.48},null,4.1333333333333333E-2,0,0,{"$f":"IF(G41=\"denně\",R41*H41*$C$82,IF(G41=\"týdně\",R41*H41*$C$83,IF(G41=\"měsíčně\",R41*H41*$C$84,IF(G41=\"čtvrtletně\",R41*H41*4*$C$85,IF(G41=\"ročně\",R41*H41*$C$85,H41*R41*$C$85)))))*'Základní údaje'!$H$13*IF(L41=1,'Základní údaje'!$C$12,1)","v":0}]
["ZASEDACÍ MÍSTNOST - 1. NP",null,36.119999999999997,null,1,36.119999999999997,"týdně",2,null,null,1,0,"Typová činnost č.: 3",{"$f":"20*C42/60","v":12.04},null,0.20066666666666666,0,0,{"$f":"IF(G42=\"denně\",R42*H42*$C$82,IF(G42=\"týdně\",R42*H42*$C$83,IF(G42=\"měsíčně\",R42*H42*$C$84,IF(G42=\"čtvrtletně\",R42*H42*4*$C$85,IF(G42=\"ročně\",R42*H42*$C$85,H42*R42*$C$85)))))*'Základní údaje'!$H$13*IF(L42=1,'Základní údaje'!$C$12,1)","v":0}]
["HALA - OSOBNÍ VÝTAH - 1. NP",null,9.9,null,1,9.9,"týdně",2,null,null,1,0,"Typová činnost č.: 1 a 11",{"$f":"25*C43/60","v":4.125},null,6.8750000000000006E-2,0,0,{"$f":"IF(G43=\"denně\",R43*H43*$C$82,IF(G43=\"týdně\",R43*H43*$C$83,IF(G43=\"měsíčně\",R43*H43*$C$84,IF(G43=\"čtvrtletně\",R43*H43*4*$C$85,IF(G43=\"ročně\",R43*H43*$C$85,H43*R43*$C$85)))))*'Základní údaje'!$H$13*IF(L43=1,'Základní údaje'!$C$12,1)","v":0}]
["SCHODIŠŤOVÝ PROSTOR - 3.NP",null,35.58,null,1,35.58,"týdně",1,null,null,1,0,"Typová činnost č.: 1\nPodlahová krytina: dlažba",{"$f":"15*C44/60","v":8.8949999999999996},null,0.14824999999999999,0,0,{"$f":"IF(G44=\"denně\",R44*H44*$C$82,IF(G44=\"týdně\",R44*H44*$C$83,IF(G44=\"měsíčně\",R44*H44*$C$84,IF(G44=\"čtvrtletně\",R44*H44*4*$C$85,IF(G44=\"ročně\",R44*H44*$C$85,H44*R44*$C$85)))))*'Základní údaje'!$H$13*IF(L44=1,'Základní údaje'!$C$12,1)","v":0}]
["SPOLEČNÁ CHODBA - 3.NP",null,17.78,null,1,17.78,"týdně",1,null,null,1,0,"Typová činnost č.: 1\nPodlahová krytina: dlažba",{"$f":"10*C45/60","v":2.9633333333333334},null,4.9388888888888892E-2,0,0,{"$f":"IF(G45=\"denně\",R45*H45*$C$82,IF(G45=\"týdně\",R45*H45*$C$83,IF(G45=\"měsíčně\",R45*H45*$C$84,IF(G45=\"čtvrtletně\",R45*H45*4*$C$85,IF(G45=\"ročně\",R45*H45*$C$85,H45*R45*$C$85)))))*'Základní údaje'!$H$13*IF(L45=1,'Základní údaje'!$C$12,1)","v":0}]
["Mezipatro - 3. NP xPORT",1,41.25,null,1,41.25,"týdně",1,null,null,1,0,"Typová činnost č.: 1\nPodlahová krytina: koberec",{"$f":"10*C46/60","v":6.875},null,0.11458333333333333,0,0,{"$f":"IF(G46=\"denně\",R46*H46*$C$82,IF(G46=\"týdně\",R46*H46*$C$83,IF(G46=\"měsíčně\",R46*H46*$C$84,IF(G46=\"čtvrtletně\",R46*H46*4*$C$85,IF(G46=\"ročně\",R46*H46*$C$85,H46*R46*$C$85)))))*'Základní údaje'!$H$13*IF(L46=1,'Základní údaje'!$C$12,1)","v":0}]
["SPRCHY - 1. NP (muži, ženy)",null,6.3,null,2,12.6,"měsíčně",1,null,null,1,0,"Typová činnost č.: 15\nPodlahová krytina: dlažba",{"$f":"100*C47/60","v":10.5},null,0.35,0,0,{"$f":"IF(G47=\"denně\",R47*H47*$C$82,IF(G47=\"týdně\",R47*H47*$C$83,IF(G47=\"měsíčně\",R47*H47*$C$84,IF(G47=\"čtvrtletně\",R47*H47*4*$C$85,IF(G47=\"ročně\",R47*H47*$C$85,H47*R47*$C$85)))))*'Základní údaje'!$H$13*IF(L47=1,'Základní údaje'!$C$12,1)","v":0}]
["Schod. ze SÚZ do xPORT - 2. NP xPORT",1,17.829999999999998,null,1,17.829999999999998,"měsíčně",1,null,null,1,0,"Typová činnost č.: 1\nPodlahová krytina: dlažba",{"$f":"15*C48/60","v":4.4574999999999996},null,7.4291666666666659E-2,0,0,{"$f":"IF(G48=\"denně\",R48*H48*$C$82,IF(G48=\"týdně\",R48*H48*$C$83,IF(G48=\"měsíčně\",R48*H48*$C$84,IF(G48=\"čtvrtletně\",R48*H48*4*$C$85,IF(G48=\"ročně\",R48*H48*$C$85,H48*R48*$C$85)))))*'Základní údaje'!$H$13*IF(L48=1,'Základní údaje'!$C$12,1)","v":0}]
["Schodiště u výtahu - 2. NP xPORT",1,11.13,null,1,11.13,"měsíčně",1,null,null,1,0,"Typová činnost č.: 1\nPodlahová krytina: dlažba",{"$f":"15*C49/60","v":2.7825000000000002},null,4.6375000000000006E-2,0,0,{"$f":"IF(G49=\"denně\",R49*H49*$C$82,IF(G49=\"týdně\",R49*H49*$C$83,IF(G49=\"měsíčně\",R49*H49*$C$84,IF(G49=\"čtvrtletně\",R49*H49*4*$C$85,IF(G49=\"ročně\",R49*H49*$C$85,H49*R49*$C$85)))))*'Základní údaje'!$H$13*IF(L49=1,'Základní údaje'!$C$12,1)","v":0}]
["Terasa - 3. NP xPORT",1,60.79,null,1,60.79,"měsíčně",1,null,null,1,0,"Typová činnost č.: 2\nPodlahová krytina: plast",{"$f":"25*C50/60","v":25.329166666666666},null,0.42215277777777777,0,0,{"$f":"IF(G50=\"denně\",R50*H50*$C$82,IF(G50=\"týdně\",R50*H50*$C$83,IF(G50=\"měsíčně\",R50*H50*$C$84,IF(G50=\"čtvrtletně\",R50*H50*4*$C$85,IF(G50=\"ročně\",R50*H50*$C$85,H50*R50*$C$85)))))*'Základní údaje'!$H$13*IF(L50=1,'Základní údaje'!$C$12,1)","v":0}]
["ŠATNA - 1.PP",null,21.24,null,1,{"$f":"C51*E51+D51*E51","v":21.24},"sezonně",{"$f":"(J51-I51+1)*5","v":85},36,52,1,0,"Typová činnost č.: 3\nPodlahová krytina: dlažba",{"$f":"15*C51/60","v":5.31},null,{"$f":"IF(O51=0,N51*E51/60,O51*E51/60)","v":8.8499999999999995E-2},{"$f":"ROUND(IF(O51=0,N51/60*$C$2,O51/60*$C$2),0)","v":0},{"$f":"Q51*E51","v":0},{"$f":"IF(G51=\"denně\",R51*H51*$C$82,IF(G51=\"týdně\",R51*H51*$C$83,IF(G51=\"měsíčně\",R51*H51*$C$84,IF(G51=\"čtvrtletně\",R51*H51*4*$C$85,IF(G51=\"ročně\",R51*H51*$C$85,H51*R51*$C$85)))))*'Základní údaje'!$H$13*IF(L51=1,'Základní údaje'!$C$12,1)","v":0}]
["WC - 1.PP",null,17.36,null,1,17.36,"sezonně",{"$f":"(J52-I52+1)*5","v":85},36,52,1,0,"Typová činnost č.: 14\nPodlahová krytina: dlažba",7.5,null,0.125,0,0,{"$f":"IF(G52=\"denně\",R52*H52*$C$82,IF(G52=\"týdně\",R52*H52*$C$83,IF(G52=\"měsíčně\",R52*H52*$C$84,IF(G52=\"čtvrtletně\",R52*H52*4*$C$85,IF(G52=\"ročně\",R52*H52*$C$85,H52*R52*$C$85)))))*'Základní údaje'!$H$13*IF(L52=1,'Základní údaje'!$C$12,1)","v":0}]
["ŠATNA PROFESOŘI - 1.PP",null,3.4,null,1,3.4,"sezonně",85,36,52,1,0,"Typová činnost č.: 3\nPodlahová krytina: dlažba",{"$f":"20*C53/60","v":1.1333333333333333},null,1.8888888888888889E-2,0,0,{"$f":"IF(G53=\"denně\",R53*H53*$C$82,IF(G53=\"týdně\",R53*H53*$C$83,IF(G53=\"měsíčně\",R53*H53*$C$84,IF(G53=\"čtvrtletně\",R53*H53*4*$C$85,IF(G53=\"ročně\",R53*H53*$C$85,H53*R53*$C$85)))))*'Základní údaje'!$H$13*IF(L53=1,'Základní údaje'!$C$12,1)","v":0}]
["SOC- PROFESOŘI - 1.PP",null,5.28,null,1,5.28,"sezonně",85,36,52,1,0,"Typová činnost č.: 14 + 15\nPodlahová krytina: dlažba",{"$f":"100*C54/60","v":8.8000000000000007},null,0.14666666666666667,0,0,{"$f":"IF(G54=\"denně\",R54*H54*$C$82,IF(G54=\"týdně\",R54*H54*$C$83,IF(G54=\"měsíčně\",R54*H54*$C$84,IF(G54=\"čtvrtletně\",R54*H54*4*$C$85,IF(G54=\"ročně\",R54*H54*$C$85,H54*R54*$C$85)))))*'Základní údaje'!$H$13*IF(L54=1,'Základní údaje'!$C$12,1)","v":0}]
["ŠATNA - 1.PP",null,21.24,null,1,{"$f":"C55*E55+D55*E55","v":21.24},"sezonně",135,1,27,1,0,"Typová činnost č.: 3\nPodlahová krytina: dlažba",{"$f":"20*C55/60","v":7.0799999999999992},null,{"$f":"IF(O55=0,N55*E55/60,O55*E55/60)","v":0.11799999999999998},{"$f":"ROUND(IF(O55=0,N55/60*$C$2,O55/60*$C$2),0)","v":0},{"$f":"Q55*E55","v":0},{"$f":"IF(G55=\"denně\",R55*H55*$C$82,IF(G55=\"týdně\",R55*H55*$C$83,IF(G55=\"měsíčně\",R55*H55*$C$84,IF(G55=\"čtvrtletně\",R55*H55*4*$C$85,IF(G55=\"ročně\",R55*H55*$C$85,H55*R55*$C$85)))))*'Základní údaje'!$H$13*IF(L55=1,'Základní údaje'!$C$12,1)","v":0}]
["WC - 1.PP",null,17.36,null,1,{"$f":"C56*E56+D56*E56","v":17.36},"sezonně",135,1,27,1,0,"Typová činnost č.: 14\nPodlahová krytina: dlažba",7.5,null,{"$f":"IF(O56=0,N56*E56/60,O56*E56/60)","v":0.125},{"$f":"ROUND(IF(O56=0,N56/60*$C$2,O56/60*$C$2),0)","v":0},{"$f":"Q56*E56","v":0},{"$f":"IF(G56=\"denně\",R56*H56*$C$82,IF(G56=\"týdně\",R56*H56*$C$83,IF(G56=\"měsíčně\",R56*H56*$C$84,IF(G56=\"čtvrtletně\",R56*H56*4*$C$85,IF(G56=\"ročně\",R56*H56*$C$85,H56*R56*$C$85)))))*'Základní údaje'!$H$13*IF(L56=1,'Základní údaje'!$C$12,1)","v":0}]
["ŠATNA PROFESOŘI - 1.PP",null,3.4,null,1,{"$f":"C57*E57+D57*E57","v":3.4},"sezonně",135,1,27,1,0,"Typová činnost č.: 3\nPodlahová krytina: dlažba",{"$f":"20*C57/60","v":1.1333333333333333},null,{"$f":"IF(O57=0,N57*E57/60,O57*E57/60)","v":1.8888888888888889E-2},{"$f":"ROUND(IF(O57=0,N57/60*$C$2,O57/60*$C$2),0)","v":0},{"$f":"Q57*E57","v":0},{"$f":"IF(G57=\"denně\",R57*H57*$C$82,IF(G57=\"týdně\",R57*H57*$C$83,IF(G57=\"měsíčně\",R57*H57*$C$84,IF(G57=\"čtvrtletně\",R57*H57*4*$C$85,IF(G57=\"ročně\",R57*H57*$C$85,H57*R57*$C$85)))))*'Základní údaje'!$H$13*IF(L57=1,'Základní údaje'!$C$12,1)","v":0}]
["SOC- PROFESOŘI - 1.PP",null,5.28,null,1,{"$f":"C58*E58+D58*E58","v":5.28},"sezonně",135,1,27,1,0,"Typová činnost č.: 14 + 15\nPodlahová krytina: dlažba",{"$f":"100*C58/60","v":8.8000000000000007},null,{"$f":"IF(O58=0,N58*E58/60,O58*E58/60)","v":0.14666666666666667},{"$f":"ROUND(IF(O58=0,N58/60*$C$2,O58/60*$C$2),0)","v":0},{"$f":"Q58*E58","v":0},{"$f":"IF(G58=\"denně\",R58*H58*$C$82,IF(G58=\"týdně\",R58*H58*$C$83,IF(G58=\"měsíčně\",R58*H58*$C$84,IF(G58=\"čtvrtletně\",R58*H58*4*$C$85,IF(G58=\"ročně\",R58*H58*$C$85,H58*R58*$C$85)))))*'Základní údaje'!$H$13*IF(L58=1,'Základní údaje'!$C$12,1)","v":0}]
["CVIČEBNÍ SÁL A - 1.PP",null,53.46,null,1,{"$f":"C59*E59+D59*E59","v":53.46},"sezonně",{"$f":"(J59-I59+1)","v":17},36,52,1,0,"Typová činnost č.: 3",{"$f":"20*C59/60","v":17.82},null,{"$f":"IF(O59=0,N59*E59/60,O59*E59/60)","v":0.29699999999999999},{"$f":"ROUND(IF(O59=0,N59/60*$C$2,O59/60*$C$2),0)","v":0},{"$f":"Q59*E59","v":0},{"$f":"IF(G59=\"denně\",R59*H59*$C$82,IF(G59=\"týdně\",R59*H59*$C$83,IF(G59=\"měsíčně\",R59*H59*$C$84,IF(G59=\"čtvrtletně\",R59*H59*4*$C$85,IF(G59=\"ročně\",R59*H59*$C$85,H59*R59*$C$85)))))*'Základní údaje'!$H$13*IF(L59=1,'Základní údaje'!$C$12,1)","v":0}]
["CVIČEBNÍ SÁL B - 1.PP",null,145,null,1,145,"sezonně",{"$f":"(J60-I60+1)","v":17},36,52,1,0,"Typová činnost č.: 3",48.333333333333336,null,0.80555555555555558,0,0,{"$f":"IF(G60=\"denně\",R60*H60*$C$82,IF(G60=\"týdně\",R60*H60*$C$83,IF(G60=\"měsíčně\",R60*H60*$C$84,IF(G60=\"čtvrtletně\",R60*H60*4*$C$85,IF(G60=\"ročně\",R60*H60*$C$85,H60*R60*$C$85)))))*'Základní údaje'!$H$13*IF(L60=1,'Základní údaje'!$C$12,1)","v":0}]
["CHODBA - U TĚLOCVIČNY - 1.PP",null,32.82,null,1,32.82,"sezonně",{"$f":"(J61-I61+1)*2","v":34},36,52,1,0,"Typová činnost č.: 1\nPodlahová krytina: dlažba",{"$f":"10*C61/60","v":5.47},null,9.116666666666666E-2,0,0,{"$f":"IF(G61=\"denně\",R61*H61*$C$82,IF(G61=\"týdně\",R61*H61*$C$83,IF(G61=\"měsíčně\",R61*H61*$C$84,IF(G61=\"čtvrtletně\",R61*H61*4*$C$85,IF(G61=\"ročně\",R61*H61*$C$85,H61*R61*$C$85)))))*'Základní údaje'!$H$13*IF(L61=1,'Základní údaje'!$C$12,1)","v":0}]
["CVIČEBNÍ SÁL A - 1.PP",null,53.46,null,1,{"$f":"C62*E62+D62*E62","v":53.46},"sezonně",{"$f":"(J62-I62+1)","v":27},1,27,1,0,"Typová činnost č.: 3",17.82,null,{"$f":"IF(O62=0,N62*E62/60,O62*E62/60)","v":0.29699999999999999},{"$f":"ROUND(IF(O62=0,N62/60*$C$2,O62/60*$C$2),0)","v":0},{"$f":"Q62*E62","v":0},{"$f":"IF(G62=\"denně\",R62*H62*$C$82,IF(G62=\"týdně\",R62*H62*$C$83,IF(G62=\"měsíčně\",R62*H62*$C$84,IF(G62=\"čtvrtletně\",R62*H62*4*$C$85,IF(G62=\"ročně\",R62*H62*$C$85,H62*R62*$C$85)))))*'Základní údaje'!$H$13*IF(L62=1,'Základní údaje'!$C$12,1)","v":0}]
["CVIČEBNÍ SÁL B - 1.PP",null,145,null,1,{"$f":"C63*E63+D63*E63","v":145},"sezonně",{"$f":"(J63-I63+1)","v":27},1,27,1,0,"Typová činnost č.: 3",48.333333333333336,null,{"$f":"IF(O63=0,N63*E63/60,O63*E63/60)","v":0.80555555555555558},{"$f":"ROUND(IF(O63=0,N63/60*$C$2,O63/60*$C$2),0)","v":0},{"$f":"Q63*E63","v":0},{"$f":"IF(G63=\"denně\",R63*H63*$C$82,IF(G63=\"týdně\",R63*H63*$C$83,IF(G63=\"měsíčně\",R63*H63*$C$84,IF(G63=\"čtvrtletně\",R63*H63*4*$C$85,IF(G63=\"ročně\",R63*H63*$C$85,H63*R63*$C$85)))))*'Základní údaje'!$H$13*IF(L63=1,'Základní údaje'!$C$12,1)","v":0}]
["CHODBA - U TĚLOCVIČNY - 1.PP",null,32.82,null,1,{"$f":"C64*E64+D64*E64","v":32.82},"sezonně",{"$f":"(J64-I64+1)*2","v":54},1,27,1,0,"Typová činnost č.: 1",{"$f":"10*C64/60","v":5.47},null,{"$f":"IF(O64=0,N64*E64/60,O64*E64/60)","v":9.116666666666666E-2},{"$f":"ROUND(IF(O64=0,N64/60*$C$2,O64/60*$C$2),0)","v":0},{"$f":"Q64*E64","v":0},{"$f":"IF(G64=\"denně\",R64*H64*$C$82,IF(G64=\"týdně\",R64*H64*$C$83,IF(G64=\"měsíčně\",R64*H64*$C$84,IF(G64=\"čtvrtletně\",R64*H64*4*$C$85,IF(G64=\"ročně\",R64*H64*$C$85,H64*R64*$C$85)))))*'Základní údaje'!$H$13*IF(L64=1,'Základní údaje'!$C$12,1)","v":0}]
["ŠATNY - sport. areál",null,51.02,null,1,{"$f":"C65*E65+D65*E65","v":51.02},"sezonně",{"$f":"(J65-I65+1)*3","v":51},36,52,1,0,"Typová činnost č.: 3\nPodlahová krytina: dlažba",{"$f":"20*C65/60","v":17.006666666666668},null,{"$f":"IF(O65=0,N65*E65/60,O65*E65/60)","v":0.28344444444444444},{"$f":"ROUND(IF(O65=0,N65/60*$C$2,O65/60*$C$2),0)","v":0},{"$f":"Q65*E65","v":0},{"$f":"IF(G65=\"denně\",R65*H65*$C$82,IF(G65=\"týdně\",R65*H65*$C$83,IF(G65=\"měsíčně\",R65*H65*$C$84,IF(G65=\"čtvrtletně\",R65*H65*4*$C$85,IF(G65=\"ročně\",R65*H65*$C$85,H65*R65*$C$85)))))*'Základní údaje'!$H$13*IF(L65=1,'Základní údaje'!$C$12,1)","v":0}]
["CHODBA - sport. areál",null,41.94,null,1,41.94,"sezonně",{"$f":"(J66-I66+1)*3","v":51},36,52,1,0,"Typová činnost č.: 1\nPodlahová krytina: dlažba",{"$f":"10*C66/60","v":6.9899999999999993},null,0.11649999999999999,0,{"$f":"Q66*E66","v":0},{"$f":"IF(G66=\"denně\",R66*H66*$C$82,IF(G66=\"týdně\",R66*H66*$C$83,IF(G66=\"měsíčně\",R66*H66*$C$84,IF(G66=\"čtvrtletně\",R66*H66*4*$C$85,IF(G66=\"ročně\",R66*H66*$C$85,H66*R66*$C$85)))))*'Základní údaje'!$H$13*IF(L66=1,'Základní údaje'!$C$12,1)","v":0}]
["KOUPELNY A WC - sport. areál",null,52.85,null,1,52.85,"sezonně",51,36,52,1,0,"Typová činnost č.: 14 + 15\nPodlahová krytina: dlažba",{"$f":"100*C67/60","v":88.083333333333329},null,1.4680555555555554,0,0,{"$f":"IF(G67=\"denně\",R67*H67*$C$82,IF(G67=\"týdně\",R67*H67*$C$83,IF(G67=\"měsíčně\",R67*H67*$C$84,IF(G67=\"čtvrtletně\",R67*H67*4*$C$85,IF(G67=\"ročně\",R67*H67*$C$85,H67*R67*$C$85)))))*'Základní údaje'!$H$13*IF(L67=1,'Základní údaje'!$C$12,1)","v":0}]
["ŠATNY - sport. areál",null,51.02,null,1,{"$f":"C68*E68+D68*E68","v":51.02},"sezonně",81,1,27,1,0,"Typová činnost č.: 3",{"$f":"20*C68/60","v":17.006666666666668},null,{"$f":"IF(O68=0,N68*E68/60,O68*E68/60)","v":0.28344444444444444},{"$f":"ROUND(IF(O68=0,N68/60*$C$2,O68/60*$C$2),0)","v":0},{"$f":"Q68*E68","v":0},{"$f":"IF(G68=\"denně\",R68*H68*$C$82,IF(G68=\"týdně\",R68*H68*$C$83,IF(G68=\"měsíčně\",R68*H68*$C$84,IF(G68=\"čtvrtletně\",R68*H68*4*$C$85,IF(G68=\"ročně\",R68*H68*$C$85,H68*R68*$C$85)))))*'Základní údaje'!$H$13*IF(L68=1,'Základní údaje'!$C$12,1)","v":0}]
["CHODBA - sport. areál",null,41.94,null,1,{"$f":"C69*E69+D69*E69","v":41.94},"sezonně",81,1,27,1,0,"Typová činnost č.: 1",{"$f":"10*C69/60","v":6.9899999999999993},null,{"$f":"IF(O69=0,N69*E69/60,O69*E69/60)","v":0.11649999999999999},{"$f":"ROUND(IF(O69=0,N69/60*$C$2,O69/60*$C$2),0)","v":0},{"$f":"Q69*E69","v":0},{"$f":"IF(G69=\"denně\",R69*H69*$C$82,IF(G69=\"týdně\",R69*H69*$C$83,IF(G69=\"měsíčně\",R69*H69*$C$84,IF(G69=\"čtvrtletně\",R69*H69*4*$C$85,IF(G69=\"ročně\",R69*H69*$C$85,H69*R69*$C$85)))))*'Základní údaje'!$H$13*IF(L69=1,'Základní údaje'!$C$12,1)","v":0}]
["KOUPELNY A WC - sport. areál",null,52.85,null,1,{"$f":"C70*E70+D70*E70","v":52.85},"sezonně",81,1,27,1,0,"Typová činnost č.: 14 + 15\nPodlahová krytina: dlažba",{"$f":"100*C70/60","v":88.083333333333329},null,{"$f":"IF(O70=0,N70*E70/60,O70*E70/60)","v":1.4680555555555554},{"$f":"ROUND(IF(O70=0,N70/60*$C$2,O70/60*$C$2),0)","v":0},{"$f":"Q70*E70","v":0},{"$f":"IF(G70=\"denně\",R70*H70*$C$82,IF(G70=\"týdně\",R70*H70*$C$83,IF(G70=\"měsíčně\",R70*H70*$C$84,IF(G70=\"čtvrtletně\",R70*H70*4*$C$85,IF(G70=\"ročně\",R70*H70*$C$85,H70*R70*$C$85)))))*'Základní údaje'!$H$13*IF(L70=1,'Základní údaje'!$C$12,1)","v":0}]
["NÁŘAĎOVNA - 1.PP",null,6.7,null,1,{"$f":"C71*E71+D71*E71","v":6.7},"sezonně",4,36,52,1,0,"Typová činnost č.: 3",{"$f":"20*C71/60","v":2.2333333333333334},null,{"$f":"IF(O71=0,N71*E71/60,O71*E71/60)","v":3.7222222222222226E-2},{"$f":"ROUND(IF(O71=0,N71/60*$C$2,O71/60*$C$2),0)","v":0},{"$f":"Q71*E71","v":0},{"$f":"IF(G71=\"denně\",R71*H71*$C$82,IF(G71=\"týdně\",R71*H71*$C$83,IF(G71=\"měsíčně\",R71*H71*$C$84,IF(G71=\"čtvrtletně\",R71*H71*4*$C$85,IF(G71=\"ročně\",R71*H71*$C$85,H71*R71*$C$85)))))*'Základní údaje'!$H$13*IF(L71=1,'Základní údaje'!$C$12,1)","v":0}]
["NÁŘAĎOVNA - 1.PP",null,6.7,null,1,{"$f":"C72*E72+D72*E72","v":6.7},"sezonně",6,1,27,1,0,"Typová činnost č.: 3",2.2333333333333334,null,{"$f":"IF(O72=0,N72*E72/60,O72*E72/60)","v":3.7222222222222226E-2},{"$f":"ROUND(IF(O72=0,N72/60*$C$2,O72/60*$C$2),0)","v":0},{"$f":"Q72*E72","v":0},{"$f":"IF(G72=\"denně\",R72*H72*$C$82,IF(G72=\"týdně\",R72*H72*$C$83,IF(G72=\"měsíčně\",R72*H72*$C$84,IF(G72=\"čtvrtletně\",R72*H72*4*$C$85,IF(G72=\"ročně\",R72*H72*$C$85,H72*R72*$C$85)))))*'Základní údaje'!$H$13*IF(L72=1,'Základní údaje'!$C$12,1)","v":0}]
[null,null,null,null,null,0,null,null,null,null,1,0,null,null,null,0,0,0,{"$f":"IF(G73=\"denně\",R73*H73*$C$82,IF(G73=\"týdně\",R73*H73*$C$83,IF(G73=\"měsíčně\",R73*H73*$C$84,IF(G73=\"čtvrtletně\",R73*H73*4*$C$85,IF(G73=\"ročně\",R73*H73*$C$85,H73*R73*$C$85)))))*'Základní údaje'!$H$13*IF(L73=1,'Základní údaje'!$C$12,1)","v":0}]
[null,null,null,null,null,0,null,null,null,null,1,0,null,null,null,0,0,0,{"$f":"IF(G74=\"denně\",R74*H74*$C$82,IF(G74=\"týdně\",R74*H74*$C$83,IF(G74=\"měsíčně\",R74*H74*$C$84,IF(G74=\"čtvrtletně\",R74*H74*4*$C$85,IF(G74=\"ročně\",R74*H74*$C$85,H74*R74*$C$85)))))*'Základní údaje'!$H$13*IF(L74=1,'Základní údaje'!$C$12,1)","v":0}]
[null,null,null,null,null,0,null,null,null,null,1,0,null,null,null,0,0,0,{"$f":"IF(G75=\"denně\",R75*H75*$C$82,IF(G75=\"týdně\",R75*H75*$C$83,IF(G75=\"měsíčně\",R75*H75*$C$84,IF(G75=\"čtvrtletně\",R75*H75*4*$C$85,IF(G75=\"ročně\",R75*H75*$C$85,H75*R75*$C$85)))))*'Základní údaje'!$H$13*IF(L75=1,'Základní údaje'!$C$12,1)","v":0}]
[null,null,null,null,null,0,null,null,null,null,1,0,null,null,null,0,0,0,{"$f":"IF(G76=\"denně\",R76*H76*$C$82,IF(G76=\"týdně\",R76*H76*$C$83,IF(G76=\"měsíčně\",R76*H76*$C$84,IF(G76=\"čtvrtletně\",R76*H76*4*$C$85,IF(G76=\"ročně\",R76*H76*$C$85,H76*R76*$C$85)))))*'Základní údaje'!$H$13*IF(L76=1,'Základní údaje'!$C$12,1)","v":0}]
[null,null,null,null,null,{"$f":"C77*E77+D77*E77","v":0},null,null,null,null,null,null,null,null,null,{"$f":"IF(O77=0,N77*E77/60,O77*E77/60)","v":0},{"$f":"ROUND(IF(O77=0,N77/60*$C$2,O77/60*$C$2),0)","v":0},{"$f":"Q77*E77","v":0},{"$f":"IF(G77=\"denně\",R77*H77*$C$82,IF(G77=\"týdně\",R77*H77*$C$83,IF(G77=\"měsíčně\",R77*H77*$C$84,IF(G77=\"čtvrtletně\",R77*H77*4*$C$85,IF(G77=\"ročně\",R77*H77*$C$85,H77*R77*$C$85)))))*'Základní údaje'!$H$13*IF(L77=1,'Základní údaje'!$C$12,1)","v":0}]
[null,null,null,null,null,0,null,null,null,null,null,null,null,null,null,0,0,0,{"$f":"IF(G78=\"denně\",R78*H78*$C$82,IF(G78=\"týdně\",R78*H78*$C$83,IF(G78=\"měsíčně\",R78*H78*$C$84,IF(G78=\"čtvrtletně\",R78*H78*4*$C$85,IF(G78=\"ročně\",R78*H78*$C$85,H78*R78*$C$85)))))*'Základní údaje'!$H$13*IF(L78=1,'Základní údaje'!$C$12,1)","v":0}]
[null,null,null,null,null,{"$f":"C79*E79+D79*E79","v":0},null,null,null,null,null,null,null,null,null,{"$f":"IF(O79=0,N79*E79/60,O79*E79/60)","v":0},{"$f":"ROUND(IF(O79=0,N79/60*$C$2,O79/60*$C$2),0)","v":0},{"$f":"Q79*E79","v":0},{"$f":"IF(G79=\"denně\",R79*H79*$C$82,IF(G79=\"týdně\",R79*H79*$C$83,IF(G79=\"měsíčně\",R79*H79*$C$84,IF(G79=\"čtvrtletně\",R79*H79*4*$C$85,IF(G79=\"ročně\",R79*H79*$C$85,H79*R79*$C$85)))))*'Základní údaje'!$H$13*IF(L79=1,'Základní údaje'!$C$12,1)","v":0}]
["Plocha celkem",null,{"$f":"SUMPRODUCT(C4:C79,E4:E79)","v":3304.8700000000003},"[m²]"]
["Počet kusů celkem",null,{"$f":"SUMPRODUCT(D4:D26,E4:E26)","v":0},"[-]"]
["Počet pracovních dnů úklidu:",null,{"$f":"NETWORKDAYS($D$1,$E$1,$A$92:$A$158)","v":1009},null,null,null,null,null,null,null,null,null,{"$f":"NETWORKDAYS(K82,L82,K83)","v":0}]
["Počet týdnů úklidu:",null,{"$f":"C85*52","v":208}]
["Počet měsíců úklidu:",null,{"$f":"C85*12","v":48}]
["Počet let úklidu",null,{"$f":"YEAR(E1)-YEAR(D1)","v":4}]
["CENA CELKEM:",null,{"$f":"ROUND(SUM(S4:S79),0)","v":0},null,null,"[Kč]"]
[]
[]
[]
[]
["svátky:",null,"četnost úklidu","označení","období úklidu",null,null,"Kritéria"]
["2019-01-01",null,"denně",0,"1. Q",null,null,{"$f":"$G$3","v":"uklízí se"}]
["2019-04-19",null,"týdně",1,"2. Q",null,null,{"$f":"C92","v":"denně"}]
["2019-04-22",null,"měsíčně",null,"3. Q"]
["2019-05-01",null,"čtvrtletně",null,"4. Q",null,null,{"$f":"$G$3","v":"uklízí se"}]
["2019-05-08",null,"ročně",null,"leden",null,null,{"$f":"C93","v":"týdně"}]
["2019-07-05",null,"sezonně",null,"únor"]
["2019-10-28",null,null,null,"březen",null,null,{"$f":"$G$3","v":"uklízí se"}]
["2019-12-24",null,null,null,"duben",null,null,{"$f":"C94","v":"měsíčně"}]
["2019-12-25",null,null,null,"květen"]
["2019-12-26",null,null,null,"červen",null,null,{"$f":"$G$3","v":"uklízí se"}]
["2020-01-01",null,null,null,"červenec",null,null,{"$f":"C95","v":"čtvrtletně"}]
["2020-04-10",null,null,null,"srpen"]
["2020-04-13",null,null,null,"září",null,null,{"$f":"$G$3","v":"uklízí se"}]
["2020-05-01",null,null,null,"říjen",null,null,{"$f":"C96","v":"ročně"}]
["2020-05-08",null,null,null,"listopad"]
["2020-07-06",null,null,null,"prosinec"]
["2020-09-28"]
["2020-10-28"]
["2020-11-17"]
["2020-12-24"]
["2020-12-25"]
["2021-01-01"]
["2021-04-02"]
["2021-04-05"]
["2021-07-05"]
["2021-07-06"]
["2021-09-28"]
["2021-10-28"]
["2021-11-17"]
["2021-12-24"]
["2022-04-15"]
["2022-04-18"]
["2022-07-05"]
["2022-07-06"]
["2022-09-28"]
["2022-10-28"]
["2022-11-17"]
["2022-12-26"]
["2023-04-07"]
["2023-04-10"]
["2023-05-01"]
["2023-05-08"]
["2023-07-05"]
["2023-07-06"]
["2023-09-28"]
["2023-11-17"]
["2023-12-25"]
["2023-12-26"]
["2024-01-01"]
["2024-03-29"]
["2024-04-01"]
["2024-05-01"]
["2024-05-08"]
["2024-07-05"]
["2024-10-28"]
["2024-12-24"]
["2024-12-26"]
["2024-12-26"]
["2025-01-01"]
["2025-04-18"]
["2025-04-21"]
["2025-10-28"]
["2025-11-17"]
["2025-12-24"]
["2025-12-25"]
["2025-12-26"]

{"sheet":"Karty úklidu","index":2,"n_rows":96,"n_cols":8,"rows_kept":96,"cut":false,"hidden":false,"merged":[]}
["V komentáři jsou zkratky pro tisk"]
["Karta úklidu",null,null,"Centrum kolejí Jarov"]
["DENNÍ ÚKLID                       DNE:",{"$f":"NOW()","v":"2020-10-26T09:46:50.700"}]
[{"$f":"'Rozpis úklidu'!$A$3","v":"Úklidová jednotka"},{"$f":"'Rozpis úklidu'!$E$3","v":"počet\núklidových jednotek"},"Doba úklidu\n[hod.]",{"$f":"'Rozpis úklidu'!$M$3","v":"Popis činnosti"},{"$f":"'Rozpis úklidu'!$R$3","v":"cena celkem za všechny úklidové jednotky \n(prac. dny)\n[Kč]"},"Správně\nuklizené\njednotky","Smluvní pokuta\n[Kč]","Poznámka"]
[{"$f":"'Rozpis úklidu'!A4","v":"ZÁVĚTŘÍ - 1. NP"},{"$f":"'Rozpis úklidu'!E4","v":1},{"$f":"IF('Rozpis úklidu'!O4=0,'Rozpis úklidu'!N4*B5/60,'Rozpis úklidu'!O4*B5/60)","v":8.3333333333333329E-2},{"$f":"'Rozpis úklidu'!M4","v":"Zamést a odstranit odpadky a nečistoty."},{"$f":"'Rozpis úklidu'!Q4*F5","v":0},{"$f":"B5","v":1},{"$f":"IF(F5<B5,(B5-F5)*('Rozpis úklidu'!Q4)*2,0)","v":0}]
[{"$f":"'Rozpis úklidu'!A5","v":"ZÁDVEŘÍ - 1. NP"},{"$f":"'Rozpis úklidu'!E5","v":1},{"$f":"IF('Rozpis úklidu'!O5=0,'Rozpis úklidu'!N5*B6/60,'Rozpis úklidu'!O5*B6/60)","v":8.3333333333333329E-2},{"$f":"'Rozpis úklidu'!M5","v":"Typová činnost č.: 1"},{"$f":"'Rozpis úklidu'!Q5*F6","v":0},{"$f":"B6","v":1},{"$f":"IF(F6<B6,(B6-F6)*('Rozpis úklidu'!Q5)*2,0)","v":0}]
[{"$f":"'Rozpis úklidu'!A6","v":"VSTUPNÍ HALA - 1. NP"},{"$f":"'Rozpis úklidu'!E6","v":1},{"$f":"IF('Rozpis úklidu'!O6=0,'Rozpis úklidu'!N6*B7/60,'Rozpis úklidu'!O6*B7/60)","v":0.74},{"$f":"'Rozpis úklidu'!M6","v":"Typová činnost č.: 1"},{"$f":"'Rozpis úklidu'!Q6*F7","v":0},1,{"$f":"IF(F7<B7,(B7-F7)*('Rozpis úklidu'!Q6)*2,0)","v":0}]
[{"$f":"'Rozpis úklidu'!A7","v":"WC - 1. NP"},{"$f":"'Rozpis úklidu'!E7","v":1},{"$f":"IF('Rozpis úklidu'!O7=0,'Rozpis úklidu'!N7*B8/60,'Rozpis úklidu'!O7*B8/60)","v":0.13333333333333333},{"$f":"'Rozpis úklidu'!M7","v":"Typová činnost č.: 14"},{"$f":"'Rozpis úklidu'!Q7*F8","v":0},1,{"$f":"IF(F8<B8,(B8-F8)*('Rozpis úklidu'!Q7)*2,0)","v":0}]
[{"$f":"'Rozpis úklidu'!A8","v":"SCHODIŠTĚ - XPORT - 1. NP"},{"$f":"'Rozpis úklidu'!E8","v":1},{"$f":"IF('Rozpis úklidu'!O8=0,'Rozpis úklidu'!N8*B9/60,'Rozpis úklidu'!O8*B9/60)","v":0.10224999999999999},{"$f":"'Rozpis úklidu'!M8","v":"Typová činnost č.: 1"},{"$f":"'Rozpis úklidu'!Q8*F9","v":0},1,{"$f":"IF(F9<B9,(B9-F9)*('Rozpis úklidu'!Q8)*2,0)","v":0}]
[{"$f":"'Rozpis úklidu'!A9","v":"SCHODIŠTĚ VENKOVNÍ - 1. NP"},{"$f":"'Rozpis úklidu'!E9","v":1},{"$f":"IF('Rozpis úklidu'!O9=0,'Rozpis úklidu'!N9*B10/60,'Rozpis úklidu'!O9*B10/60)","v":7.2874999999999995E-2},{"$f":"'Rozpis úklidu'!M9","v":"Typová činnost č.: 1"},{"$f":"'Rozpis úklidu'!Q9*F10","v":0},1,{"$f":"IF(F10<B10,(B10-F10)*('Rozpis úklidu'!Q9)*2,0)","v":0}]
[{"$f":"'Rozpis úklidu'!A10","v":"KANCELÁŘE - 1. NP"},{"$f":"'Rozpis úklidu'!E10","v":14},{"$f":"IF('Rozpis úklidu'!O10=0,'Rozpis úklidu'!N10*B11/60,'Rozpis úklidu'!O10*B11/60)","v":1.3625833333333333},{"$f":"'Rozpis úklidu'!M10","v":"Typová činnost č.: 3\nPodlahová krytina: koberec"},{"$f":"'Rozpis úklidu'!Q10*F11","v":0},14,{"$f":"IF(F11<B11,(B11-F11)*('Rozpis úklidu'!Q10)*2,0)","v":0}]
[{"$f":"'Rozpis úklidu'!A34","v":"Kontrola a doplnění papírových ručníků a toaletního papíru na toalety"},{"$f":"'Rozpis úklidu'!E34","v":5},{"$f":"IF('Rozpis úklidu'!O34=0,'Rozpis úklidu'!N34*B12/60,'Rozpis úklidu'!O34*B12/60)","v":0.25},{"$f":"'Rozpis úklidu'!M34","v":"kontrola a doplnění toaletního papíru a papírových ručníků do zásobníků na toaletách (materiál nakupuje zadavatel)"},{"$f":"'Rozpis úklidu'!Q34*F12","v":0},{"$f":"B12","v":5},{"$f":"IF(F12<B12,(B12-F12)*('Rozpis úklidu'!Q34)*2,0)","v":0}]
[{"$f":"'Rozpis úklidu'!A12","v":"vstupní hala xPORT + recepce"},{"$f":"'Rozpis úklidu'!E12","v":1},{"$f":"IF('Rozpis úklidu'!O12=0,'Rozpis úklidu'!N12*B13/60,'Rozpis úklidu'!O12*B13/60)","v":0.30562499999999998},{"$f":"'Rozpis úklidu'!M12","v":"Typová činnost č.: 1\nPodlahová krytina: lino"},{"$f":"'Rozpis úklidu'!Q12*F13","v":0},{"$f":"B13","v":1},{"$f":"IF(F13<B13,(B13-F13)*('Rozpis úklidu'!Q12)*2,0)","v":0}]
[{"$f":"CONCATENATE('Rozpis úklidu'!A51,\" (\",'Rozpis úklidu'!G51,\")\")","v":"ŠATNA - 1.PP (sezonně)"},{"$f":"'Rozpis úklidu'!E51","v":1},{"$f":"IF('Rozpis úklidu'!O51=0,'Rozpis úklidu'!N51*B14/60,'Rozpis úklidu'!O51*B14/60)","v":8.8499999999999995E-2},{"$f":"'Rozpis úklidu'!M51","v":"Typová činnost č.: 3\nPodlahová krytina: dlažba"},{"$f":"'Rozpis úklidu'!Q51*F14","v":0},1,{"$f":"IF(F14<B14,(B14-F14)*('Rozpis úklidu'!Q51)*2,0)","v":0}]
[{"$f":"CONCATENATE('Rozpis úklidu'!A52,\" (\",'Rozpis úklidu'!G52,\")\")","v":"WC - 1.PP (sezonně)"},{"$f":"'Rozpis úklidu'!E52","v":1},{"$f":"IF('Rozpis úklidu'!O52=0,'Rozpis úklidu'!N52*B15/60,'Rozpis úklidu'!O52*B15/60)","v":0.125},{"$f":"'Rozpis úklidu'!M52","v":"Typová činnost č.: 14\nPodlahová krytina: dlažba"},{"$f":"'Rozpis úklidu'!Q52*F15","v":0},1,{"$f":"IF(F15<B15,(B15-F15)*('Rozpis úklidu'!Q52)*2,0)","v":0}]
[{"$f":"CONCATENATE('Rozpis úklidu'!A53,\" (\",'Rozpis úklidu'!G53,\")\")","v":"ŠATNA PROFESOŘI - 1.PP (sezonně)"},{"$f":"'Rozpis úklidu'!E53","v":1},{"$f":"IF('Rozpis úklidu'!O53=0,'Rozpis úklidu'!N53*B16/60,'Rozpis úklidu'!O53*B16/60)","v":1.8888888888888889E-2},{"$f":"'Rozpis úklidu'!M53","v":"Typová činnost č.: 3\nPodlahová krytina: dlažba"},{"$f":"'Rozpis úklidu'!Q53*F16","v":0},1,{"$f":"IF(F16<B16,(B16-F16)*('Rozpis úklidu'!Q53)*2,0)","v":0}]
[{"$f":"CONCATENATE('Rozpis úklidu'!A54,\" (\",'Rozpis úklidu'!G54,\")\")","v":"SOC- PROFESOŘI - 1.PP (sezonně)"},{"$f":"'Rozpis úklidu'!E54","v":1},{"$f":"IF('Rozpis úklidu'!O54=0,'Rozpis úklidu'!N54*B17/60,'Rozpis úklidu'!O54*B17/60)","v":0.14666666666666667},{"$f":"'Rozpis úklidu'!M54","v":"Typová činnost č.: 14 + 15\nPodlahová krytina: dlažba"},{"$f":"'Rozpis úklidu'!Q54*F17","v":0},1,{"$f":"IF(F17<B17,(B17-F17)*('Rozpis úklidu'!Q54)*2,0)","v":0}]
["Úklidová pohotovost + Operativní úklidové práce dle požadavku vedoucí koleje",{"$f":"'Základní údaje'!B11","v":0},null,null,{"$f":"B18/60*F18","v":0},null,0]
[null,"Celkem hodin",{"$f":"SUM(C5:C17)","v":3.5123888888888883},"K FAKTURACI CELKEM za CKJ:",{"$f":"SUM(E5:E18)","v":0},null,{"$f":"SUM(G5:G18)","v":0}]
["Podpis vedoucí směny:",null,null,"Podpis zástupce vedení CKJ:"]
[]
["Karta úklidu",null,null,"xPORT"]
["DENNÍ ÚKLID                       DNE:",{"$f":"NOW()","v":"2020-10-26T09:46:50.700"}]
[{"$f":"'Rozpis úklidu'!$A$3","v":"Úklidová jednotka"},{"$f":"'Rozpis úklidu'!$E$3","v":"počet\núklidových jednotek"},"Doba úklidu\n[hod.]",{"$f":"'Rozpis úklidu'!$M$3","v":"Popis činnosti"},{"$f":"'Rozpis úklidu'!$R$3","v":"cena celkem za všechny úklidové jednotky \n(prac. dny)\n[Kč]"},"Správně\nuklizené\njednotky","Smluvní pokuta\n[Kč]","Poznámka"]
[{"$f":"'Rozpis úklidu'!A12","v":"vstupní hala xPORT + recepce"},{"$f":"'Rozpis úklidu'!E12","v":1},{"$f":"IF('Rozpis úklidu'!O12=0,'Rozpis úklidu'!N12*B25/60,'Rozpis úklidu'!O12*B25/60)","v":0.30562499999999998},{"$f":"'Rozpis úklidu'!M12","v":"Typová činnost č.: 1\nPodlahová krytina: lino"},{"$f":"'Rozpis úklidu'!Q12*F25","v":0},{"$f":"B25","v":1},{"$f":"IF(F25<B25,(B25-F25)*('Rozpis úklidu'!Q12)*2,0)","v":0}]
[{"$f":"'Rozpis úklidu'!A13","v":"Kuchyňka - 2. NP xPORT"},{"$f":"'Rozpis úklidu'!E13","v":1},{"$f":"IF('Rozpis úklidu'!O13=0,'Rozpis úklidu'!N13*B26/60,'Rozpis úklidu'!O13*B26/60)","v":0.59624999999999995},{"$f":"'Rozpis úklidu'!M13","v":"Typová činnost č.: 5\nPodlahová krytina: lino"},{"$f":"'Rozpis úklidu'!Q13*F26","v":0},{"$f":"B26","v":1},{"$f":"IF(F26<B26,(B26-F26)*('Rozpis úklidu'!Q13)*2,0)","v":0}]
[{"$f":"'Rozpis úklidu'!A14","v":"WC - 2. NP xPORT"},{"$f":"'Rozpis úklidu'!E14","v":1},{"$f":"IF('Rozpis úklidu'!O14=0,'Rozpis úklidu'!N14*B27/60,'Rozpis úklidu'!O14*B27/60)","v":0.125},{"$f":"'Rozpis úklidu'!M14","v":"Typová činnost č.: 14\nPodlahová krytina: dlažba"},{"$f":"'Rozpis úklidu'!Q14*F27","v":0},1,{"$f":"IF(F27<B27,(B27-F27)*('Rozpis úklidu'!Q14)*2,0)","v":0}]
[{"$f":"'Rozpis úklidu'!A15","v":"Director - 2. NP xPORT"},{"$f":"'Rozpis úklidu'!E15","v":1},{"$f":"IF('Rozpis úklidu'!O15=0,'Rozpis úklidu'!N15*B28/60,'Rozpis úklidu'!O15*B28/60)","v":6.0458333333333329E-2},{"$f":"'Rozpis úklidu'!M15","v":"Typová činnost č.: 3\nPodlahová krytina: koberec"},{"$f":"'Rozpis úklidu'!Q15*F28","v":0},1,{"$f":"IF(F28<B28,(B28-F28)*('Rozpis úklidu'!Q15)*2,0)","v":0}]
[{"$f":"'Rozpis úklidu'!A16","v":"Chill Out - 2. NP xPORT"},{"$f":"'Rozpis úklidu'!E16","v":1},{"$f":"IF('Rozpis úklidu'!O16=0,'Rozpis úklidu'!N16*B29/60,'Rozpis úklidu'!O16*B29/60)","v":0.23775000000000004},{"$f":"'Rozpis úklidu'!M16","v":"Typová činnost č.: 3\nPodlahová krytina: lino+koberec"},{"$f":"'Rozpis úklidu'!Q16*F29","v":0},1,{"$f":"IF(F29<B29,(B29-F29)*('Rozpis úklidu'!Q16)*2,0)","v":0}]
[{"$f":"'Rozpis úklidu'!A17","v":"Kuchyňka - 3. NP xPORT"},{"$f":"'Rozpis úklidu'!E17","v":1},{"$f":"IF('Rozpis úklidu'!O17=0,'Rozpis úklidu'!N17*B30/60,'Rozpis úklidu'!O17*B30/60)","v":4.7500000000000001E-2},{"$f":"'Rozpis úklidu'!M17","v":"Typová činnost č.: 5\nPodlahová krytina: lino"},{"$f":"'Rozpis úklidu'!Q17*F30","v":0},1,{"$f":"IF(F30<B30,(B30-F30)*('Rozpis úklidu'!Q17)*2,0)","v":0}]
[{"$f":"'Rozpis úklidu'!A18","v":"Kanceláře - 3. NP xPORT"},{"$f":"'Rozpis úklidu'!E18","v":7},{"$f":"IF('Rozpis úklidu'!O18=0,'Rozpis úklidu'!N18*B31/60,'Rozpis úklidu'!O18*B31/60)","v":1.2194583333333335},{"$f":"'Rozpis úklidu'!M18","v":"Typová činnost č.: 3\nPodlahová krytina: koberec"},{"$f":"'Rozpis úklidu'!Q18*F31","v":0},7,{"$f":"IF(F31<B31,(B31-F31)*('Rozpis úklidu'!Q18)*2,0)","v":0}]
[{"$f":"'Rozpis úklidu'!A19","v":"WC - 3. NP xPORT"},{"$f":"'Rozpis úklidu'!E19","v":1},{"$f":"IF('Rozpis úklidu'!O19=0,'Rozpis úklidu'!N19*B32/60,'Rozpis úklidu'!O19*B32/60)","v":0.125},{"$f":"'Rozpis úklidu'!M19","v":"Typová činnost č.: 14\nPodlahová krytina: dlažba"},{"$f":"'Rozpis úklidu'!Q19*F32","v":0},1,{"$f":"IF(F32<B32,(B32-F32)*('Rozpis úklidu'!Q19)*2,0)","v":0}]
[{"$f":"'Rozpis úklidu'!A20","v":"Bay Bridge - 2. NP xPORT"},{"$f":"'Rozpis úklidu'!E20","v":1},{"$f":"IF('Rozpis úklidu'!O20=0,'Rozpis úklidu'!N20*B33/60,'Rozpis úklidu'!O20*B33/60)","v":0.2545},{"$f":"'Rozpis úklidu'!M20","v":"Typová činnost č.: 3\nPodlahová krytina: koberec"},{"$f":"'Rozpis úklidu'!Q20*F33","v":0},{"$f":"B33","v":1},{"$f":"IF(F33<B33,(B33-F33)*('Rozpis úklidu'!Q20)*2,0)","v":0}]
[{"$f":"'Rozpis úklidu'!A21","v":"San Francisco - 2. NP xPORT"},{"$f":"'Rozpis úklidu'!E21","v":1},{"$f":"IF('Rozpis úklidu'!O21=0,'Rozpis úklidu'!N21*B34/60,'Rozpis úklidu'!O21*B34/60)","v":0.34955555555555562},{"$f":"'Rozpis úklidu'!M21","v":"Typová činnost č.: 3\nPodlahová krytina: koberec"},{"$f":"'Rozpis úklidu'!Q21*F34","v":0},{"$f":"B34","v":1},{"$f":"IF(F34<B34,(B34-F34)*('Rozpis úklidu'!Q21)*2,0)","v":0}]
[{"$f":"'Rozpis úklidu'!A22","v":"Recepce - 2. NP xPORT"},{"$f":"'Rozpis úklidu'!E22","v":1},{"$f":"IF('Rozpis úklidu'!O22=0,'Rozpis úklidu'!N22*B35/60,'Rozpis úklidu'!O22*B35/60)","v":0.67327777777777775},{"$f":"'Rozpis úklidu'!M22","v":"Typová činnost č.: 1\nPodlahová krytina: lino"},{"$f":"'Rozpis úklidu'!Q22*F35","v":0},1,{"$f":"IF(F35<B35,(B35-F35)*('Rozpis úklidu'!Q22)*2,0)","v":0}]
[{"$f":"'Rozpis úklidu'!A23","v":"Open Space - 2. NP xPORT"},{"$f":"'Rozpis úklidu'!E23","v":1},{"$f":"IF('Rozpis úklidu'!O23=0,'Rozpis úklidu'!N23*B36/60,'Rozpis úklidu'!O23*B36/60)","v":1.7424444444444442},{"$f":"'Rozpis úklidu'!M23","v":"Typová činnost č.: 3\nPodlahová krytina: koberec"},{"$f":"'Rozpis úklidu'!Q23*F36","v":0},1,{"$f":"IF(F36<B36,(B36-F36)*('Rozpis úklidu'!Q23)*2,0)","v":0}]
[{"$f":"'Rozpis úklidu'!A24","v":"Lobby - 2. NP xPORT"},{"$f":"'Rozpis úklidu'!E24","v":1},{"$f":"IF('Rozpis úklidu'!O24=0,'Rozpis úklidu'!N24*B37/60,'Rozpis úklidu'!O24*B37/60)","v":0.14699999999999999},{"$f":"'Rozpis úklidu'!M24","v":"Typová činnost č.: 3\nPodlahová krytina: lino"},{"$f":"'Rozpis úklidu'!Q24*F37","v":0},1,{"$f":"IF(F37<B37,(B37-F37)*('Rozpis úklidu'!Q24)*2,0)","v":0}]
[{"$f":"'Rozpis úklidu'!A25","v":"Chodba - 2. NP xPORT"},{"$f":"'Rozpis úklidu'!E25","v":1},{"$f":"IF('Rozpis úklidu'!O25=0,'Rozpis úklidu'!N25*B38/60,'Rozpis úklidu'!O25*B38/60)","v":9.1555555555555571E-2},{"$f":"'Rozpis úklidu'!M25","v":"Typová činnost č.: 1\nPodlahová krytina: koberec"},{"$f":"'Rozpis úklidu'!Q25*F38","v":0},1,{"$f":"IF(F38<B38,(B38-F38)*('Rozpis úklidu'!Q25)*2,0)","v":0}]
[{"$f":"'Rozpis úklidu'!A26","v":"World Trade Centre - 2. NP xPORT"},{"$f":"'Rozpis úklidu'!E26","v":1},{"$f":"IF('Rozpis úklidu'!O26=0,'Rozpis úklidu'!N26*B39/60,'Rozpis úklidu'!O26*B39/60)","v":0.24238888888888888},{"$f":"'Rozpis úklidu'!M26","v":"Typová činnost č.: 3\nPodlahová krytina: koberec"},{"$f":"'Rozpis úklidu'!Q26*F39","v":0},1,{"$f":"IF(F39<B39,(B39-F39)*('Rozpis úklidu'!Q26)*2,0)","v":0}]
[{"$f":"'Rozpis úklidu'!A27","v":"Malé zas. místnosti - 2. NP xPORT"},{"$f":"'Rozpis úklidu'!E27","v":1},{"$f":"IF('Rozpis úklidu'!O27=0,'Rozpis úklidu'!N27*B40/60,'Rozpis úklidu'!O27*B40/60)","v":0.27766666666666667},{"$f":"'Rozpis úklidu'!M27","v":"Typová činnost č.: 3\nPodlahová krytina: koberec"},{"$f":"'Rozpis úklidu'!Q27*F40","v":0},1,{"$f":"IF(F40<B40,(B40-F40)*('Rozpis úklidu'!Q27)*2,0)","v":0}]
[{"$f":"'Rozpis úklidu'!A28","v":"Area 51 - 2. NP xPORT"},{"$f":"'Rozpis úklidu'!E28","v":1},{"$f":"IF('Rozpis úklidu'!O28=0,'Rozpis úklidu'!N28*B41/60,'Rozpis úklidu'!O28*B41/60)","v":0.14049999999999999},{"$f":"'Rozpis úklidu'!M28","v":"Typová činnost č.: 3\nPodlahová krytina: koberec"},{"$f":"'Rozpis úklidu'!Q28*F41","v":0},1,{"$f":"IF(F41<B41,(B41-F41)*('Rozpis úklidu'!Q28)*2,0)","v":0}]
[{"$f":"'Rozpis úklidu'!A29","v":"Call rooms - 2. NP xPORT"},{"$f":"'Rozpis úklidu'!E29","v":1},{"$f":"IF('Rozpis úklidu'!O29=0,'Rozpis úklidu'!N29*B42/60,'Rozpis úklidu'!O29*B42/60)","v":7.0444444444444448E-2},{"$f":"'Rozpis úklidu'!M29","v":"Typová činnost č.: 3\nPodlahová krytina: koberec"},{"$f":"'Rozpis úklidu'!Q29*F42","v":0},1,{"$f":"IF(F42<B42,(B42-F42)*('Rozpis úklidu'!Q29)*2,0)","v":0}]
[{"$f":"'Rozpis úklidu'!A30","v":"Manhattan - 2. NP xPORT"},{"$f":"'Rozpis úklidu'!E30","v":1},{"$f":"IF('Rozpis úklidu'!O30=0,'Rozpis úklidu'!N30*B43/60,'Rozpis úklidu'!O30*B43/60)","v":0.15183333333333329},{"$f":"'Rozpis úklidu'!M30","v":"Typová činnost č.: 3\nPodlahová krytina: koberec"},{"$f":"'Rozpis úklidu'!Q30*F43","v":0},1,{"$f":"IF(F43<B43,(B43-F43)*('Rozpis úklidu'!Q30)*2,0)","v":0}]
[{"$f":"'Rozpis úklidu'!A31","v":"Chodba - 3. NP xPORT"},{"$f":"'Rozpis úklidu'!E31","v":1},{"$f":"IF('Rozpis úklidu'!O31=0,'Rozpis úklidu'!N31*B44/60,'Rozpis úklidu'!O31*B44/60)","v":3.2361111111111111E-2},{"$f":"'Rozpis úklidu'!M31","v":"Typová činnost č.: 1\nPodlahová krytina: koberec"},{"$f":"'Rozpis úklidu'!Q31*F44","v":0},1,{"$f":"IF(F44<B44,(B44-F44)*('Rozpis úklidu'!Q31)*2,0)","v":0}]
[{"$f":"'Rozpis úklidu'!A32","v":"Open Space - 3. NP xPORT"},{"$f":"'Rozpis úklidu'!E32","v":1},{"$f":"IF('Rozpis úklidu'!O32=0,'Rozpis úklidu'!N32*B45/60,'Rozpis úklidu'!O32*B45/60)","v":0.66627777777777786},{"$f":"'Rozpis úklidu'!M32","v":"Typová činnost č.: 3\nPodlahová krytina: koberec"},{"$f":"'Rozpis úklidu'!Q32*F45","v":0},1,{"$f":"IF(F45<B45,(B45-F45)*('Rozpis úklidu'!Q32)*2,0)","v":0}]
[{"$f":"'Rozpis úklidu'!A33","v":"Schodiště - 3. NP xPORT"},{"$f":"'Rozpis úklidu'!E33","v":1},{"$f":"IF('Rozpis úklidu'!O33=0,'Rozpis úklidu'!N33*B46/60,'Rozpis úklidu'!O33*B46/60)","v":4.5124999999999998E-2},{"$f":"'Rozpis úklidu'!M33","v":"Typová činnost č.: 1\nPodlahová krytina: koberec"},{"$f":"'Rozpis úklidu'!Q33*F46","v":0},1,{"$f":"IF(F46<B46,(B46-F46)*('Rozpis úklidu'!Q33)*2,0)","v":0}]
["Úklidová pohotovost + Operativní úklidové práce dle požadavku vedoucí koleje",{"$f":"'Základní údaje'!B30","v":0},null,null,{"$f":"B47/60*F47","v":0},null,0]
[null,"Celkem hodin",{"$f":"SUM(C25:C46)","v":7.6019722222222228},"K FAKTURACI CELKEM za xPORT:",{"$f":"SUM(E25:E47)","v":0},null,{"$f":"SUM(G25:G47)","v":0}]
["Podpis vedoucí směny:",null,null,"Podpis zástupce vedení xPORT:"]
[]
["Karta úklidu",null,null,{"$f":"$D$2","v":"Centrum kolejí Jarov"}]
["TÝDENNÍ ÚKLID                 TÝDEN:",{"$f":"WEEKNUM(TODAY(),1)","v":44},null,{"$f":"(NOW())","v":"2020-10-26T09:46:50.700"}]
[{"$f":"'Rozpis úklidu'!$A$3","v":"Úklidová jednotka"},{"$f":"'Rozpis úklidu'!$E$3","v":"počet\núklidových jednotek"},"Doba úklidu\n[hod.]",{"$f":"'Rozpis úklidu'!$M$3","v":"Popis činnosti"},{"$f":"'Rozpis úklidu'!$R$3","v":"cena celkem za všechny úklidové jednotky \n(prac. dny)\n[Kč]"},"Správně\nuklizené\njednotky","Smluvní pokuta\n[Kč]","Poznámka"]
[{"$f":"'Rozpis úklidu'!A35","v":"VSTUPNÍ HALA - 1.PP"},{"$f":"'Rozpis úklidu'!E35/('Rozpis úklidu'!J35-'Rozpis úklidu'!I35+1)*'Rozpis úklidu'!H35","v":2},{"$f":"IF('Rozpis úklidu'!O35=0,'Rozpis úklidu'!N35*B54/60,'Rozpis úklidu'!O35*B54/60)","v":0.26777777777777778},{"$f":"'Rozpis úklidu'!M35","v":"Typová činnost č.: 1\nPodlahová krytina: dlažba"},{"$f":"'Rozpis úklidu'!Q35*F54","v":0},{"$f":"B54","v":2},{"$f":"IF(F54<B54,(B54-F54)*('Rozpis úklidu'!Q35)*2,0)","v":0}]
[{"$f":"'Rozpis úklidu'!A36","v":"SCHODIŠTĚ- K TĚLOCV. - 1.PP"},{"$f":"'Rozpis úklidu'!E36/('Rozpis úklidu'!J36-'Rozpis úklidu'!I36+1)*'Rozpis úklidu'!H36","v":2},{"$f":"IF('Rozpis úklidu'!O36=0,'Rozpis úklidu'!N36*B55/60,'Rozpis úklidu'!O36*B55/60)","v":9.0000000000000011E-2},{"$f":"'Rozpis úklidu'!M36","v":"Typová činnost č.: 1"},{"$f":"'Rozpis úklidu'!Q36*F55","v":0},{"$f":"B55","v":2},{"$f":"IF(F55<B55,(B55-F55)*('Rozpis úklidu'!Q36)*2,0)","v":0}]
[{"$f":"'Rozpis úklidu'!A37","v":"CHODBA - 1.PP"},{"$f":"'Rozpis úklidu'!E37/('Rozpis úklidu'!J37-'Rozpis úklidu'!I37+1)*'Rozpis úklidu'!H37","v":2},{"$f":"IF('Rozpis úklidu'!O37=0,'Rozpis úklidu'!N37*B56/60,'Rozpis úklidu'!O37*B56/60)","v":7.1277777777777787E-2},{"$f":"'Rozpis úklidu'!M37","v":"Typová činnost č.: 1\nPodlahová krytina: dlažba"},{"$f":"'Rozpis úklidu'!Q37*F56","v":0},2,{"$f":"IF(F56<B56,(B56-F56)*('Rozpis úklidu'!Q37)*2,0)","v":0}]
[{"$f":"'Rozpis úklidu'!A38","v":"HALA 1 - 1. NP"},{"$f":"'Rozpis úklidu'!E38/('Rozpis úklidu'!J38-'Rozpis úklidu'!I38+1)*'Rozpis úklidu'!H38","v":2},{"$f":"IF('Rozpis úklidu'!O38=0,'Rozpis úklidu'!N38*B57/60,'Rozpis úklidu'!O38*B57/60)","v":1.3029166666666667},{"$f":"'Rozpis úklidu'!M38","v":"Typová činnost č.: 1\nPodlahová krytina: koberce"},{"$f":"'Rozpis úklidu'!Q38*F57","v":0},2,{"$f":"IF(F57<B57,(B57-F57)*('Rozpis úklidu'!Q38)*2,0)","v":0}]
[{"$f":"'Rozpis úklidu'!A39","v":"HALA 2 - 1. NP"},{"$f":"'Rozpis úklidu'!E39/('Rozpis úklidu'!J39-'Rozpis úklidu'!I39+1)*'Rozpis úklidu'!H39","v":2},{"$f":"IF('Rozpis úklidu'!O39=0,'Rozpis úklidu'!N39*B58/60,'Rozpis úklidu'!O39*B58/60)","v":0.55013888888888884},{"$f":"'Rozpis úklidu'!M39","v":"Typová činnost č.: 1\nPodlahová krytina: dlažba"},{"$f":"'Rozpis úklidu'!Q39*F58","v":0},2,{"$f":"IF(F58<B58,(B58-F58)*('Rozpis úklidu'!Q39)*2,0)","v":0}]
[{"$f":"'Rozpis úklidu'!A40","v":"VÝTAH - 1. NP"},{"$f":"'Rozpis úklidu'!E40/('Rozpis úklidu'!J40-'Rozpis úklidu'!I40+1)*'Rozpis úklidu'!H40","v":2},{"$f":"IF('Rozpis úklidu'!O40=0,'Rozpis úklidu'!N40*B59/60,'Rozpis úklidu'!O40*B59/60)","v":0.16666666666666666},{"$f":"'Rozpis úklidu'!M40","v":"Typová činnost č.: 11"},{"$f":"'Rozpis úklidu'!Q40*F59","v":0},2,{"$f":"IF(F59<B59,(B59-F59)*('Rozpis úklidu'!Q40)*2,0)","v":0}]
[{"$f":"'Rozpis úklidu'!A41","v":"SCHODIŠTĚ- K TĚLOCV. - 1. NP"},{"$f":"'Rozpis úklidu'!E41/('Rozpis úklidu'!J41-'Rozpis úklidu'!I41+1)*'Rozpis úklidu'!H41","v":2},{"$f":"IF('Rozpis úklidu'!O41=0,'Rozpis úklidu'!N41*B60/60,'Rozpis úklidu'!O41*B60/60)","v":8.2666666666666666E-2},{"$f":"'Rozpis úklidu'!M41","v":"Typová činnost č.: 1"},{"$f":"'Rozpis úklidu'!Q41*F60","v":0},2,{"$f":"IF(F60<B60,(B60-F60)*('Rozpis úklidu'!Q41)*2,0)","v":0}]
[{"$f":"'Rozpis úklidu'!A42","v":"ZASEDACÍ MÍSTNOST - 1. NP"},{"$f":"'Rozpis úklidu'!E42/('Rozpis úklidu'!J42-'Rozpis úklidu'!I42+1)*'Rozpis úklidu'!H42","v":2},{"$f":"IF('Rozpis úklidu'!O42=0,'Rozpis úklidu'!N42*B61/60,'Rozpis úklidu'!O42*B61/60)","v":0.40133333333333332},{"$f":"'Rozpis úklidu'!M42","v":"Typová činnost č.: 3"},{"$f":"'Rozpis úklidu'!Q42*F61","v":0},2,{"$f":"IF(F61<B61,(B61-F61)*('Rozpis úklidu'!Q42)*2,0)","v":0}]
[{"$f":"'Rozpis úklidu'!A43","v":"HALA - OSOBNÍ VÝTAH - 1. NP"},{"$f":"'Rozpis úklidu'!E43/('Rozpis úklidu'!J43-'Rozpis úklidu'!I43+1)*'Rozpis úklidu'!H43","v":2},{"$f":"IF('Rozpis úklidu'!O43=0,'Rozpis úklidu'!N43*B62/60,'Rozpis úklidu'!O43*B62/60)","v":0.13750000000000001},{"$f":"'Rozpis úklidu'!M43","v":"Typová činnost č.: 1 a 11"},{"$f":"'Rozpis úklidu'!Q43*F62","v":0},2,{"$f":"IF(F62<B62,(B62-F62)*('Rozpis úklidu'!Q43)*2,0)","v":0}]
[{"$f":"'Rozpis úklidu'!A44","v":"SCHODIŠŤOVÝ PROSTOR - 3.NP"},{"$f":"'Rozpis úklidu'!E44/('Rozpis úklidu'!J44-'Rozpis úklidu'!I44+1)*'Rozpis úklidu'!H44","v":1},{"$f":"IF('Rozpis úklidu'!O44=0,'Rozpis úklidu'!N44*B63/60,'Rozpis úklidu'!O44*B63/60)","v":0.14824999999999999},{"$f":"'Rozpis úklidu'!M44","v":"Typová činnost č.: 1\nPodlahová krytina: dlažba"},{"$f":"'Rozpis úklidu'!Q44*F63","v":0},1,{"$f":"IF(F63<B63,(B63-F63)*('Rozpis úklidu'!Q44)*2,0)","v":0}]
[{"$f":"'Rozpis úklidu'!A45","v":"SPOLEČNÁ CHODBA - 3.NP"},{"$f":"'Rozpis úklidu'!E45/('Rozpis úklidu'!J45-'Rozpis úklidu'!I45+1)*'Rozpis úklidu'!H45","v":1},{"$f":"IF('Rozpis úklidu'!O45=0,'Rozpis úklidu'!N45*B64/60,'Rozpis úklidu'!O45*B64/60)","v":4.9388888888888892E-2},{"$f":"'Rozpis úklidu'!M45","v":"Typová činnost č.: 1\nPodlahová krytina: dlažba"},{"$f":"'Rozpis úklidu'!Q45*F64","v":0},1,{"$f":"IF(F64<B64,(B64-F64)*('Rozpis úklidu'!Q45)*2,0)","v":0}]
[{"$f":"CONCATENATE('Rozpis úklidu'!A59,\" (\",'Rozpis úklidu'!G59,\")\")","v":"CVIČEBNÍ SÁL A - 1.PP (sezonně)"},{"$f":"CEILING('Rozpis úklidu'!E59/('Rozpis úklidu'!J59-'Rozpis úklidu'!I59+1)*'Rozpis úklidu'!H59,1)","v":1},{"$f":"IF('Rozpis úklidu'!O59=0,'Rozpis úklidu'!N59*B65/60,'Rozpis úklidu'!O59*B65/60)","v":0.29699999999999999},{"$f":"'Rozpis úklidu'!M59","v":"Typová činnost č.: 3"},{"$f":"'Rozpis úklidu'!Q59*F65","v":0},1,{"$f":"IF(F65<B65,(B65-F65)*('Rozpis úklidu'!Q59)*2,0)","v":0}]
[{"$f":"CONCATENATE('Rozpis úklidu'!A60,\" (\",'Rozpis úklidu'!G60,\")\")","v":"CVIČEBNÍ SÁL B - 1.PP (sezonně)"},{"$f":"CEILING('Rozpis úklidu'!E60/('Rozpis úklidu'!J60-'Rozpis úklidu'!I60+1)*'Rozpis úklidu'!H60,1)","v":1},{"$f":"IF('Rozpis úklidu'!O60=0,'Rozpis úklidu'!N60*B66/60,'Rozpis úklidu'!O60*B66/60)","v":0.80555555555555558},{"$f":"'Rozpis úklidu'!M60","v":"Typová činnost č.: 3"},{"$f":"'Rozpis úklidu'!Q60*F66","v":0},1,{"$f":"IF(F66<B66,(B66-F66)*('Rozpis úklidu'!Q60)*2,0)","v":0}]
[{"$f":"CONCATENATE('Rozpis úklidu'!A61,\" (\",'Rozpis úklidu'!G61,\")\")","v":"CHODBA - U TĚLOCVIČNY - 1.PP (sezonně)"},{"$f":"CEILING('Rozpis úklidu'!E61/('Rozpis úklidu'!J61-'Rozpis úklidu'!I61+1)*'Rozpis úklidu'!H61,1)","v":2},{"$f":"IF('Rozpis úklidu'!O61=0,'Rozpis úklidu'!N61*B67/60,'Rozpis úklidu'!O61*B67/60)","v":0.18233333333333332},{"$f":"'Rozpis úklidu'!M61","v":"Typová činnost č.: 1\nPodlahová krytina: dlažba"},{"$f":"'Rozpis úklidu'!Q61*F67","v":0},2,{"$f":"IF(F67<B67,(B67-F67)*('Rozpis úklidu'!Q61)*2,0)","v":0}]
[{"$f":"CONCATENATE('Rozpis úklidu'!A65,\" (\",'Rozpis úklidu'!G65,\")\")","v":"ŠATNY - sport. areál (sezonně)"},{"$f":"CEILING('Rozpis úklidu'!E65/('Rozpis úklidu'!J65-'Rozpis úklidu'!I65+1)*'Rozpis úklidu'!H65,1)","v":3},{"$f":"IF('Rozpis úklidu'!O65=0,'Rozpis úklidu'!N65*B68/60,'Rozpis úklidu'!O62*B68/60)","v":0.85033333333333339},{"$f":"'Rozpis úklidu'!M65","v":"Typová činnost č.: 3\nPodlahová krytina: dlažba"},{"$f":"'Rozpis úklidu'!Q65*F68","v":0},3,{"$f":"IF(F68<B68,(B68-F68)*('Rozpis úklidu'!Q65)*2,0)","v":0}]
[{"$f":"CONCATENATE('Rozpis úklidu'!A66,\" (\",'Rozpis úklidu'!G66,\")\")","v":"CHODBA - sport. areál (sezonně)"},{"$f":"CEILING('Rozpis úklidu'!E66/('Rozpis úklidu'!J66-'Rozpis úklidu'!I66+1)*'Rozpis úklidu'!H66,1)","v":3},{"$f":"IF('Rozpis úklidu'!O66=0,'Rozpis úklidu'!N66*B69/60,'Rozpis úklidu'!O63*B69/60)","v":0.34949999999999998},{"$f":"'Rozpis úklidu'!M66","v":"Typová činnost č.: 1\nPodlahová krytina: dlažba"},{"$f":"'Rozpis úklidu'!Q66*F69","v":0},3,{"$f":"IF(F69<B69,(B69-F69)*('Rozpis úklidu'!Q66)*2,0)","v":0}]
[{"$f":"CONCATENATE('Rozpis úklidu'!A67,\" (\",'Rozpis úklidu'!G67,\")\")","v":"KOUPELNY A WC - sport. areál (sezonně)"},{"$f":"CEILING('Rozpis úklidu'!E67/('Rozpis úklidu'!J67-'Rozpis úklidu'!I67+1)*'Rozpis úklidu'!H67,1)","v":3},{"$f":"IF('Rozpis úklidu'!O67=0,'Rozpis úklidu'!N67*B70/60,'Rozpis úklidu'!O64*B70/60)","v":4.4041666666666668},{"$f":"'Rozpis úklidu'!M67","v":"Typová činnost č.: 14 + 15\nPodlahová krytina: dlažba"},{"$f":"'Rozpis úklidu'!Q67*F70","v":0},3,{"$f":"IF(F70<B70,(B70-F70)*('Rozpis úklidu'!Q67)*2,0)","v":0}]
[null,"celkem hodin/den",{"$f":"SUM(C54:C70)/5","v":2.031361111111111},"K FAKTURACI CELKEM za CKJ:",{"$f":"SUM(E54:E70)","v":0},null,{"$f":"SUM(G54:G70)","v":0}]
["Podpis vedoucí směny:",null,null,"Podpis zástupce vedení CKJ:"]
[]
["Karta úklidu",null,null,{"$f":"$D$22","v":"xPORT"}]
["TÝDENNÍ ÚKLID                 TÝDEN:",{"$f":"WEEKNUM(TODAY(),1)","v":44},null,{"$f":"(NOW())","v":"2020-10-26T09:46:50.700"}]
[{"$f":"'Rozpis úklidu'!$A$3","v":"Úklidová jednotka"},{"$f":"'Rozpis úklidu'!$E$3","v":"počet\núklidových jednotek"},"Doba úklidu\n[hod.]",{"$f":"'Rozpis úklidu'!$M$3","v":"Popis činnosti"},{"$f":"'Rozpis úklidu'!$R$3","v":"cena celkem za všechny úklidové jednotky \n(prac. dny)\n[Kč]"},"Správně\nuklizené\njednotky","Smluvní pokuta\n[Kč]","Poznámka"]
[{"$f":"'Rozpis úklidu'!A46","v":"Mezipatro - 3. NP xPORT"},{"$f":"'Rozpis úklidu'!E46/('Rozpis úklidu'!J46-'Rozpis úklidu'!I46+1)*'Rozpis úklidu'!H46","v":1},{"$f":"IF('Rozpis úklidu'!O46=0,'Rozpis úklidu'!N46*B77/60,'Rozpis úklidu'!O46*B77/60)","v":0.11458333333333333},{"$f":"'Rozpis úklidu'!M46","v":"Typová činnost č.: 1\nPodlahová krytina: koberec"},{"$f":"'Rozpis úklidu'!Q46*F77","v":0},1,{"$f":"IF(F77<B77,(B77-F77)*('Rozpis úklidu'!Q46)*2,0)","v":0}]
[null,"celkem hodin/den",{"$f":"SUM(C77:C77)/5","v":2.2916666666666665E-2},"K FAKTURACI CELKEM za xPORT:",{"$f":"SUM(E77:E77)","v":0},null,{"$f":"SUM(G77:G77)","v":0}]
["Podpis vedoucí směny:",null,null,"Podpis zástupce vedení xPORT:"]
[]
["Karta úklidu",null,null,{"$f":"$D$2","v":"Centrum kolejí Jarov"}]
["MĚSÍČNÍ ÚKLID                 MĚSÍC:",{"$f":"MONTH(D82)","v":10},null,{"$f":"NOW()","v":"2020-10-26T09:46:50.700"}]
[{"$f":"'Rozpis úklidu'!$A$3","v":"Úklidová jednotka"},{"$f":"'Rozpis úklidu'!$E$3","v":"počet\núklidových jednotek"},"Doba úklidu\n[hod.]",{"$f":"'Rozpis úklidu'!$M$3","v":"Popis činnosti"},{"$f":"'Rozpis úklidu'!$R$3","v":"cena celkem za všechny úklidové jednotky \n(prac. dny)\n[Kč]"},"Správně\nuklizené\njednotky","Smluvní pokuta\n[Kč]","Poznámka"]
[{"$f":"'Rozpis úklidu'!A47","v":"SPRCHY - 1. NP (muži, ženy)"},{"$f":"'Rozpis úklidu'!E47/('Rozpis úklidu'!J47-'Rozpis úklidu'!I47+1)*'Rozpis úklidu'!H47","v":2},{"$f":"IF('Rozpis úklidu'!O47=0,'Rozpis úklidu'!N47*B84/60,'Rozpis úklidu'!O47*B84/60)","v":0.35},{"$f":"'Rozpis úklidu'!M47","v":"Typová činnost č.: 15\nPodlahová krytina: dlažba"},{"$f":"'Rozpis úklidu'!Q47*F84","v":0},{"$f":"B84","v":2},{"$f":"IF(F84<B84,(B84-F84)*('Rozpis úklidu'!Q47)*2,0)","v":0}]
[{"$f":"CONCATENATE('Rozpis úklidu'!A71,\" (\",'Rozpis úklidu'!G71,\")\")","v":"NÁŘAĎOVNA - 1.PP (sezonně)"},{"$f":"CEILING('Rozpis úklidu'!E71/('Rozpis úklidu'!J71-'Rozpis úklidu'!I71+1)*'Rozpis úklidu'!H71,1)","v":1},{"$f":"IF('Rozpis úklidu'!O71=0,'Rozpis úklidu'!N71*B85/60,'Rozpis úklidu'!O71*B85/60)","v":3.7222222222222226E-2},{"$f":"'Rozpis úklidu'!M71","v":"Typová činnost č.: 3"},{"$f":"'Rozpis úklidu'!Q71*F85","v":0},{"$f":"B85","v":1},{"$f":"IF(F85<B85,(B85-F85)*('Rozpis úklidu'!Q71)*2,0)","v":0}]
[null,"celkem hodin/den",{"$f":"SUM(C84:C85)/21","v":1.8439153439153439E-2},"K FAKTURACI CELKEM za CKJ:",{"$f":"SUM(E84:E85)","v":0},null,{"$f":"SUM(G84:G85)","v":0}]
["Podpis vedoucí směny:",null,null,"Podpis zástupce vedení CKJ:"]
[]
["Karta úklidu",null,null,{"$f":"$D$22","v":"xPORT"}]
["MĚSÍČNÍ ÚKLID                 MĚSÍC:",{"$f":"MONTH(D90)","v":10},null,{"$f":"NOW()","v":"2020-10-26T09:46:50.700"}]
[{"$f":"'Rozpis úklidu'!$A$3","v":"Úklidová jednotka"},{"$f":"'Rozpis úklidu'!$E$3","v":"počet\núklidových jednotek"},"Doba úklidu\n[hod.]",{"$f":"'Rozpis úklidu'!$M$3","v":"Popis činnosti"},{"$f":"'Rozpis úklidu'!$R$3","v":"cena celkem za všechny úklidové jednotky \n(prac. dny)\n[Kč]"},"Správně\nuklizené\njednotky","Smluvní pokuta\n[Kč]","Poznámka"]
[{"$f":"'Rozpis úklidu'!A48","v":"Schod. ze SÚZ do xPORT - 2. NP xPORT"},{"$f":"'Rozpis úklidu'!E48/('Rozpis úklidu'!J48-'Rozpis úklidu'!I48+1)*'Rozpis úklidu'!H48","v":1},{"$f":"IF('Rozpis úklidu'!O48=0,'Rozpis úklidu'!N48*B92/60,'Rozpis úklidu'!O48*B92/60)","v":7.4291666666666659E-2},{"$f":"'Rozpis úklidu'!M48","v":"Typová činnost č.: 1\nPodlahová krytina: dlažba"},{"$f":"'Rozpis úklidu'!Q48*F92","v":0},{"$f":"B92","v":1},{"$f":"IF(F92<B92,(B92-F92)*('Rozpis úklidu'!Q48)*2,0)","v":0}]
[{"$f":"'Rozpis úklidu'!A49","v":"Schodiště u výtahu - 2. NP xPORT"},{"$f":"'Rozpis úklidu'!E49/('Rozpis úklidu'!J49-'Rozpis úklidu'!I49+1)*'Rozpis úklidu'!H49","v":1},{"$f":"IF('Rozpis úklidu'!O49=0,'Rozpis úklidu'!N49*B93/60,'Rozpis úklidu'!O49*B93/60)","v":4.6375000000000006E-2},{"$f":"'Rozpis úklidu'!M49","v":"Typová činnost č.: 1\nPodlahová krytina: dlažba"},{"$f":"'Rozpis úklidu'!Q49*F93","v":0},{"$f":"B93","v":1},{"$f":"IF(F93<B93,(B93-F93)*('Rozpis úklidu'!Q49)*2,0)","v":0}]
[{"$f":"'Rozpis úklidu'!A50","v":"Terasa - 3. NP xPORT"},{"$f":"'Rozpis úklidu'!E50/('Rozpis úklidu'!J50-'Rozpis úklidu'!I50+1)*'Rozpis úklidu'!H50","v":1},{"$f":"IF('Rozpis úklidu'!O50=0,'Rozpis úklidu'!N50*B94/60,'Rozpis úklidu'!O50*B94/60)","v":0.42215277777777777},{"$f":"'Rozpis úklidu'!M50","v":"Typová činnost č.: 2\nPodlahová krytina: plast"},{"$f":"'Rozpis úklidu'!Q50*F94","v":0},{"$f":"B94","v":1},{"$f":"IF(F94<B94,(B94-F94)*('Rozpis úklidu'!Q50)*2,0)","v":0}]
[null,"celkem hodin/den",{"$f":"SUM(C92:C94)/21","v":2.5848544973544971E-2},"K FAKTURACI CELKEM za xPORT:",{"$f":"SUM(E92:E94)","v":0},null,{"$f":"SUM(G92:G94)","v":0}]
["Podpis vedoucí směny:",null,null,"Podpis zástupce vedení xPORT:"]

{"sheet":"Činnosti úklidu","index":3,"n_rows":35,"n_cols":2,"rows_kept":35,"cut":false,"hidden":false,"merged":[]}
[null,"Úklidová činnost"]
[null,"Úklidová činnost probíhá v čase od 17:00 hod. do 24:00 hod. v jednosměnném provozu v pětidenním pracovním týdnu. V 17:00 začne úklid v prostorách CKJ a po té bude pokračovat v prostorách xPORTU. Při úklidu je potřeba používat úklidové, čistící a desinfekční prostředky vhodné pro daný předmět úklidu a dodržovat návody na použití příslušných úklidových, čistících a desinfekčních prostředků a bezpečnostní a hygienická pravidla."]
["Definice pojmů:"]
["Zametání","pomocí vhodného smetáku zamést dané podlahové plochy."]
["Vytírání ","pomocí mopu za použití vody a odpovídajícího čistících prostředku vytřít dané podlahové plochy."]
["Mytí ","pomocí hadru, utěrky nebo houbičky, za použití vody a odpovídajícího čistícího prostředku, umýt plochy nábytku, dveří, spotřebičů, keramických a jiných obkladů, topení apod."]
["Čištění ","důkladné čištění, zvláště skvrn, za pomocí odpovídajících čisticích prostředků, ploch nábytku, dveří, spotřebičů, keramických a jiných obkladů, topení apod."]
["Desinfekce ","po umytí nebo vyčištění daných ploch, podlah, spotřebičů aj. použít podle návodu odpovídající desinfekční prostředek."]
["Leštění ","leštění všech skleněných a zrcadlových ploch za použití odpovídajícího přípravku na mytí a leštění skel."]
["Luxování ","čištění podlah za použití vysavače."]
["Strojové čištění ","se provádí za použití čistícího stroje na vodní nebo parní bázi (strojové čištění postelí, matrací, koberců apod.)."]
["Stírání prachu","setření prachu vhodnou utěrkou za použití odpovídajícího přípravku na odstranění prachu, odstranění pavučin."]
["Úklid odpadů ","řádné uvolnění, umytí, vyčištění a vydesinfikování odpadů na soc. zařízeních, WC, umývárnách a sprchových koutech za použití odpovídajících přípravků."]
["Mimořádný úklid ","úklid znečištěného WC (mimo mísu), umývárny nebo společných prostor zvratky nebo exkrementy (uklízečka vyrozumí vedoucí/zástupce vedoucí koleje)."]
["Mytí oken ","umytí parapetů na mokro za použití odpovídajícího saponátu, umytí rámů oken na mokro za použití odpovídajícího saponátu, umytí a vyleštění oken odpovídajícím přípravkem na mytí a leštění oken."]
["Zalévání květin ","zalití květin čistou odstátou vodou v přiměřeném množství s ohledem na druh rostliny, podle potřeby použít odpovídající hnojivo v dávkování podle návodu k použití."]
["Vynášení a likvidace odpadu","vynesení odpadu ze všech odpadních nádob (i z prostoru okolo těchto nádob), a ze skartovaček, umytí odpadních nádob a doplnění pytlů na odpadky do odpadních nádob, odpad dle možnosti vhodným způsobem třídit."]
[]
[]
["Číslo typové činnosti","Popis typových pracovních činností:"]
["1.","Úklidem společných prostor, podlah chodeb, schodišť a vestibulu se rozumí:\nzamést a vytřít podlahy, odstranit našlapané žvýkačky a jiné nečistoty, vyluxovat podlahy kryté kobercem. Umýt parapety, zábradlí a hasicí přístroje umístěné na chodbách, vyleštit skleněné plochy na chodbách a ve vestibulech, setřít prach a pavučiny. Sepsat a nahlásit všechny zjištěné závady a škody."]
["2.","Úklidem balkonů se rozumí: \nzamést a vytřít podlahy, odstranit našlapané žvýkačky a jiné nečistoty, umýt parapety a zábradlí. Odstranit pavučiny. Vynést odpady a popř. i vysypat popelníky."]
["3.","Úklidem společenských, (studoven, kluboven apod.) zájmových (posiloven, tělocvičen apod.) a zasedacích místností, kanceláří, skladů a šaten se rozumí:\nzamést a vytřít podlahy, podlahy pokryté kobercem vyluxovat, setřít prach a pavučiny ze všech dosažitelných a volně přístupných míst a zařízení místností (topení, cvičební nářadí, parapety pod okny apod.), umýt a vyčistit skvrny kolem klik, dveří, vypínačů a světel. Srovnat nábytek a jiné vybavení místností. Srovnat nebo dověsit záclony a závěsy. Vyleštit zrcadla. Vynést odpad. Sepsat a nahlásit všechny zjištěné závady a škody."]
["4.","Úklidem prádelen se rozumí:\nzamést a vytřít podlahy, setřít prach a pavučiny ze všech dosažitelných a volně přístupných míst a zařízení místností (praček, topení, apod.). Vyčistit filtry praček, vyčistit zásobníky na prášek. Umýt a vyčistit dveře, kliky, vypínače a světla. Srovnat nebo dověsit záclony a závěsy. Vyleštit zrcadla. Vynést odpad. Sepsat a nahlásit všechny zjištěné závady a škody."]
["5.","Úklidem kuchyněk se rozumí:\numýt, vyčistit a vydesinfikovat sporák, vařič, mikrovlnnou troubu, digestoř, pracovní desky a zařízení místnosti kuchyňky. Umýt, vyčistit a vydesinfikovat obklady. Pokud je kuchyňka vybavena nádobím umýt nádobí. Odmrazit a vyčistit lednici. Odstranit všechny prošlé nebo kazící se potraviny. Zamést a vytřít podlahy. Vynést odpad. Setřít prach a pavučiny. Sepsat a nahlásit všechny zjištěné závady a škody."]
["6.","Generálním úklidem pokojů po odchodu studentů se rozumí:\numýt nábytek z venku (postele, stoly, židle, police, skříně apod.) i zevnitř (skříně, šuplíky, peřináče, postele apod.) a vyčistit od skvrn. Vyleštit zrcadla a okna. Vyluxovat/strojově vyčistit matrace postelí. Setřít prach a pavučiny (včetně žaluzií). Umýt a vyčistit veškeré obložení, lišty, obrazy, dveře, kliky, rámy oken, parapety, vypínače, zásuvky, topení, světla, lampičky apod. Umýt ledničku zevnitř i zvenku. Zamést a vytřít podlahy, podlahy kryté kobercem vyluxovat, a to i pod a za postelí, křesly a závěsy. Srovnat nebo dověsit záclony a závěsy, srovnat nábytek a jiné vybavení pokoje. Vynést odpad, umýt, otřít a vyleštit odpadkový koš. Zlikvidovat případné komáry a mouchy. Vyvětrat a popř. i navonět. Sepsat a nahlásit všechny zjištěné závady a škody. Případné nalezené věci po ubytovaných předat vedení koleje."]
["7.","Úklidem předsíní buněk se rozumí:\núklid sociálního zařízení podle bodu 14. a 15. úklid kuchyňky podle bodu 5. Zamést a vytřít podlahy. Umýt a vyčistit pracovní plochy a nábytek. Setřít prach a pavučiny. Vynést odpad. Sepsat a nahlásit vedení koleje všechny závady a škody."]
["8.","Úklidem hotelových pokojů po vystěhování se rozumí:\numýt nábytek z venku (postele, stoly, židle, police, skříně apod.) i zevnitř (skříně, šuplíky, peřináče, postele apod.) a vyčistit od skvrn. Vyleštit zrcadla a okna. Převléct a ustlat postele, vyluxovat/strojově vyčistit matrace postelí. Setřít prach a pavučiny (včetně žaluzií). Umýt a vyčistit veškeré obložení, lišty, obrazy, dveře, kliky, rámy oken, parapety, vypínače, zásuvky, televizi, topení, světla, lampičky apod. Umýt nádobí. Umýt ledničku zevnitř i zvenku. Zamést a vytřít podlahy, podlahy kryté kobercem vyluxovat, a to i pod a za postelí, křesly a závěsy. Srovnat nebo dověsit záclony a závěsy, srovnat nábytek a jiné vybavení pokoje. Vynést odpad, umýt, otřít a vyleštit odpadkový koš. Zlikvidovat případné komáry a mouchy. Doplnit hotelové potřeby. Vyvětrat a popř. i navonět. Předat složené použité prádlo a ručníky skladní. Sepsat a nahlásit vedení koleje všechny závady a škody. Případné nalezené věci po hostech předat vedení koleje."]
["9.","Úklidem hotelových pokojů v průběhu ubytování se rozumí:\nustlání postelí, popř. výměna ložního prádla každý 4. den pobytu, výměna osušek a ručníků, doplnění toaletního papíru, vynesení odpadků, umytí koupelny (sprchový kout, WC, umyvadlo), vytření podlahy."]
["10.","Přebráním uklizeného pokoje po studentech se rozumí:\npodle bodu 6. a 7. zkontrolovat úklid provedený studenty. Přebrat klíče od pokoje. Podepsat potvrzení o řádně provedeném úklidu a odevzdání klíčů. Sepsat a nahlásit všechny zjištěné závady a škody. V případě nutnosti upozornit studenty na nedostatky v úklidu s tím, že je musí ve stanovené době odstranit, po té provést novou kontrolu úklidu. V případě, že ani napodruhé nebude pokoj řádně uklizen nahlásit tuto skutečnost vedení koleje."]
["11.","Úklidem výtahu se rozumí:\nzametení a vytření podlahy, vyčištění dveřních drážek, mytí stěn, mytí světel, jsou-li instalována vyleštění zrcadel."]
["12.","Mytím oken se rozumí:\nmytí a leštění skel, mytí rámů, mytí parapetu, jsou-li instalovány setření žaluzií."]
["13.","Čištěním matrací:\nvyčištění matrací parním strojem."]
["14.","Úklidem WC se rozumí:\numýt, vyčistit a vydesinfikovat místnost WC, umýt záchodovou mísu zevnitř i zvenku umýt nohu a trubku za WC, umýt prkýnko a nádobu na splachovací vodu, popř. umýt pisoáry, umyvadla, baterie, obklady, odpady, podlahy a dveře. Otřít držák na toaletní papír. Doplnit toaletní papír a papírové ručníky. Umýt dlaždičky a silikon od plísně. Vylít vodu a otřít pouzdro na WC štětku. Vyleštit zrcadla. Vynést odpad. Setřít prach a pavučiny. Vždy za použití odpovídajícího mycího/čistícího přípravku."]
["15.","Úklidem koupelen a sprch se rozumí:\numýt, vyčistit a vydesinfikovat umyvadlo zevnitř i zvenku včetně trubek pod ním, baterie, sprchový kout, obklady, poličku nad umyvadlem i ve sprchovém koutě, odpady, podlahy a dveře. Umýt stěny sprchového koutu, gumové těsnění popř. závěs sprchového koutu. Odstranit rez a vodní kámen. Doplnit papírové ručníky. Vynést odpad. Vyleštit zrcadlo, poličku, sprchu a držák na sprchu. Umýt dlaždičky a silikon od plísně. Vynést odpad. Setřít prach a pavučiny. Vždy za použití odpovídajícího mycího/čistícího přípravku"]