{"text_format":"1","workbook":"xlsx","n_sheets":4,"sheets":["Základní údaje","Rozpis úklidu","Karty úklidu","Činnosti úklidu"],"not_rendered":{"charts":0,"images":0,"macros":1,"external_links":0,"defined_names":3,"comments":3,"pivot_tables":0},"unopened":[],"bounds":{"document_bytes":16777216,"sheet_cells":100000,"rows_first":2000,"rows_last":500,"rows_between":2000,"halvings":0,"cell_chars":16384,"cell_head_chars":4096},"cells_cut":0,"cells_raw":0,"read":"whole","date_system":"1900"}

{"sheet":"Základní údaje","index":0,"n_rows":15,"n_cols":8,"rows_kept":15,"cut":false,"hidden":false,"merged":[[8,3,8,6],[1,0,1,1]]}
["kolej: Blanice, VŠE"]
["OBDOBÍ:"]
["2021-01-01","2024-12-30"]
["Identifikace subjektu podávajícího nabídku:"]
["Název subjektu:"]
["IČ:"]
["Sídlo:"]
["Zapsaná v:"]
[null,null,null,"Předpoklad roční inflace"]
[null,null,null,"1. rok","2. rok","3. rok","4. rok"]
["CENA pracovní dny [Kč/hodinu/člověka]:",0,{"$f":"IF(B11<>0,B12/B11,0)","v":0},0,0.03,0.03,0.03]
["CENA víkendy [Kč/hodinu/člověka]:",0,{"$f":"IF(B11<>0,(5*B11+2*B12)/7/B11,0)","v":0},1,{"$f":"1+E11","v":1.03},{"$f":"1+F11","v":1.03},1.03]
[null,null,null,1,{"$f":"+D13*E12","v":1.03},{"$f":"+E13*F12","v":1.0609},1.092727,{"$f":"SUM(D13:G13)/4","v":1.0459067500000001}]
[]
["CENA CELKEM ZA ZAKÁZKU:",{"$f":"'Rozpis úklidu'!B136:D136","v":0}]

{"sheet":"Rozpis úklidu","index":1,"n_rows":207,"n_cols":19,"rows_kept":207,"cut":false,"hidden":false,"merged":[[135,1,135,3]]}
[{"$f":"'Základní údaje'!A1","v":"kolej: Blanice, VŠE"},{"$f":"'Základní údaje'!A2","v":"OBDOBÍ:"},{"$f":"'Základní údaje'!A3","v":"2021-01-01"},{"$f":"'Základní údaje'!B3","v":"2024-12-30"}]
["Cena za 1 úklidovou hodinu:",{"$f":"'Základní údaje'!B11","v":0},"Kč/hod."]
["Úklidová jednotka","plocha\n[m²]","kusy\n[-]","počet\núklidových jednotek","CELKEM\n[m²]\n[ks]","uklízí se","počet úklidů","sezonní\ntýden\nod","sezonní\ntýden\ndo","uklízí se v\npracovní dny","uklízí se o\nvíkendech","Popis činnosti","předpokládaný čas na úklidovou jednotku\n[min]","Navrhovaný čas na úklidovou jednotku\n[min.]","celkový čas úklidu všech úklidových jednotek\n[hod.]","Cena za úklidovou jednotku\n[Kč]","cena celkem za všechny úklidové jednotky \n(prac. dny)\n[Kč]","Cena celkem za období úklidu\n[Kč]","Poznámka"]
["Schodiště",4.5,null,31,{"$f":"B4*D4+C4*D4","v":139.5},"denně",1,null,null,1,0,"Typová činnost č.: 1",2,null,{"$f":"IF(N4=0,M4*D4/60,N4*D4/60)","v":1.0333333333333334},{"$f":"ROUND(IF(N4=0,M4/60*$B$2,N4/60*$B$2),0)","v":0},{"$f":"P4*D4","v":0},{"$f":"IF(F4=\"denně\",Q4*G4*$B$132,IF(F4=\"týdně\",Q4*G4*$B$133,IF(F4=\"měsíčně\",Q4*G4*$B$134,IF(F4=\"čtvrtletně\",Q4*G4*4*$B$135,IF(F4=\"ročně\",Q4*G4*$B$135,G4*Q4*$B$135)))))*'Základní údaje'!$H$13*IF(K4=1,'Základní údaje'!$C$12,1)","v":0}]
["výtah malý",null,1,3,3,"denně",1,null,null,1,0,"zamést, vytřít, umýt stěny, vyleštit zrcadlo, vyluxovat drážku dveří",5,null,0.25,0,0,{"$f":"IF(F5=\"denně\",Q5*G5*$B$132,IF(F5=\"týdně\",Q5*G5*$B$133,IF(F5=\"měsíčně\",Q5*G5*$B$134,IF(F5=\"čtvrtletně\",Q5*G5*4*$B$135,IF(F5=\"ročně\",Q5*G5*$B$135,G5*Q5*$B$135)))))*'Základní údaje'!$H$13*IF(K5=1,'Základní údaje'!$C$12,1)","v":0}]
["výtah velký",null,1,3,3,"denně",1,null,null,1,0,"zamést, vytřít, umýt stěny, vyleštit zrcadlo, vyluxovat drážku dveří",15,null,0.75,0,0,{"$f":"IF(F6=\"denně\",Q6*G6*$B$132,IF(F6=\"týdně\",Q6*G6*$B$133,IF(F6=\"měsíčně\",Q6*G6*$B$134,IF(F6=\"čtvrtletně\",Q6*G6*4*$B$135,IF(F6=\"ročně\",Q6*G6*$B$135,G6*Q6*$B$135)))))*'Základní údaje'!$H$13*IF(K6=1,'Základní údaje'!$C$12,1)","v":0}]
["chodba za výtahy",35,null,34,1190,"denně",1,null,null,1,0,"Typová činnost č.: 1",6,null,3.4,0,0,{"$f":"IF(F7=\"denně\",Q7*G7*$B$132,IF(F7=\"týdně\",Q7*G7*$B$133,IF(F7=\"měsíčně\",Q7*G7*$B$134,IF(F7=\"čtvrtletně\",Q7*G7*4*$B$135,IF(F7=\"ročně\",Q7*G7*$B$135,G7*Q7*$B$135)))))*'Základní údaje'!$H$13*IF(K7=1,'Základní údaje'!$C$12,1)","v":0}]
["patro chodba ",147,null,10,1470,"denně",1,null,null,1,0,"Typová činnost č.: 1",25,null,4.166666666666667,0,0,{"$f":"IF(F8=\"denně\",Q8*G8*$B$132,IF(F8=\"týdně\",Q8*G8*$B$133,IF(F8=\"měsíčně\",Q8*G8*$B$134,IF(F8=\"čtvrtletně\",Q8*G8*4*$B$135,IF(F8=\"ročně\",Q8*G8*$B$135,G8*Q8*$B$135)))))*'Základní údaje'!$H$13*IF(K8=1,'Základní údaje'!$C$12,1)","v":0}]
["patro chodba  -  tkz. téčko",39,null,11,429,"denně",1,null,null,1,0,"Typová činnost č.: 1",7,null,1.2833333333333334,0,0,{"$f":"IF(F9=\"denně\",Q9*G9*$B$132,IF(F9=\"týdně\",Q9*G9*$B$133,IF(F9=\"měsíčně\",Q9*G9*$B$134,IF(F9=\"čtvrtletně\",Q9*G9*4*$B$135,IF(F9=\"ročně\",Q9*G9*$B$135,G9*Q9*$B$135)))))*'Základní údaje'!$H$13*IF(K9=1,'Základní údaje'!$C$12,1)","v":0}]
["chodba 1PP",74.5,null,1,74.5,"denně",1,null,null,1,0,"Typová činnost č.: 1",12,null,0.2,0,0,{"$f":"IF(F10=\"denně\",Q10*G10*$B$132,IF(F10=\"týdně\",Q10*G10*$B$133,IF(F10=\"měsíčně\",Q10*G10*$B$134,IF(F10=\"čtvrtletně\",Q10*G10*4*$B$135,IF(F10=\"ročně\",Q10*G10*$B$135,G10*Q10*$B$135)))))*'Základní údaje'!$H$13*IF(K10=1,'Základní údaje'!$C$12,1)","v":0}]
[" chodba 2PP",19.5,null,1,19.5,"denně",1,null,null,1,0,"Typová činnost č.: 1",3,null,0.05,0,0,{"$f":"IF(F11=\"denně\",Q11*G11*$B$132,IF(F11=\"týdně\",Q11*G11*$B$133,IF(F11=\"měsíčně\",Q11*G11*$B$134,IF(F11=\"čtvrtletně\",Q11*G11*4*$B$135,IF(F11=\"ročně\",Q11*G11*$B$135,G11*Q11*$B$135)))))*'Základní údaje'!$H$13*IF(K11=1,'Základní údaje'!$C$12,1)","v":0}]
["studovna + balkon ( 6m2)",39,null,15,585,"denně",1,null,null,1,0,"Typová činnost č.: 2 a 3",10,null,2.5,0,0,{"$f":"IF(F12=\"denně\",Q12*G12*$B$132,IF(F12=\"týdně\",Q12*G12*$B$133,IF(F12=\"měsíčně\",Q12*G12*$B$134,IF(F12=\"čtvrtletně\",Q12*G12*4*$B$135,IF(F12=\"ročně\",Q12*G12*$B$135,G12*Q12*$B$135)))))*'Základní údaje'!$H$13*IF(K12=1,'Základní údaje'!$C$12,1)","v":0}]
["spol. místnost - dataprojektor + balkon ( 6m2)",39,null,1,39,"denně",1,null,null,1,0,"Typová činnost č.: 2 a 3",13,null,0.21666666666666667,0,0,{"$f":"IF(F13=\"denně\",Q13*G13*$B$132,IF(F13=\"týdně\",Q13*G13*$B$133,IF(F13=\"měsíčně\",Q13*G13*$B$134,IF(F13=\"čtvrtletně\",Q13*G13*4*$B$135,IF(F13=\"ročně\",Q13*G13*$B$135,G13*Q13*$B$135)))))*'Základní údaje'!$H$13*IF(K13=1,'Základní údaje'!$C$12,1)","v":0}]
["spol. místnost -  kulečník, piáno + balkon ( 6m2)",39,null,1,39,"denně",1,null,null,1,0,"Typová činnost č.: 2 a 3",13,null,0.21666666666666667,0,0,{"$f":"IF(F14=\"denně\",Q14*G14*$B$132,IF(F14=\"týdně\",Q14*G14*$B$133,IF(F14=\"měsíčně\",Q14*G14*$B$134,IF(F14=\"čtvrtletně\",Q14*G14*4*$B$135,IF(F14=\"ročně\",Q14*G14*$B$135,G14*Q14*$B$135)))))*'Základní údaje'!$H$13*IF(K14=1,'Základní údaje'!$C$12,1)","v":0}]
["spol. místnost - herna (obývák) + balkon ( 6m2)",39,null,1,39,"denně",1,null,null,1,0,"Typová činnost č.: 2 a 3",13,null,0.21666666666666667,0,0,{"$f":"IF(F15=\"denně\",Q15*G15*$B$132,IF(F15=\"týdně\",Q15*G15*$B$133,IF(F15=\"měsíčně\",Q15*G15*$B$134,IF(F15=\"čtvrtletně\",Q15*G15*4*$B$135,IF(F15=\"ročně\",Q15*G15*$B$135,G15*Q15*$B$135)))))*'Základní údaje'!$H$13*IF(K15=1,'Základní údaje'!$C$12,1)","v":0}]
["spol.místnost s kuchyňkou  + balkon ( 6m2)",46,null,1,46,"denně",1,null,null,1,0,"Typová činnost č.: 2 a 5",23,null,0.38333333333333336,0,0,{"$f":"IF(F16=\"denně\",Q16*G16*$B$132,IF(F16=\"týdně\",Q16*G16*$B$133,IF(F16=\"měsíčně\",Q16*G16*$B$134,IF(F16=\"čtvrtletně\",Q16*G16*4*$B$135,IF(F16=\"ročně\",Q16*G16*$B$135,G16*Q16*$B$135)))))*'Základní údaje'!$H$13*IF(K16=1,'Základní údaje'!$C$12,1)","v":0}]
["společná prádelna  (8x pračka + 2x sušička)",46,null,1,46,"denně",1,null,null,1,0,"Typová činnost č.: 5",45,null,0.75,0,0,{"$f":"IF(F17=\"denně\",Q17*G17*$B$132,IF(F17=\"týdně\",Q17*G17*$B$133,IF(F17=\"měsíčně\",Q17*G17*$B$134,IF(F17=\"čtvrtletně\",Q17*G17*4*$B$135,IF(F17=\"ročně\",Q17*G17*$B$135,G17*Q17*$B$135)))))*'Základní údaje'!$H$13*IF(K17=1,'Základní údaje'!$C$12,1)","v":0}]
["tělocvična malá ( tanec) + balkon ( 6m2)",39,null,1,39,"denně",1,null,null,1,0,"Typová činnost č.: 2 a 3",20,null,0.33333333333333331,0,0,{"$f":"IF(F18=\"denně\",Q18*G18*$B$132,IF(F18=\"týdně\",Q18*G18*$B$133,IF(F18=\"měsíčně\",Q18*G18*$B$134,IF(F18=\"čtvrtletně\",Q18*G18*4*$B$135,IF(F18=\"ročně\",Q18*G18*$B$135,G18*Q18*$B$135)))))*'Základní údaje'!$H$13*IF(K18=1,'Základní údaje'!$C$12,1)","v":0}]
["tělocvična velká (aerobic)",77,null,1,77,"denně",1,null,null,1,0,"Typová činnost č.: 3",39,null,0.65,0,0,{"$f":"IF(F19=\"denně\",Q19*G19*$B$132,IF(F19=\"týdně\",Q19*G19*$B$133,IF(F19=\"měsíčně\",Q19*G19*$B$134,IF(F19=\"čtvrtletně\",Q19*G19*4*$B$135,IF(F19=\"ročně\",Q19*G19*$B$135,G19*Q19*$B$135)))))*'Základní údaje'!$H$13*IF(K19=1,'Základní údaje'!$C$12,1)","v":0}]
["tělocvična - stolní tenis",41,null,1,41,"denně",1,null,null,1,0,"Typová činnost č.: 3",21,null,0.35,0,0,{"$f":"IF(F20=\"denně\",Q20*G20*$B$132,IF(F20=\"týdně\",Q20*G20*$B$133,IF(F20=\"měsíčně\",Q20*G20*$B$134,IF(F20=\"čtvrtletně\",Q20*G20*4*$B$135,IF(F20=\"ročně\",Q20*G20*$B$135,G20*Q20*$B$135)))))*'Základní údaje'!$H$13*IF(K20=1,'Základní údaje'!$C$12,1)","v":0}]
["posilovna + balkon ( 6m2)",228.5,null,1,228.5,"denně",1,null,null,1,0,"Typová činnost č.: 2 a 3",114,null,1.9,0,0,{"$f":"IF(F21=\"denně\",Q21*G21*$B$132,IF(F21=\"týdně\",Q21*G21*$B$133,IF(F21=\"měsíčně\",Q21*G21*$B$134,IF(F21=\"čtvrtletně\",Q21*G21*4*$B$135,IF(F21=\"ročně\",Q21*G21*$B$135,G21*Q21*$B$135)))))*'Základní údaje'!$H$13*IF(K21=1,'Základní údaje'!$C$12,1)","v":0}]
["WC posilovna",null,1,1,1,"denně",1,null,null,1,0,"Typová činnost č.: 11",8,null,0.13333333333333333,0,0,{"$f":"IF(F22=\"denně\",Q22*G22*$B$132,IF(F22=\"týdně\",Q22*G22*$B$133,IF(F22=\"měsíčně\",Q22*G22*$B$134,IF(F22=\"čtvrtletně\",Q22*G22*4*$B$135,IF(F22=\"ročně\",Q22*G22*$B$135,G22*Q22*$B$135)))))*'Základní údaje'!$H$13*IF(K22=1,'Základní údaje'!$C$12,1)","v":0}]
["kanceláře+balkón ( 6m2)",37,null,2,74,"denně",1,null,null,1,0,"Typová činnost č.: 2 a 3",9,null,0.3,0,0,{"$f":"IF(F23=\"denně\",Q23*G23*$B$132,IF(F23=\"týdně\",Q23*G23*$B$133,IF(F23=\"měsíčně\",Q23*G23*$B$134,IF(F23=\"čtvrtletně\",Q23*G23*4*$B$135,IF(F23=\"ročně\",Q23*G23*$B$135,G23*Q23*$B$135)))))*'Základní údaje'!$H$13*IF(K23=1,'Základní údaje'!$C$12,1)","v":0}]
["prostor před hlavním vchodem + schodiště",null,1,1,1,"denně",1,null,null,1,0,"zamést, pouze při nadměrném znečištění vytřít, vynést odpad",10,null,0.16666666666666666,0,0,{"$f":"IF(F24=\"denně\",Q24*G24*$B$132,IF(F24=\"týdně\",Q24*G24*$B$133,IF(F24=\"měsíčně\",Q24*G24*$B$134,IF(F24=\"čtvrtletně\",Q24*G24*4*$B$135,IF(F24=\"ročně\",Q24*G24*$B$135,G24*Q24*$B$135)))))*'Základní údaje'!$H$13*IF(K24=1,'Základní údaje'!$C$12,1)","v":0}]
["zádveří - hlavní vchod",15,null,1,15,"denně",1,null,null,1,0,"zamést, pouze při nadměrném znečištění vytřít, vyluxovat rohože, umýt rámy a vyleštit skleněné  plochy ( dveře, portály)",6,null,0.1,0,0,{"$f":"IF(F25=\"denně\",Q25*G25*$B$132,IF(F25=\"týdně\",Q25*G25*$B$133,IF(F25=\"měsíčně\",Q25*G25*$B$134,IF(F25=\"čtvrtletně\",Q25*G25*4*$B$135,IF(F25=\"ročně\",Q25*G25*$B$135,G25*Q25*$B$135)))))*'Základní údaje'!$H$13*IF(K25=1,'Základní údaje'!$C$12,1)","v":0}]
["Hala před recepcí",133,null,1,133,"denně",1,null,null,1,0,"Typová činnost č.: 1",55,null,0.91666666666666663,0,0,{"$f":"IF(F26=\"denně\",Q26*G26*$B$132,IF(F26=\"týdně\",Q26*G26*$B$133,IF(F26=\"měsíčně\",Q26*G26*$B$134,IF(F26=\"čtvrtletně\",Q26*G26*4*$B$135,IF(F26=\"ročně\",Q26*G26*$B$135,G26*Q26*$B$135)))))*'Základní údaje'!$H$13*IF(K26=1,'Základní údaje'!$C$12,1)","v":0}]
["recepce",18,null,1,18,"denně",1,null,null,1,0,"Typová činnost č.: 3",5,null,8.3333333333333329E-2,0,0,{"$f":"IF(F27=\"denně\",Q27*G27*$B$132,IF(F27=\"týdně\",Q27*G27*$B$133,IF(F27=\"měsíčně\",Q27*G27*$B$134,IF(F27=\"čtvrtletně\",Q27*G27*4*$B$135,IF(F27=\"ročně\",Q27*G27*$B$135,G27*Q27*$B$135)))))*'Základní údaje'!$H$13*IF(K27=1,'Základní údaje'!$C$12,1)","v":0}]
["zázemí recepce ( šatna + WC)",17,null,1,17,"denně",1,null,null,1,0,"Typová činnost č.: 3 a 11",10,null,0.16666666666666666,0,0,{"$f":"IF(F28=\"denně\",Q28*G28*$B$132,IF(F28=\"týdně\",Q28*G28*$B$133,IF(F28=\"měsíčně\",Q28*G28*$B$134,IF(F28=\"čtvrtletně\",Q28*G28*4*$B$135,IF(F28=\"ročně\",Q28*G28*$B$135,G28*Q28*$B$135)))))*'Základní údaje'!$H$13*IF(K28=1,'Základní údaje'!$C$12,1)","v":0}]
["WC pro veřejnost",null,1,1,1,"denně",1,null,null,1,0,"Typová činnost č.: 11",8,null,0.13333333333333333,0,0,{"$f":"IF(F29=\"denně\",Q29*G29*$B$132,IF(F29=\"týdně\",Q29*G29*$B$133,IF(F29=\"měsíčně\",Q29*G29*$B$134,IF(F29=\"čtvrtletně\",Q29*G29*4*$B$135,IF(F29=\"ročně\",Q29*G29*$B$135,G29*Q29*$B$135)))))*'Základní údaje'!$H$13*IF(K29=1,'Základní údaje'!$C$12,1)","v":0}]
["chodba ( krček)",139,null,1,139,"denně",1,null,null,1,0,"Typová činnost č.: 1 a zalití květin",23,null,0.38333333333333336,0,0,{"$f":"IF(F30=\"denně\",Q30*G30*$B$132,IF(F30=\"týdně\",Q30*G30*$B$133,IF(F30=\"měsíčně\",Q30*G30*$B$134,IF(F30=\"čtvrtletně\",Q30*G30*4*$B$135,IF(F30=\"ročně\",Q30*G30*$B$135,G30*Q30*$B$135)))))*'Základní údaje'!$H$13*IF(K30=1,'Základní údaje'!$C$12,1)","v":0}]
["WC - úklidu",null,1,1,1,"denně",1,null,null,1,0,"Typová činnost č.: 11",8,null,0.13333333333333333,0,0,{"$f":"IF(F31=\"denně\",Q31*G31*$B$132,IF(F31=\"týdně\",Q31*G31*$B$133,IF(F31=\"měsíčně\",Q31*G31*$B$134,IF(F31=\"čtvrtletně\",Q31*G31*4*$B$135,IF(F31=\"ročně\",Q31*G31*$B$135,G31*Q31*$B$135)))))*'Základní údaje'!$H$13*IF(K31=1,'Základní údaje'!$C$12,1)","v":0}]
["schodiště na střechu",9,null,3,27,"týdně",1,null,null,1,0,"zamést, vytřít, setřít prach",5,null,0.25,0,0,{"$f":"IF(F32=\"denně\",Q32*G32*$B$132,IF(F32=\"týdně\",Q32*G32*$B$133,IF(F32=\"měsíčně\",Q32*G32*$B$134,IF(F32=\"čtvrtletně\",Q32*G32*4*$B$135,IF(F32=\"ročně\",Q32*G32*$B$135,G32*Q32*$B$135)))))*'Základní údaje'!$H$13*IF(K32=1,'Základní údaje'!$C$12,1)","v":0}]
["zábradlí na střechu",null,1,3,3,"týdně",1,null,null,1,0,"umýt",3,null,0.15,0,0,{"$f":"IF(F33=\"denně\",Q33*G33*$B$132,IF(F33=\"týdně\",Q33*G33*$B$133,IF(F33=\"měsíčně\",Q33*G33*$B$134,IF(F33=\"čtvrtletně\",Q33*G33*4*$B$135,IF(F33=\"ročně\",Q33*G33*$B$135,G33*Q33*$B$135)))))*'Základní údaje'!$H$13*IF(K33=1,'Základní údaje'!$C$12,1)","v":0}]
["zábradlí - schodiště",null,1,62,62,"týdně",1,null,null,1,0,"Typová činnost č.: 1",3,null,3.1,0,0,{"$f":"IF(F34=\"denně\",Q34*G34*$B$132,IF(F34=\"týdně\",Q34*G34*$B$133,IF(F34=\"měsíčně\",Q34*G34*$B$134,IF(F34=\"čtvrtletně\",Q34*G34*4*$B$135,IF(F34=\"ročně\",Q34*G34*$B$135,G34*Q34*$B$135)))))*'Základní údaje'!$H$13*IF(K34=1,'Základní údaje'!$C$12,1)","v":0}]
["zábradlí - chodba za výtahy",null,1,31,{"$f":"B35*D35+C35*D35","v":31},"týdně",1,null,null,1,0,"Typová činnost č.: 1",3,null,{"$f":"IF(N35=0,M35*D35/60,N35*D35/60)","v":1.55},{"$f":"ROUND(IF(N35=0,M35/60*$B$2,N35/60*$B$2),0)","v":0},{"$f":"P35*D35","v":0},{"$f":"IF(F35=\"denně\",Q35*G35*$B$132,IF(F35=\"týdně\",Q35*G35*$B$133,IF(F35=\"měsíčně\",Q35*G35*$B$134,IF(F35=\"čtvrtletně\",Q35*G35*4*$B$135,IF(F35=\"ročně\",Q35*G35*$B$135,G35*Q35*$B$135)))))*'Základní údaje'!$H$13*IF(K35=1,'Základní údaje'!$C$12,1)","v":0}]
["místnost úklízeček a úklid.prost.",15,null,2,30,"týdně",1,null,null,1,0,"Typová činnost č.: 3",10,null,0.33333333333333331,0,0,{"$f":"IF(F36=\"denně\",Q36*G36*$B$132,IF(F36=\"týdně\",Q36*G36*$B$133,IF(F36=\"měsíčně\",Q36*G36*$B$134,IF(F36=\"čtvrtletně\",Q36*G36*4*$B$135,IF(F36=\"ročně\",Q36*G36*$B$135,G36*Q36*$B$135)))))*'Základní údaje'!$H$13*IF(K36=1,'Základní údaje'!$C$12,1)","v":0}]
["radiátory ÚT - chodba patro + chodba schodiště ( 17 článků ÚT)",null,1,78,78,"měsíčně",1,null,null,1,0,"umýt",8,null,10.4,0,0,{"$f":"IF(F37=\"denně\",Q37*G37*$B$132,IF(F37=\"týdně\",Q37*G37*$B$133,IF(F37=\"měsíčně\",Q37*G37*$B$134,IF(F37=\"čtvrtletně\",Q37*G37*4*$B$135,IF(F37=\"ročně\",Q37*G37*$B$135,G37*Q37*$B$135)))))*'Základní údaje'!$H$13*IF(K37=1,'Základní údaje'!$C$12,1)","v":0}]
["skleněné plochy +  portálové dveře ( oboustranně)",20.16,null,35,705.6,"měsíčně",1,null,null,1,0,"umýt a vyleštit",5,null,2.9166666666666665,0,0,{"$f":"IF(F38=\"denně\",Q38*G38*$B$132,IF(F38=\"týdně\",Q38*G38*$B$133,IF(F38=\"měsíčně\",Q38*G38*$B$134,IF(F38=\"čtvrtletně\",Q38*G38*4*$B$135,IF(F38=\"ročně\",Q38*G38*$B$135,G38*Q38*$B$135)))))*'Základní údaje'!$H$13*IF(K38=1,'Základní údaje'!$C$12,1)","v":0}]
["skleněné chodbové spojovací dveře ( oboustraně)",7,null,73,511,"měsíčně",1,null,null,1,0,"umýt a vyleštit",2,null,2.4333333333333331,0,0,{"$f":"IF(F39=\"denně\",Q39*G39*$B$132,IF(F39=\"týdně\",Q39*G39*$B$133,IF(F39=\"měsíčně\",Q39*G39*$B$134,IF(F39=\"čtvrtletně\",Q39*G39*4*$B$135,IF(F39=\"ročně\",Q39*G39*$B$135,G39*Q39*$B$135)))))*'Základní údaje'!$H$13*IF(K39=1,'Základní údaje'!$C$12,1)","v":0}]
["buňka (skladba 2 + 3 s balkónem):\nkuchyňka + vstupní prostory",11,null,1,11,"měsíčně",6,null,null,1,0,"Typová činnost č.: 3 a 5",25,null,0.41666666666666669,0,0,{"$f":"IF(F40=\"denně\",Q40*G40*$B$132,IF(F40=\"týdně\",Q40*G40*$B$133,IF(F40=\"měsíčně\",Q40*G40*$B$134,IF(F40=\"čtvrtletně\",Q40*G40*4*$B$135,IF(F40=\"ročně\",Q40*G40*$B$135,G40*Q40*$B$135)))))*'Základní údaje'!$H$13*IF(K40=1,'Základní údaje'!$C$12,1)","v":0}]
["buňka (skladba 2 + 3 s balkónem):\nWC",1,null,1,1,"měsíčně",6,null,null,1,0,"Typová činnost č.: 11",10,null,0.16666666666666666,0,0,{"$f":"IF(F41=\"denně\",Q41*G41*$B$132,IF(F41=\"týdně\",Q41*G41*$B$133,IF(F41=\"měsíčně\",Q41*G41*$B$134,IF(F41=\"čtvrtletně\",Q41*G41*4*$B$135,IF(F41=\"ročně\",Q41*G41*$B$135,G41*Q41*$B$135)))))*'Základní údaje'!$H$13*IF(K41=1,'Základní údaje'!$C$12,1)","v":0}]
["buňka (skladba 2 + 3 s balkónem):\nkoupelna se sprchou",2.2000000000000002,null,1,2.2000000000000002,"měsíčně",6,null,null,1,0,"Typová činnost č.: 12",10,null,0.16666666666666666,0,0,{"$f":"IF(F42=\"denně\",Q42*G42*$B$132,IF(F42=\"týdně\",Q42*G42*$B$133,IF(F42=\"měsíčně\",Q42*G42*$B$134,IF(F42=\"čtvrtletně\",Q42*G42*4*$B$135,IF(F42=\"ročně\",Q42*G42*$B$135,G42*Q42*$B$135)))))*'Základní údaje'!$H$13*IF(K42=1,'Základní údaje'!$C$12,1)","v":0}]
["buňka (skladba 2 + 3 s balkónem):\ndvoulůžkový pokoj",13,null,1,13,"měsíčně",6,null,null,1,0,"Typová činnost č.: 2 a 8",15,null,0.25,0,0,{"$f":"IF(F43=\"denně\",Q43*G43*$B$132,IF(F43=\"týdně\",Q43*G43*$B$133,IF(F43=\"měsíčně\",Q43*G43*$B$134,IF(F43=\"čtvrtletně\",Q43*G43*4*$B$135,IF(F43=\"ročně\",Q43*G43*$B$135,G43*Q43*$B$135)))))*'Základní údaje'!$H$13*IF(K43=1,'Základní údaje'!$C$12,1)","v":0}]
["buňka (skladba 2 + 3 s balkónem):\ntřílůžkový pokoj",18,null,1,18,"měsíčně",6,null,null,1,0,"Typová činnost č.: 2 a 8",20,null,0.33333333333333331,0,0,{"$f":"IF(F44=\"denně\",Q44*G44*$B$132,IF(F44=\"týdně\",Q44*G44*$B$133,IF(F44=\"měsíčně\",Q44*G44*$B$134,IF(F44=\"čtvrtletně\",Q44*G44*4*$B$135,IF(F44=\"ročně\",Q44*G44*$B$135,G44*Q44*$B$135)))))*'Základní údaje'!$H$13*IF(K44=1,'Základní údaje'!$C$12,1)","v":0}]
["emailové nátěry - schodiště",6,null,31,186,"čtvrtletně",2,null,null,1,0,"umýt",1,null,0.51666666666666672,0,0,{"$f":"IF(F45=\"denně\",Q45*G45*$B$132,IF(F45=\"týdně\",Q45*G45*$B$133,IF(F45=\"měsíčně\",Q45*G45*$B$134,IF(F45=\"čtvrtletně\",Q45*G45*4*$B$135,IF(F45=\"ročně\",Q45*G45*$B$135,G45*Q45*$B$135)))))*'Základní údaje'!$H$13*IF(K45=1,'Základní údaje'!$C$12,1)","v":0}]
["emailové nátěry - chodba za výtahy",43,null,34,1462,"čtvrtletně",2,null,null,1,0,"umýt",7,null,3.9666666666666668,0,0,{"$f":"IF(F46=\"denně\",Q46*G46*$B$132,IF(F46=\"týdně\",Q46*G46*$B$133,IF(F46=\"měsíčně\",Q46*G46*$B$134,IF(F46=\"čtvrtletně\",Q46*G46*4*$B$135,IF(F46=\"ročně\",Q46*G46*$B$135,G46*Q46*$B$135)))))*'Základní údaje'!$H$13*IF(K46=1,'Základní údaje'!$C$12,1)","v":0}]
["emailové nátěry - patro chodba",280.5,null,10,2805,"čtvrtletně",2,null,null,1,0,"umýt",47,null,7.833333333333333,0,0,{"$f":"IF(F47=\"denně\",Q47*G47*$B$132,IF(F47=\"týdně\",Q47*G47*$B$133,IF(F47=\"měsíčně\",Q47*G47*$B$134,IF(F47=\"čtvrtletně\",Q47*G47*4*$B$135,IF(F47=\"ročně\",Q47*G47*$B$135,G47*Q47*$B$135)))))*'Základní údaje'!$H$13*IF(K47=1,'Základní údaje'!$C$12,1)","v":0}]
["emailové nátěry - patro chodba téčko",72,null,11,792,"čtvrtletně",2,null,null,1,0,"umýt",12,null,2.2000000000000002,0,0,{"$f":"IF(F48=\"denně\",Q48*G48*$B$132,IF(F48=\"týdně\",Q48*G48*$B$133,IF(F48=\"měsíčně\",Q48*G48*$B$134,IF(F48=\"čtvrtletně\",Q48*G48*4*$B$135,IF(F48=\"ročně\",Q48*G48*$B$135,G48*Q48*$B$135)))))*'Základní údaje'!$H$13*IF(K48=1,'Základní údaje'!$C$12,1)","v":0}]
["emailové nátěry -  chodba 1PP",138,null,1,138,"čtvrtletně",2,null,null,1,0,"umýt",23,null,0.38333333333333336,0,0,{"$f":"IF(F49=\"denně\",Q49*G49*$B$132,IF(F49=\"týdně\",Q49*G49*$B$133,IF(F49=\"měsíčně\",Q49*G49*$B$134,IF(F49=\"čtvrtletně\",Q49*G49*4*$B$135,IF(F49=\"ročně\",Q49*G49*$B$135,G49*Q49*$B$135)))))*'Základní údaje'!$H$13*IF(K49=1,'Základní údaje'!$C$12,1)","v":0}]
["emailové nátěry - chodba 2PP",36,null,1,36,"čtvrtletně",2,null,null,1,0,"umýt",6,null,0.1,0,0,{"$f":"IF(F50=\"denně\",Q50*G50*$B$132,IF(F50=\"týdně\",Q50*G50*$B$133,IF(F50=\"měsíčně\",Q50*G50*$B$134,IF(F50=\"čtvrtletně\",Q50*G50*4*$B$135,IF(F50=\"ročně\",Q50*G50*$B$135,G50*Q50*$B$135)))))*'Základní údaje'!$H$13*IF(K50=1,'Základní údaje'!$C$12,1)","v":0}]
["prázdninový sklad + balkon ( 6m2)",39,null,1,39,"ročně",1,null,null,1,0,"Typová činnost č.: 2 a 3",10,null,0.16666666666666666,0,0,{"$f":"IF(F51=\"denně\",Q51*G51*$B$132,IF(F51=\"týdně\",Q51*G51*$B$133,IF(F51=\"měsíčně\",Q51*G51*$B$134,IF(F51=\"čtvrtletně\",Q51*G51*4*$B$135,IF(F51=\"ročně\",Q51*G51*$B$135,G51*Q51*$B$135)))))*'Základní údaje'!$H$13*IF(K51=1,'Základní údaje'!$C$12,1)","v":0}]
["kolárna",22.5,null,1,22.5,"ročně",2,null,null,1,0,"Typová činnost č.: 3",6,null,0.1,0,0,{"$f":"IF(F52=\"denně\",Q52*G52*$B$132,IF(F52=\"týdně\",Q52*G52*$B$133,IF(F52=\"měsíčně\",Q52*G52*$B$134,IF(F52=\"čtvrtletně\",Q52*G52*4*$B$135,IF(F52=\"ročně\",Q52*G52*$B$135,G52*Q52*$B$135)))))*'Základní údaje'!$H$13*IF(K52=1,'Základní údaje'!$C$12,1)","v":0}]
["Okna velká",null,1,779,779,"ročně",1,null,null,1,0,"umýt skla, rámy, parapety; vyleštit skla",20,null,259.66666666666669,0,0,{"$f":"IF(F53=\"denně\",Q53*G53*$B$132,IF(F53=\"týdně\",Q53*G53*$B$133,IF(F53=\"měsíčně\",Q53*G53*$B$134,IF(F53=\"čtvrtletně\",Q53*G53*4*$B$135,IF(F53=\"ročně\",Q53*G53*$B$135,G53*Q53*$B$135)))))*'Základní údaje'!$H$13*IF(K53=1,'Základní údaje'!$C$12,1)","v":0}]
["Okna malá",null,1,357,{"$f":"B54*D54+C54*D54","v":357},"ročně",1,null,null,1,0,"umýt skla, rámy, parapety; vyleštit skla",15,null,{"$f":"IF(N54=0,M54*D54/60,N54*D54/60)","v":89.25},{"$f":"ROUND(IF(N54=0,M54/60*$B$2,N54/60*$B$2),0)","v":0},{"$f":"P54*D54","v":0},{"$f":"IF(F54=\"denně\",Q54*G54*$B$132,IF(F54=\"týdně\",Q54*G54*$B$133,IF(F54=\"měsíčně\",Q54*G54*$B$134,IF(F54=\"čtvrtletně\",Q54*G54*4*$B$135,IF(F54=\"ročně\",Q54*G54*$B$135,G54*Q54*$B$135)))))*'Základní údaje'!$H$13*IF(K54=1,'Základní údaje'!$C$12,1)","v":0}]
["Okna - balkonové dveře",null,1,253,253,"ročně",1,null,null,1,0,"umýt skla, rámy, parapety; vyleštit skla",25,null,105.41666666666667,0,0,{"$f":"IF(F55=\"denně\",Q55*G55*$B$132,IF(F55=\"týdně\",Q55*G55*$B$133,IF(F55=\"měsíčně\",Q55*G55*$B$134,IF(F55=\"čtvrtletně\",Q55*G55*4*$B$135,IF(F55=\"ročně\",Q55*G55*$B$135,G55*Q55*$B$135)))))*'Základní údaje'!$H$13*IF(K55=1,'Základní údaje'!$C$12,1)","v":0}]
["přebrání pokoje po ubytovaných",null,1,520,520,"sezonně",1,25,27,1,0,"Typová činnost č.: 10",8,null,69.333333333333329,0,0,{"$f":"IF(F56=\"denně\",Q56*G56*$B$132,IF(F56=\"týdně\",Q56*G56*$B$133,IF(F56=\"měsíčně\",Q56*G56*$B$134,IF(F56=\"čtvrtletně\",Q56*G56*4*$B$135,IF(F56=\"ročně\",Q56*G56*$B$135,G56*Q56*$B$135)))))*'Základní údaje'!$H$13*IF(K56=1,'Základní údaje'!$C$12,1)","v":0}]
["buňka pro ZTP studenty:\nkuchyňka ",15,null,2,30,"sezonně",1,25,27,1,1,"Typová činnost č.: 5",25,null,0.83333333333333337,0,0,{"$f":"IF(F57=\"denně\",Q57*G57*$B$132,IF(F57=\"týdně\",Q57*G57*$B$133,IF(F57=\"měsíčně\",Q57*G57*$B$134,IF(F57=\"čtvrtletně\",Q57*G57*4*$B$135,IF(F57=\"ročně\",Q57*G57*$B$135,G57*Q57*$B$135)))))*'Základní údaje'!$H$13*IF(K57=1,'Základní údaje'!$C$12,1)","v":0}]
["buňka pro ZTP studenty:\nvstupní prostory",12,null,1,12,"sezonně",1,25,27,1,1,"Typová činnost č.: 1",5,null,8.3333333333333329E-2,0,0,{"$f":"IF(F58=\"denně\",Q58*G58*$B$132,IF(F58=\"týdně\",Q58*G58*$B$133,IF(F58=\"měsíčně\",Q58*G58*$B$134,IF(F58=\"čtvrtletně\",Q58*G58*4*$B$135,IF(F58=\"ročně\",Q58*G58*$B$135,G58*Q58*$B$135)))))*'Základní údaje'!$H$13*IF(K58=1,'Základní údaje'!$C$12,1)","v":0}]
["buňka pro ZTP studenty:\nsociální zařízení",6,null,1,6,"sezonně",1,25,27,1,1,"Typová činnost č.: 11 a 12",20,null,0.33333333333333331,0,0,{"$f":"IF(F59=\"denně\",Q59*G59*$B$132,IF(F59=\"týdně\",Q59*G59*$B$133,IF(F59=\"měsíčně\",Q59*G59*$B$134,IF(F59=\"čtvrtletně\",Q59*G59*4*$B$135,IF(F59=\"ročně\",Q59*G59*$B$135,G59*Q59*$B$135)))))*'Základní údaje'!$H$13*IF(K59=1,'Základní údaje'!$C$12,1)","v":0}]
["buňka pro ZTP studenty:\npokoj",13,null,4,52,"sezonně",1,25,27,1,1,"Typová činnost č.: 6",20,null,1.3333333333333333,0,0,{"$f":"IF(F60=\"denně\",Q60*G60*$B$132,IF(F60=\"týdně\",Q60*G60*$B$133,IF(F60=\"měsíčně\",Q60*G60*$B$134,IF(F60=\"čtvrtletně\",Q60*G60*4*$B$135,IF(F60=\"ročně\",Q60*G60*$B$135,G60*Q60*$B$135)))))*'Základní údaje'!$H$13*IF(K60=1,'Základní údaje'!$C$12,1)","v":0}]
["buňka pro ZTP studenty:\nkuchyňka ",15,null,2,{"$f":"B61*D61+C61*D61","v":30},"sezonně",1,35,37,1,1,"Typová činnost č.: 5",25,null,{"$f":"IF(N61=0,M61*D61/60,N61*D61/60)","v":0.83333333333333337},{"$f":"ROUND(IF(N61=0,M61/60*$B$2,N61/60*$B$2),0)","v":0},{"$f":"P61*D61","v":0},{"$f":"IF(F61=\"denně\",Q61*G61*$B$132,IF(F61=\"týdně\",Q61*G61*$B$133,IF(F61=\"měsíčně\",Q61*G61*$B$134,IF(F61=\"čtvrtletně\",Q61*G61*4*$B$135,IF(F61=\"ročně\",Q61*G61*$B$135,G61*Q61*$B$135)))))*'Základní údaje'!$H$13*IF(K61=1,'Základní údaje'!$C$12,1)","v":0}]
["buňka pro ZTP studenty:\nvstupní prostory",12,null,1,12,"sezonně",1,35,37,1,1,"Typová činnost č.: 1",5,null,8.3333333333333329E-2,0,0,{"$f":"IF(F62=\"denně\",Q62*G62*$B$132,IF(F62=\"týdně\",Q62*G62*$B$133,IF(F62=\"měsíčně\",Q62*G62*$B$134,IF(F62=\"čtvrtletně\",Q62*G62*4*$B$135,IF(F62=\"ročně\",Q62*G62*$B$135,G62*Q62*$B$135)))))*'Základní údaje'!$H$13*IF(K62=1,'Základní údaje'!$C$12,1)","v":0}]
["buňka pro ZTP studenty:\nsociální zařízení",6,null,1,6,"sezonně",1,35,37,1,1,"Typová činnost č.: 11 a 12",20,null,0.33333333333333331,0,0,{"$f":"IF(F63=\"denně\",Q63*G63*$B$132,IF(F63=\"týdně\",Q63*G63*$B$133,IF(F63=\"měsíčně\",Q63*G63*$B$134,IF(F63=\"čtvrtletně\",Q63*G63*4*$B$135,IF(F63=\"ročně\",Q63*G63*$B$135,G63*Q63*$B$135)))))*'Základní údaje'!$H$13*IF(K63=1,'Základní údaje'!$C$12,1)","v":0}]
["buňka pro ZTP studenty:\npokoj",13,null,4,52,"sezonně",1,35,37,1,1,"Typová činnost č.: 6",20,null,1.3333333333333333,0,0,{"$f":"IF(F64=\"denně\",Q64*G64*$B$132,IF(F64=\"týdně\",Q64*G64*$B$133,IF(F64=\"měsíčně\",Q64*G64*$B$134,IF(F64=\"čtvrtletně\",Q64*G64*4*$B$135,IF(F64=\"ročně\",Q64*G64*$B$135,G64*Q64*$B$135)))))*'Základní údaje'!$H$13*IF(K64=1,'Základní údaje'!$C$12,1)","v":0}]
["buňka pro ZTP studenty:\nkuchyňka ",15,null,2,30,"sezonně",1,6,17,1,0,"Typová činnost č.: 5",25,null,0.83333333333333337,0,0,{"$f":"IF(F65=\"denně\",Q65*G65*$B$132,IF(F65=\"týdně\",Q65*G65*$B$133,IF(F65=\"měsíčně\",Q65*G65*$B$134,IF(F65=\"čtvrtletně\",Q65*G65*4*$B$135,IF(F65=\"ročně\",Q65*G65*$B$135,G65*Q65*$B$135)))))*'Základní údaje'!$H$13*IF(K65=1,'Základní údaje'!$C$12,1)","v":0}]
["buňka pro ZTP studenty:\nvstupní prostory",12,null,1,12,"sezonně",1,6,17,1,0,"Typová činnost č.: 1",5,null,8.3333333333333329E-2,0,0,{"$f":"IF(F66=\"denně\",Q66*G66*$B$132,IF(F66=\"týdně\",Q66*G66*$B$133,IF(F66=\"měsíčně\",Q66*G66*$B$134,IF(F66=\"čtvrtletně\",Q66*G66*4*$B$135,IF(F66=\"ročně\",Q66*G66*$B$135,G66*Q66*$B$135)))))*'Základní údaje'!$H$13*IF(K66=1,'Základní údaje'!$C$12,1)","v":0}]
["buňka pro ZTP studenty:\nsociální zařízení",6,null,1,6,"sezonně",1,6,17,1,0,"Typová činnost č.: 11 a 12",20,null,0.33333333333333331,0,0,{"$f":"IF(F67=\"denně\",Q67*G67*$B$132,IF(F67=\"týdně\",Q67*G67*$B$133,IF(F67=\"měsíčně\",Q67*G67*$B$134,IF(F67=\"čtvrtletně\",Q67*G67*4*$B$135,IF(F67=\"ročně\",Q67*G67*$B$135,G67*Q67*$B$135)))))*'Základní údaje'!$H$13*IF(K67=1,'Základní údaje'!$C$12,1)","v":0}]
["buňka pro ZTP studenty:\nkuchyňka ",15,null,2,30,"sezonně",1,40,51,1,0,"Typová činnost č.: 5",25,null,0.83333333333333337,0,0,{"$f":"IF(F68=\"denně\",Q68*G68*$B$132,IF(F68=\"týdně\",Q68*G68*$B$133,IF(F68=\"měsíčně\",Q68*G68*$B$134,IF(F68=\"čtvrtletně\",Q68*G68*4*$B$135,IF(F68=\"ročně\",Q68*G68*$B$135,G68*Q68*$B$135)))))*'Základní údaje'!$H$13*IF(K68=1,'Základní údaje'!$C$12,1)","v":0}]
["buňka pro ZTP studenty:\nvstupní prostory",12,null,1,12,"sezonně",1,40,51,1,0,"Typová činnost č.: 1",5,null,8.3333333333333329E-2,0,0,{"$f":"IF(F69=\"denně\",Q69*G69*$B$132,IF(F69=\"týdně\",Q69*G69*$B$133,IF(F69=\"měsíčně\",Q69*G69*$B$134,IF(F69=\"čtvrtletně\",Q69*G69*4*$B$135,IF(F69=\"ročně\",Q69*G69*$B$135,G69*Q69*$B$135)))))*'Základní údaje'!$H$13*IF(K69=1,'Základní údaje'!$C$12,1)","v":0}]
["buňka pro ZTP studenty:\nsociální zařízení",6,null,1,6,"sezonně",1,40,51,1,0,"Typová činnost č.: 11 a 12",20,null,0.33333333333333331,0,0,{"$f":"IF(F70=\"denně\",Q70*G70*$B$132,IF(F70=\"týdně\",Q70*G70*$B$133,IF(F70=\"měsíčně\",Q70*G70*$B$134,IF(F70=\"čtvrtletně\",Q70*G70*4*$B$135,IF(F70=\"ročně\",Q70*G70*$B$135,G70*Q70*$B$135)))))*'Základní údaje'!$H$13*IF(K70=1,'Základní údaje'!$C$12,1)","v":0}]
["buňka student (skladba 1 + 2):\nkuchyňka + vstupní prostory",15,null,65,975,"sezonně",1,25,27,1,1,"Typová činnost č.: 3 a 5",25,null,27.083333333333332,0,0,{"$f":"IF(F71=\"denně\",Q71*G71*$B$132,IF(F71=\"týdně\",Q71*G71*$B$133,IF(F71=\"měsíčně\",Q71*G71*$B$134,IF(F71=\"čtvrtletně\",Q71*G71*4*$B$135,IF(F71=\"ročně\",Q71*G71*$B$135,G71*Q71*$B$135)))))*'Základní údaje'!$H$13*IF(K71=1,'Základní údaje'!$C$12,1)","v":0}]
["buňka student (skladba 1 + 2):\nkomora",4.5,null,65,292.5,"sezonně",1,25,27,1,1,"Typová činnost č.: 3",10,null,10.833333333333334,0,0,{"$f":"IF(F72=\"denně\",Q72*G72*$B$132,IF(F72=\"týdně\",Q72*G72*$B$133,IF(F72=\"měsíčně\",Q72*G72*$B$134,IF(F72=\"čtvrtletně\",Q72*G72*4*$B$135,IF(F72=\"ročně\",Q72*G72*$B$135,G72*Q72*$B$135)))))*'Základní údaje'!$H$13*IF(K72=1,'Základní údaje'!$C$12,1)","v":0}]
["buňka student (skladba 1 + 2):\nWC",1.8,null,65,117,"sezonně",1,25,27,1,1,"Typová činnost č.: 11",10,null,10.833333333333334,0,0,{"$f":"IF(F73=\"denně\",Q73*G73*$B$132,IF(F73=\"týdně\",Q73*G73*$B$133,IF(F73=\"měsíčně\",Q73*G73*$B$134,IF(F73=\"čtvrtletně\",Q73*G73*4*$B$135,IF(F73=\"ročně\",Q73*G73*$B$135,G73*Q73*$B$135)))))*'Základní údaje'!$H$13*IF(K73=1,'Základní údaje'!$C$12,1)","v":0}]
["buňka student (skladba 1 + 2):\nkoupelna se sprchou",2.2999999999999998,null,65,149.5,"sezonně",1,25,27,1,1,"Typová činnost č.: 12",15,null,16.25,0,0,{"$f":"IF(F74=\"denně\",Q74*G74*$B$132,IF(F74=\"týdně\",Q74*G74*$B$133,IF(F74=\"měsíčně\",Q74*G74*$B$134,IF(F74=\"čtvrtletně\",Q74*G74*4*$B$135,IF(F74=\"ročně\",Q74*G74*$B$135,G74*Q74*$B$135)))))*'Základní údaje'!$H$13*IF(K74=1,'Základní údaje'!$C$12,1)","v":0}]
["buňka student (skladba 1 + 2):\njednolůžkový pokoj",14,null,65,910,"sezonně",1,25,27,1,1,"Typová činnost č.: 6",20,null,21.666666666666668,0,0,{"$f":"IF(F75=\"denně\",Q75*G75*$B$132,IF(F75=\"týdně\",Q75*G75*$B$133,IF(F75=\"měsíčně\",Q75*G75*$B$134,IF(F75=\"čtvrtletně\",Q75*G75*4*$B$135,IF(F75=\"ročně\",Q75*G75*$B$135,G75*Q75*$B$135)))))*'Základní údaje'!$H$13*IF(K75=1,'Základní údaje'!$C$12,1)","v":0}]
["buňka student (skladba 1 + 2):\ndvoulůžkový pokoj",14,null,65,910,"sezonně",1,25,27,1,1,"Typová činnost č.: 6",20,null,21.666666666666668,0,0,{"$f":"IF(F76=\"denně\",Q76*G76*$B$132,IF(F76=\"týdně\",Q76*G76*$B$133,IF(F76=\"měsíčně\",Q76*G76*$B$134,IF(F76=\"čtvrtletně\",Q76*G76*4*$B$135,IF(F76=\"ročně\",Q76*G76*$B$135,G76*Q76*$B$135)))))*'Základní údaje'!$H$13*IF(K76=1,'Základní údaje'!$C$12,1)","v":0}]
["buňka student (skladba 1 + 2):\nkuchyňka + vstupní prostory",15,null,65,975,"sezonně",1,35,37,1,1,"Typová činnost č.: 3 a 5",25,null,27.083333333333332,0,0,{"$f":"IF(F77=\"denně\",Q77*G77*$B$132,IF(F77=\"týdně\",Q77*G77*$B$133,IF(F77=\"měsíčně\",Q77*G77*$B$134,IF(F77=\"čtvrtletně\",Q77*G77*4*$B$135,IF(F77=\"ročně\",Q77*G77*$B$135,G77*Q77*$B$135)))))*'Základní údaje'!$H$13*IF(K77=1,'Základní údaje'!$C$12,1)","v":0}]
["buňka student (skladba 1 + 2):\nkomora",4.5,null,65,292.5,"sezonně",1,35,37,1,1,"Typová činnost č.: 3",10,null,10.833333333333334,0,0,{"$f":"IF(F78=\"denně\",Q78*G78*$B$132,IF(F78=\"týdně\",Q78*G78*$B$133,IF(F78=\"měsíčně\",Q78*G78*$B$134,IF(F78=\"čtvrtletně\",Q78*G78*4*$B$135,IF(F78=\"ročně\",Q78*G78*$B$135,G78*Q78*$B$135)))))*'Základní údaje'!$H$13*IF(K78=1,'Základní údaje'!$C$12,1)","v":0}]
["buňka student (skladba 1 + 2):\nWC",1.8,null,65,117,"sezonně",1,35,37,1,1,"Typová činnost č.: 11",10,null,10.833333333333334,0,0,{"$f":"IF(F79=\"denně\",Q79*G79*$B$132,IF(F79=\"týdně\",Q79*G79*$B$133,IF(F79=\"měsíčně\",Q79*G79*$B$134,IF(F79=\"čtvrtletně\",Q79*G79*4*$B$135,IF(F79=\"ročně\",Q79*G79*$B$135,G79*Q79*$B$135)))))*'Základní údaje'!$H$13*IF(K79=1,'Základní údaje'!$C$12,1)","v":0}]
["buňka student (skladba 1 + 2):\nkoupelna se sprchou",2.2999999999999998,null,65,149.5,"sezonně",1,35,37,1,1,"Typová činnost č.: 12",15,null,16.25,0,0,{"$f":"IF(F80=\"denně\",Q80*G80*$B$132,IF(F80=\"týdně\",Q80*G80*$B$133,IF(F80=\"měsíčně\",Q80*G80*$B$134,IF(F80=\"čtvrtletně\",Q80*G80*4*$B$135,IF(F80=\"ročně\",Q80*G80*$B$135,G80*Q80*$B$135)))))*'Základní údaje'!$H$13*IF(K80=1,'Základní údaje'!$C$12,1)","v":0}]
["buňka student (skladba 1 + 2):\njednolůžkový pokoj",14,null,65,910,"sezonně",1,35,37,1,1,"Typová činnost č.: 6",20,null,21.666666666666668,0,0,{"$f":"IF(F81=\"denně\",Q81*G81*$B$132,IF(F81=\"týdně\",Q81*G81*$B$133,IF(F81=\"měsíčně\",Q81*G81*$B$134,IF(F81=\"čtvrtletně\",Q81*G81*4*$B$135,IF(F81=\"ročně\",Q81*G81*$B$135,G81*Q81*$B$135)))))*'Základní údaje'!$H$13*IF(K81=1,'Základní údaje'!$C$12,1)","v":0}]
["buňka student (skladba 1 + 2):\ndvoulůžkový pokoj",14,null,65,910,"sezonně",1,35,37,1,1,"Typová činnost č.: 6",20,null,21.666666666666668,0,0,{"$f":"IF(F82=\"denně\",Q82*G82*$B$132,IF(F82=\"týdně\",Q82*G82*$B$133,IF(F82=\"měsíčně\",Q82*G82*$B$134,IF(F82=\"čtvrtletně\",Q82*G82*4*$B$135,IF(F82=\"ročně\",Q82*G82*$B$135,G82*Q82*$B$135)))))*'Základní údaje'!$H$13*IF(K82=1,'Základní údaje'!$C$12,1)","v":0}]
["buňka student (skladba 1 + 2):\nkuchyňka + vstupní prostory",15,null,65,975,"sezonně",1,6,17,1,0,"Typová činnost č.: 3 a 5",25,null,27.083333333333332,0,0,{"$f":"IF(F83=\"denně\",Q83*G83*$B$132,IF(F83=\"týdně\",Q83*G83*$B$133,IF(F83=\"měsíčně\",Q83*G83*$B$134,IF(F83=\"čtvrtletně\",Q83*G83*4*$B$135,IF(F83=\"ročně\",Q83*G83*$B$135,G83*Q83*$B$135)))))*'Základní údaje'!$H$13*IF(K83=1,'Základní údaje'!$C$12,1)","v":0}]
["buňka student (skladba 1 + 2):\nkomora",4.5,null,65,292.5,"sezonně",1,6,17,1,0,"Typová činnost č.: 3",10,null,10.833333333333334,0,0,{"$f":"IF(F84=\"denně\",Q84*G84*$B$132,IF(F84=\"týdně\",Q84*G84*$B$133,IF(F84=\"měsíčně\",Q84*G84*$B$134,IF(F84=\"čtvrtletně\",Q84*G84*4*$B$135,IF(F84=\"ročně\",Q84*G84*$B$135,G84*Q84*$B$135)))))*'Základní údaje'!$H$13*IF(K84=1,'Základní údaje'!$C$12,1)","v":0}]
["buňka student (skladba 1 + 2):\nWC",1.8,null,65,117,"sezonně",1,6,17,1,0,"Typová činnost č.: 11",10,null,10.833333333333334,0,0,{"$f":"IF(F85=\"denně\",Q85*G85*$B$132,IF(F85=\"týdně\",Q85*G85*$B$133,IF(F85=\"měsíčně\",Q85*G85*$B$134,IF(F85=\"čtvrtletně\",Q85*G85*4*$B$135,IF(F85=\"ročně\",Q85*G85*$B$135,G85*Q85*$B$135)))))*'Základní údaje'!$H$13*IF(K85=1,'Základní údaje'!$C$12,1)","v":0}]
["buňka student (skladba 1 + 2):\nkoupelna se sprchou",2.2999999999999998,null,65,149.5,"sezonně",1,6,17,1,0,"Typová činnost č.: 12",15,null,16.25,0,0,{"$f":"IF(F86=\"denně\",Q86*G86*$B$132,IF(F86=\"týdně\",Q86*G86*$B$133,IF(F86=\"měsíčně\",Q86*G86*$B$134,IF(F86=\"čtvrtletně\",Q86*G86*4*$B$135,IF(F86=\"ročně\",Q86*G86*$B$135,G86*Q86*$B$135)))))*'Základní údaje'!$H$13*IF(K86=1,'Základní údaje'!$C$12,1)","v":0}]
["buňka student (skladba 1 + 2):\nkuchyňka + vstupní prostory",15,null,65,975,"sezonně",1,40,51,1,0,"Typová činnost č.: 3 a 5",25,null,27.083333333333332,0,0,{"$f":"IF(F87=\"denně\",Q87*G87*$B$132,IF(F87=\"týdně\",Q87*G87*$B$133,IF(F87=\"měsíčně\",Q87*G87*$B$134,IF(F87=\"čtvrtletně\",Q87*G87*4*$B$135,IF(F87=\"ročně\",Q87*G87*$B$135,G87*Q87*$B$135)))))*'Základní údaje'!$H$13*IF(K87=1,'Základní údaje'!$C$12,1)","v":0}]
["buňka student (skladba 1 + 2):\nkomora",4.5,null,65,292.5,"sezonně",1,40,51,1,0,"Typová činnost č.: 3",10,null,10.833333333333334,0,0,{"$f":"IF(F88=\"denně\",Q88*G88*$B$132,IF(F88=\"týdně\",Q88*G88*$B$133,IF(F88=\"měsíčně\",Q88*G88*$B$134,IF(F88=\"čtvrtletně\",Q88*G88*4*$B$135,IF(F88=\"ročně\",Q88*G88*$B$135,G88*Q88*$B$135)))))*'Základní údaje'!$H$13*IF(K88=1,'Základní údaje'!$C$12,1)","v":0}]
["buňka student (skladba 1 + 2):\nWC",1.8,null,65,117,"sezonně",1,40,51,1,0,"Typová činnost č.: 11",10,null,10.833333333333334,0,0,{"$f":"IF(F89=\"denně\",Q89*G89*$B$132,IF(F89=\"týdně\",Q89*G89*$B$133,IF(F89=\"měsíčně\",Q89*G89*$B$134,IF(F89=\"čtvrtletně\",Q89*G89*4*$B$135,IF(F89=\"ročně\",Q89*G89*$B$135,G89*Q89*$B$135)))))*'Základní údaje'!$H$13*IF(K89=1,'Základní údaje'!$C$12,1)","v":0}]
["buňka student (skladba 1 + 2):\nkoupelna se sprchou",2.2999999999999998,null,65,149.5,"sezonně",1,40,51,1,0,"Typová činnost č.: 12",15,null,16.25,0,0,{"$f":"IF(F90=\"denně\",Q90*G90*$B$132,IF(F90=\"týdně\",Q90*G90*$B$133,IF(F90=\"měsíčně\",Q90*G90*$B$134,IF(F90=\"čtvrtletně\",Q90*G90*4*$B$135,IF(F90=\"ročně\",Q90*G90*$B$135,G90*Q90*$B$135)))))*'Základní údaje'!$H$13*IF(K90=1,'Základní údaje'!$C$12,1)","v":0}]
["buňka student (skladba 2+ 2):\n kuchyňka + vstupní prostory",15,null,94,1410,"sezonně",1,25,27,1,1,"Typová činnost č.: 3 a 5",25,null,39.166666666666664,0,0,{"$f":"IF(F91=\"denně\",Q91*G91*$B$132,IF(F91=\"týdně\",Q91*G91*$B$133,IF(F91=\"měsíčně\",Q91*G91*$B$134,IF(F91=\"čtvrtletně\",Q91*G91*4*$B$135,IF(F91=\"ročně\",Q91*G91*$B$135,G91*Q91*$B$135)))))*'Základní údaje'!$H$13*IF(K91=1,'Základní údaje'!$C$12,1)","v":0}]
["buňka student (skladba 2+ 2):\nkomora",4.5,null,94,423,"sezonně",1,25,27,1,1,"Typová činnost č.: 3",10,null,15.666666666666666,0,0,{"$f":"IF(F92=\"denně\",Q92*G92*$B$132,IF(F92=\"týdně\",Q92*G92*$B$133,IF(F92=\"měsíčně\",Q92*G92*$B$134,IF(F92=\"čtvrtletně\",Q92*G92*4*$B$135,IF(F92=\"ročně\",Q92*G92*$B$135,G92*Q92*$B$135)))))*'Základní údaje'!$H$13*IF(K92=1,'Základní údaje'!$C$12,1)","v":0}]
["buňka student (skladba 2+ 2):\nWC",1.8,null,94,{"$f":"B93*D93+C93*D93","v":169.20000000000002},"sezonně",1,25,27,1,1,"Typová činnost č.: 11",10,null,{"$f":"IF(N93=0,M93*D93/60,N93*D93/60)","v":15.666666666666666},{"$f":"ROUND(IF(N93=0,M93/60*$B$2,N93/60*$B$2),0)","v":0},{"$f":"P93*D93","v":0},{"$f":"IF(F93=\"denně\",Q93*G93*$B$132,IF(F93=\"týdně\",Q93*G93*$B$133,IF(F93=\"měsíčně\",Q93*G93*$B$134,IF(F93=\"čtvrtletně\",Q93*G93*4*$B$135,IF(F93=\"ročně\",Q93*G93*$B$135,G93*Q93*$B$135)))))*'Základní údaje'!$H$13*IF(K93=1,'Základní údaje'!$C$12,1)","v":0}]
["buňka student (skladba 2+ 2):\nkoupelna se sprchou",2.2999999999999998,null,94,216.2,"sezonně",1,25,27,1,1,"Typová činnost č.: 12",15,null,23.5,0,0,{"$f":"IF(F94=\"denně\",Q94*G94*$B$132,IF(F94=\"týdně\",Q94*G94*$B$133,IF(F94=\"měsíčně\",Q94*G94*$B$134,IF(F94=\"čtvrtletně\",Q94*G94*4*$B$135,IF(F94=\"ročně\",Q94*G94*$B$135,G94*Q94*$B$135)))))*'Základní údaje'!$H$13*IF(K94=1,'Základní údaje'!$C$12,1)","v":0}]
["buňka student (skladba 2+ 2):\npokoj",14,null,188,2632,"sezonně",1,25,27,1,1,"Typová činnost č.: 6",20,null,62.666666666666664,0,0,{"$f":"IF(F95=\"denně\",Q95*G95*$B$132,IF(F95=\"týdně\",Q95*G95*$B$133,IF(F95=\"měsíčně\",Q95*G95*$B$134,IF(F95=\"čtvrtletně\",Q95*G95*4*$B$135,IF(F95=\"ročně\",Q95*G95*$B$135,G95*Q95*$B$135)))))*'Základní údaje'!$H$13*IF(K95=1,'Základní údaje'!$C$12,1)","v":0}]
["buňka student (skladba 2+ 2):\n kuchyňka + vstupní prostory",15,null,94,1410,"sezonně",1,35,27,1,1,"Typová činnost č.: 3 a 5",25,null,39.166666666666664,0,0,{"$f":"IF(F96=\"denně\",Q96*G96*$B$132,IF(F96=\"týdně\",Q96*G96*$B$133,IF(F96=\"měsíčně\",Q96*G96*$B$134,IF(F96=\"čtvrtletně\",Q96*G96*4*$B$135,IF(F96=\"ročně\",Q96*G96*$B$135,G96*Q96*$B$135)))))*'Základní údaje'!$H$13*IF(K96=1,'Základní údaje'!$C$12,1)","v":0}]
["buňka student (skladba 2+ 2):\nkomora",4.5,null,94,423,"sezonně",1,35,37,1,1,"Typová činnost č.: 3",10,null,15.666666666666666,0,0,{"$f":"IF(F97=\"denně\",Q97*G97*$B$132,IF(F97=\"týdně\",Q97*G97*$B$133,IF(F97=\"měsíčně\",Q97*G97*$B$134,IF(F97=\"čtvrtletně\",Q97*G97*4*$B$135,IF(F97=\"ročně\",Q97*G97*$B$135,G97*Q97*$B$135)))))*'Základní údaje'!$H$13*IF(K97=1,'Základní údaje'!$C$12,1)","v":0}]
["buňka student (skladba 2+ 2):\nWC",1.8,null,94,169.20000000000002,"sezonně",1,35,37,1,1,"Typová činnost č.: 11",10,null,15.666666666666666,0,0,{"$f":"IF(F98=\"denně\",Q98*G98*$B$132,IF(F98=\"týdně\",Q98*G98*$B$133,IF(F98=\"měsíčně\",Q98*G98*$B$134,IF(F98=\"čtvrtletně\",Q98*G98*4*$B$135,IF(F98=\"ročně\",Q98*G98*$B$135,G98*Q98*$B$135)))))*'Základní údaje'!$H$13*IF(K98=1,'Základní údaje'!$C$12,1)","v":0}]
["buňka student (skladba 2+ 2):\nkoupelna se sprchou",2.2999999999999998,null,94,216.2,"sezonně",1,35,37,1,1,"Typová činnost č.: 12",15,null,23.5,0,0,{"$f":"IF(F99=\"denně\",Q99*G99*$B$132,IF(F99=\"týdně\",Q99*G99*$B$133,IF(F99=\"měsíčně\",Q99*G99*$B$134,IF(F99=\"čtvrtletně\",Q99*G99*4*$B$135,IF(F99=\"ročně\",Q99*G99*$B$135,G99*Q99*$B$135)))))*'Základní údaje'!$H$13*IF(K99=1,'Základní údaje'!$C$12,1)","v":0}]
["buňka student (skladba 2+ 2):\npokoj",14,null,188,2632,"sezonně",1,35,37,1,1,"Typová činnost č.: 6",20,null,62.666666666666664,0,0,{"$f":"IF(F100=\"denně\",Q100*G100*$B$132,IF(F100=\"týdně\",Q100*G100*$B$133,IF(F100=\"měsíčně\",Q100*G100*$B$134,IF(F100=\"čtvrtletně\",Q100*G100*4*$B$135,IF(F100=\"ročně\",Q100*G100*$B$135,G100*Q100*$B$135)))))*'Základní údaje'!$H$13*IF(K100=1,'Základní údaje'!$C$12,1)","v":0}]
["buňka student (skladba 2+ 2):\n kuchyňka + vstupní prostory",15,null,94,1410,"sezonně",1,6,17,1,0,"Typová činnost č.: 3 a 5",25,null,39.166666666666664,0,0,{"$f":"IF(F101=\"denně\",Q101*G101*$B$132,IF(F101=\"týdně\",Q101*G101*$B$133,IF(F101=\"měsíčně\",Q101*G101*$B$134,IF(F101=\"čtvrtletně\",Q101*G101*4*$B$135,IF(F101=\"ročně\",Q101*G101*$B$135,G101*Q101*$B$135)))))*'Základní údaje'!$H$13*IF(K101=1,'Základní údaje'!$C$12,1)","v":0}]
["buňka student (skladba 2+ 2):\nkomora",4.5,null,94,423,"sezonně",1,6,17,1,0,"Typová činnost č.: 3",10,null,15.666666666666666,0,0,{"$f":"IF(F102=\"denně\",Q102*G102*$B$132,IF(F102=\"týdně\",Q102*G102*$B$133,IF(F102=\"měsíčně\",Q102*G102*$B$134,IF(F102=\"čtvrtletně\",Q102*G102*4*$B$135,IF(F102=\"ročně\",Q102*G102*$B$135,G102*Q102*$B$135)))))*'Základní údaje'!$H$13*IF(K102=1,'Základní údaje'!$C$12,1)","v":0}]
["buňka student (skladba 2+ 2):\nWC",1.8,null,94,169.20000000000002,"sezonně",1,6,17,1,0,"Typová činnost č.: 11",10,null,15.666666666666666,0,0,{"$f":"IF(F103=\"denně\",Q103*G103*$B$132,IF(F103=\"týdně\",Q103*G103*$B$133,IF(F103=\"měsíčně\",Q103*G103*$B$134,IF(F103=\"čtvrtletně\",Q103*G103*4*$B$135,IF(F103=\"ročně\",Q103*G103*$B$135,G103*Q103*$B$135)))))*'Základní údaje'!$H$13*IF(K103=1,'Základní údaje'!$C$12,1)","v":0}]
["buňka student (skladba 2+ 2):\nkoupelna se sprchou",2.2999999999999998,null,94,216.2,"sezonně",1,6,17,1,0,"Typová činnost č.: 12",15,null,23.5,0,0,{"$f":"IF(F104=\"denně\",Q104*G104*$B$132,IF(F104=\"týdně\",Q104*G104*$B$133,IF(F104=\"měsíčně\",Q104*G104*$B$134,IF(F104=\"čtvrtletně\",Q104*G104*4*$B$135,IF(F104=\"ročně\",Q104*G104*$B$135,G104*Q104*$B$135)))))*'Základní údaje'!$H$13*IF(K104=1,'Základní údaje'!$C$12,1)","v":0}]
["buňka student (skladba 2+ 2):\n kuchyňka + vstupní prostory",15,null,94,1410,"sezonně",1,40,51,1,0,"Typová činnost č.: 3 a 5",25,null,39.166666666666664,0,0,{"$f":"IF(F105=\"denně\",Q105*G105*$B$132,IF(F105=\"týdně\",Q105*G105*$B$133,IF(F105=\"měsíčně\",Q105*G105*$B$134,IF(F105=\"čtvrtletně\",Q105*G105*4*$B$135,IF(F105=\"ročně\",Q105*G105*$B$135,G105*Q105*$B$135)))))*'Základní údaje'!$H$13*IF(K105=1,'Základní údaje'!$C$12,1)","v":0}]
["buňka student (skladba 2+ 2):\nkomora",4.5,null,94,423,"sezonně",1,40,51,1,0,"Typová činnost č.: 3",10,null,15.666666666666666,0,0,{"$f":"IF(F106=\"denně\",Q106*G106*$B$132,IF(F106=\"týdně\",Q106*G106*$B$133,IF(F106=\"měsíčně\",Q106*G106*$B$134,IF(F106=\"čtvrtletně\",Q106*G106*4*$B$135,IF(F106=\"ročně\",Q106*G106*$B$135,G106*Q106*$B$135)))))*'Základní údaje'!$H$13*IF(K106=1,'Základní údaje'!$C$12,1)","v":0}]
["buňka student (skladba 2+ 2):\nWC",1.8,null,94,169.20000000000002,"sezonně",1,40,51,1,0,"Typová činnost č.: 11",10,null,15.666666666666666,0,0,{"$f":"IF(F107=\"denně\",Q107*G107*$B$132,IF(F107=\"týdně\",Q107*G107*$B$133,IF(F107=\"měsíčně\",Q107*G107*$B$134,IF(F107=\"čtvrtletně\",Q107*G107*4*$B$135,IF(F107=\"ročně\",Q107*G107*$B$135,G107*Q107*$B$135)))))*'Základní údaje'!$H$13*IF(K107=1,'Základní údaje'!$C$12,1)","v":0}]
["buňka student (skladba 2+ 2):\nkoupelna se sprchou",2.2999999999999998,null,94,216.2,"sezonně",1,40,51,1,0,"Typová činnost č.: 12",15,null,23.5,0,0,{"$f":"IF(F108=\"denně\",Q108*G108*$B$132,IF(F108=\"týdně\",Q108*G108*$B$133,IF(F108=\"měsíčně\",Q108*G108*$B$134,IF(F108=\"čtvrtletně\",Q108*G108*4*$B$135,IF(F108=\"ročně\",Q108*G108*$B$135,G108*Q108*$B$135)))))*'Základní údaje'!$H$13*IF(K108=1,'Základní údaje'!$C$12,1)","v":0}]
["buňka student (skladba 2 + 2 s balkónem):\nkuchyňka + vstupní prostory",15,null,99,1485,"sezonně",1,25,27,1,1,"Typová činnost č.: 3 a 5",25,null,41.25,0,0,{"$f":"IF(F109=\"denně\",Q109*G109*$B$132,IF(F109=\"týdně\",Q109*G109*$B$133,IF(F109=\"měsíčně\",Q109*G109*$B$134,IF(F109=\"čtvrtletně\",Q109*G109*4*$B$135,IF(F109=\"ročně\",Q109*G109*$B$135,G109*Q109*$B$135)))))*'Základní údaje'!$H$13*IF(K109=1,'Základní údaje'!$C$12,1)","v":0}]
["buňka student (skladba 2 + 2 s balkónem):\nkomora",4.5,null,99,445.5,"sezonně",1,25,27,1,1,"Typová činnost č.: 3",10,null,16.5,0,0,{"$f":"IF(F110=\"denně\",Q110*G110*$B$132,IF(F110=\"týdně\",Q110*G110*$B$133,IF(F110=\"měsíčně\",Q110*G110*$B$134,IF(F110=\"čtvrtletně\",Q110*G110*4*$B$135,IF(F110=\"ročně\",Q110*G110*$B$135,G110*Q110*$B$135)))))*'Základní údaje'!$H$13*IF(K110=1,'Základní údaje'!$C$12,1)","v":0}]
["buňka student (skladba 2 + 2 s balkónem):\nWC",1.8,null,99,178.20000000000002,"sezonně",1,25,27,1,1,"Typová činnost č.: 11",10,null,16.5,0,0,{"$f":"IF(F111=\"denně\",Q111*G111*$B$132,IF(F111=\"týdně\",Q111*G111*$B$133,IF(F111=\"měsíčně\",Q111*G111*$B$134,IF(F111=\"čtvrtletně\",Q111*G111*4*$B$135,IF(F111=\"ročně\",Q111*G111*$B$135,G111*Q111*$B$135)))))*'Základní údaje'!$H$13*IF(K111=1,'Základní údaje'!$C$12,1)","v":0}]
["buňka student (skladba 2 + 2 s balkónem):\nkoupelna se sprchou",2.2999999999999998,null,99,227.7,"sezonně",1,25,27,1,1,"Typová činnost č.: 12",15,null,24.75,0,0,{"$f":"IF(F112=\"denně\",Q112*G112*$B$132,IF(F112=\"týdně\",Q112*G112*$B$133,IF(F112=\"měsíčně\",Q112*G112*$B$134,IF(F112=\"čtvrtletně\",Q112*G112*4*$B$135,IF(F112=\"ročně\",Q112*G112*$B$135,G112*Q112*$B$135)))))*'Základní údaje'!$H$13*IF(K112=1,'Základní údaje'!$C$12,1)","v":0}]
["buňka student (skladba 2 + 2 s balkónem):\npokoj",13.5,null,198,2673,"sezonně",1,25,27,1,1,"Typová činnost č.: 6",20,null,66,0,0,{"$f":"IF(F113=\"denně\",Q113*G113*$B$132,IF(F113=\"týdně\",Q113*G113*$B$133,IF(F113=\"měsíčně\",Q113*G113*$B$134,IF(F113=\"čtvrtletně\",Q113*G113*4*$B$135,IF(F113=\"ročně\",Q113*G113*$B$135,G113*Q113*$B$135)))))*'Základní údaje'!$H$13*IF(K113=1,'Základní údaje'!$C$12,1)","v":0}]
["buňka student (skladba 2 + 2 s balkónem):\nbalkón",6,null,99,594,"sezonně",1,25,27,1,1,"Typový úklid č.: 2",5,null,8.25,0,0,{"$f":"IF(F114=\"denně\",Q114*G114*$B$132,IF(F114=\"týdně\",Q114*G114*$B$133,IF(F114=\"měsíčně\",Q114*G114*$B$134,IF(F114=\"čtvrtletně\",Q114*G114*4*$B$135,IF(F114=\"ročně\",Q114*G114*$B$135,G114*Q114*$B$135)))))*'Základní údaje'!$H$13*IF(K114=1,'Základní údaje'!$C$12,1)","v":0}]
["buňka student (skladba 2 + 2 s balkónem):\nkuchyňka + vstupní prostory",15,null,99,1485,"sezonně",1,35,37,1,1,"Typová činnost č.: 3 a 5",25,null,41.25,0,0,{"$f":"IF(F115=\"denně\",Q115*G115*$B$132,IF(F115=\"týdně\",Q115*G115*$B$133,IF(F115=\"měsíčně\",Q115*G115*$B$134,IF(F115=\"čtvrtletně\",Q115*G115*4*$B$135,IF(F115=\"ročně\",Q115*G115*$B$135,G115*Q115*$B$135)))))*'Základní údaje'!$H$13*IF(K115=1,'Základní údaje'!$C$12,1)","v":0}]
["buňka student (skladba 2 + 2 s balkónem):\nkomora",4.5,null,99,445.5,"sezonně",1,35,37,1,1,"Typová činnost č.: 3",10,null,16.5,0,0,{"$f":"IF(F116=\"denně\",Q116*G116*$B$132,IF(F116=\"týdně\",Q116*G116*$B$133,IF(F116=\"měsíčně\",Q116*G116*$B$134,IF(F116=\"čtvrtletně\",Q116*G116*4*$B$135,IF(F116=\"ročně\",Q116*G116*$B$135,G116*Q116*$B$135)))))*'Základní údaje'!$H$13*IF(K116=1,'Základní údaje'!$C$12,1)","v":0}]
["buňka student (skladba 2 + 2 s balkónem):\nWC",1.8,null,99,178.20000000000002,"sezonně",1,35,37,1,1,"Typová činnost č.: 11",10,null,16.5,0,0,{"$f":"IF(F117=\"denně\",Q117*G117*$B$132,IF(F117=\"týdně\",Q117*G117*$B$133,IF(F117=\"měsíčně\",Q117*G117*$B$134,IF(F117=\"čtvrtletně\",Q117*G117*4*$B$135,IF(F117=\"ročně\",Q117*G117*$B$135,G117*Q117*$B$135)))))*'Základní údaje'!$H$13*IF(K117=1,'Základní údaje'!$C$12,1)","v":0}]
["buňka student (skladba 2 + 2 s balkónem):\nkoupelna se sprchou",2.2999999999999998,null,99,227.7,"sezonně",1,35,37,1,1,"Typová činnost č.: 12",15,null,24.75,0,0,{"$f":"IF(F118=\"denně\",Q118*G118*$B$132,IF(F118=\"týdně\",Q118*G118*$B$133,IF(F118=\"měsíčně\",Q118*G118*$B$134,IF(F118=\"čtvrtletně\",Q118*G118*4*$B$135,IF(F118=\"ročně\",Q118*G118*$B$135,G118*Q118*$B$135)))))*'Základní údaje'!$H$13*IF(K118=1,'Základní údaje'!$C$12,1)","v":0}]
["buňka student (skladba 2 + 2 s balkónem):\npokoj",13.5,null,198,2673,"sezonně",1,35,37,1,1,"Typová činnost č.: 6",20,null,66,0,0,{"$f":"IF(F119=\"denně\",Q119*G119*$B$132,IF(F119=\"týdně\",Q119*G119*$B$133,IF(F119=\"měsíčně\",Q119*G119*$B$134,IF(F119=\"čtvrtletně\",Q119*G119*4*$B$135,IF(F119=\"ročně\",Q119*G119*$B$135,G119*Q119*$B$135)))))*'Základní údaje'!$H$13*IF(K119=1,'Základní údaje'!$C$12,1)","v":0}]
["buňka student (skladba 2 + 2 s balkónem):\nbalkón",6,null,99,594,"sezonně",1,35,37,1,1,"Typový úklid č.: 2",5,null,8.25,0,0,{"$f":"IF(F120=\"denně\",Q120*G120*$B$132,IF(F120=\"týdně\",Q120*G120*$B$133,IF(F120=\"měsíčně\",Q120*G120*$B$134,IF(F120=\"čtvrtletně\",Q120*G120*4*$B$135,IF(F120=\"ročně\",Q120*G120*$B$135,G120*Q120*$B$135)))))*'Základní údaje'!$H$13*IF(K120=1,'Základní údaje'!$C$12,1)","v":0}]
["buňka student (skladba 2 + 2 s balkónem):\nkuchyňka + vstupní prostory",15,null,99,1485,"sezonně",1,6,17,1,0,"Typová činnost č.: 3 a 5",25,null,41.25,0,0,{"$f":"IF(F121=\"denně\",Q121*G121*$B$132,IF(F121=\"týdně\",Q121*G121*$B$133,IF(F121=\"měsíčně\",Q121*G121*$B$134,IF(F121=\"čtvrtletně\",Q121*G121*4*$B$135,IF(F121=\"ročně\",Q121*G121*$B$135,G121*Q121*$B$135)))))*'Základní údaje'!$H$13*IF(K121=1,'Základní údaje'!$C$12,1)","v":0}]
["buňka student (skladba 2 + 2 s balkónem):\nkomora",4.5,null,99,445.5,"sezonně",1,6,17,1,0,"Typová činnost č.: 3",10,null,16.5,0,0,{"$f":"IF(F122=\"denně\",Q122*G122*$B$132,IF(F122=\"týdně\",Q122*G122*$B$133,IF(F122=\"měsíčně\",Q122*G122*$B$134,IF(F122=\"čtvrtletně\",Q122*G122*4*$B$135,IF(F122=\"ročně\",Q122*G122*$B$135,G122*Q122*$B$135)))))*'Základní údaje'!$H$13*IF(K122=1,'Základní údaje'!$C$12,1)","v":0}]
["buňka student (skladba 2 + 2 s balkónem):\nWC",1.8,null,99,178.20000000000002,"sezonně",1,6,17,1,0,"Typová činnost č.: 11",10,null,16.5,0,0,{"$f":"IF(F123=\"denně\",Q123*G123*$B$132,IF(F123=\"týdně\",Q123*G123*$B$133,IF(F123=\"měsíčně\",Q123*G123*$B$134,IF(F123=\"čtvrtletně\",Q123*G123*4*$B$135,IF(F123=\"ročně\",Q123*G123*$B$135,G123*Q123*$B$135)))))*'Základní údaje'!$H$13*IF(K123=1,'Základní údaje'!$C$12,1)","v":0}]
["buňka student (skladba 2 + 2 s balkónem):\nkoupelna se sprchou",2.2999999999999998,null,99,227.7,"sezonně",1,6,17,1,0,"Typová činnost č.: 12",15,null,24.75,0,0,{"$f":"IF(F124=\"denně\",Q124*G124*$B$132,IF(F124=\"týdně\",Q124*G124*$B$133,IF(F124=\"měsíčně\",Q124*G124*$B$134,IF(F124=\"čtvrtletně\",Q124*G124*4*$B$135,IF(F124=\"ročně\",Q124*G124*$B$135,G124*Q124*$B$135)))))*'Základní údaje'!$H$13*IF(K124=1,'Základní údaje'!$C$12,1)","v":0}]
["buňka student (skladba 2 + 2 s balkónem):\nkuchyňka + vstupní prostory",15,null,99,{"$f":"B125*D125+C125*D125","v":1485},"sezonně",1,40,51,1,0,"Typová činnost č.: 3 a 5",25,null,{"$f":"IF(N125=0,M125*D125/60,N125*D125/60)","v":41.25},0,{"$f":"P125*D125","v":0},{"$f":"IF(F125=\"denně\",Q125*G125*$B$132,IF(F125=\"týdně\",Q125*G125*$B$133,IF(F125=\"měsíčně\",Q125*G125*$B$134,IF(F125=\"čtvrtletně\",Q125*G125*4*$B$135,IF(F125=\"ročně\",Q125*G125*$B$135,G125*Q125*$B$135)))))*'Základní údaje'!$H$13*IF(K125=1,'Základní údaje'!$C$12,1)","v":0}]
["buňka student (skladba 2 + 2 s balkónem):\nkomora",4.5,null,99,445.5,"sezonně",1,40,51,1,0,"Typová činnost č.: 3",10,null,16.5,0,0,{"$f":"IF(F126=\"denně\",Q126*G126*$B$132,IF(F126=\"týdně\",Q126*G126*$B$133,IF(F126=\"měsíčně\",Q126*G126*$B$134,IF(F126=\"čtvrtletně\",Q126*G126*4*$B$135,IF(F126=\"ročně\",Q126*G126*$B$135,G126*Q126*$B$135)))))*'Základní údaje'!$H$13*IF(K126=1,'Základní údaje'!$C$12,1)","v":0}]
["buňka student (skladba 2 + 2 s balkónem):\nWC",1.8,null,99,178.20000000000002,"sezonně",1,40,51,1,0,"Typová činnost č.: 11",10,null,16.5,0,0,{"$f":"IF(F127=\"denně\",Q127*G127*$B$132,IF(F127=\"týdně\",Q127*G127*$B$133,IF(F127=\"měsíčně\",Q127*G127*$B$134,IF(F127=\"čtvrtletně\",Q127*G127*4*$B$135,IF(F127=\"ročně\",Q127*G127*$B$135,G127*Q127*$B$135)))))*'Základní údaje'!$H$13*IF(K127=1,'Základní údaje'!$C$12,1)","v":0}]
["buňka student (skladba 2 + 2 s balkónem):\nkoupelna se sprchou",2.2999999999999998,null,99,{"$f":"B128*D128+C128*D128","v":227.7},"sezonně",1,40,51,1,0,"Typová činnost č.: 12",15,null,{"$f":"IF(N128=0,M128*D128/60,N128*D128/60)","v":24.75},{"$f":"ROUND(IF(N128=0,M128/60*$B$2,N128/60*$B$2),0)","v":0},{"$f":"P128*D128","v":0},{"$f":"IF(F128=\"denně\",Q128*G128*$B$132,IF(F128=\"týdně\",Q128*G128*$B$133,IF(F128=\"měsíčně\",Q128*G128*$B$134,IF(F128=\"čtvrtletně\",Q128*G128*4*$B$135,IF(F128=\"ročně\",Q128*G128*$B$135,G128*Q128*$B$135)))))*'Základní údaje'!$H$13*IF(K128=1,'Základní údaje'!$C$12,1)","v":0}]
["Položení povlečení na postele",null,1,990,990,"sezonně",1,36,36,1,0,"Položit na každou postel povleční polštáře, deky a prostěradla.",1,null,16.5,0,0,{"$f":"IF(F129=\"denně\",Q129*G129*$B$132,IF(F129=\"týdně\",Q129*G129*$B$133,IF(F129=\"měsíčně\",Q129*G129*$B$134,IF(F129=\"čtvrtletně\",Q129*G129*4*$B$135,IF(F129=\"ročně\",Q129*G129*$B$135,G129*Q129*$B$135)))))*'Základní údaje'!$H$13*IF(K129=1,'Základní údaje'!$C$12,1)","v":0}]
["Plocha celkem",{"$f":"SUMPRODUCT(B4:B129,D4:D129)","v":51786.499999999971},"[m²]"]
["Počet kusů celkem",{"$f":"SUMPRODUCT(C4:C129,D4:D129)","v":3083},"[-]"]
["Počet pracovních dnů úklidu:",{"$f":"NETWORKDAYS($C$1,$D$1,$A$142:$A$207)","v":1006},null,null,null,null,null,null,null,null,null,{"$f":"NETWORKDAYS(J132,K132,J133)","v":0}]
["Počet týdnů úklidu:",{"$f":"B135*52","v":208}]
["Počet měsíců úklidu:",{"$f":"B135*12","v":48}]
["Počet let úklidu",{"$f":"TRUNC((D1-C1)/365+0.1,0)","v":4}]
["CENA CELKEM:",{"$f":"ROUND(SUM(R4:R129),0)","v":0},null,null,"[Kč]"]
[]
[]
[]
[]
["svátky:",null,null,null,null,null,"Kritéria"]
["2019-01-01",null,null,null,null,null,{"$f":"$F$3","v":"uklízí se"}]
["2019-04-19",null,null,null,null,null,{"$f":"B142","v":0}]
["2019-04-22"]
["2019-05-01",null,null,null,null,null,{"$f":"$F$3","v":"uklízí se"}]
["2019-05-08",null,null,null,null,null,{"$f":"B143","v":0}]
["2019-07-05"]
["2019-10-28",null,null,null,null,null,{"$f":"$F$3","v":"uklízí se"}]
["2019-12-24",null,null,null,null,null,{"$f":"B144","v":0}]
["2019-12-25"]
["2019-12-26",null,null,null,null,null,{"$f":"$F$3","v":"uklízí se"}]
["2020-01-01",null,null,null,null,null,{"$f":"B145","v":0}]
["2020-04-10"]
["2020-04-13",null,null,null,null,null,{"$f":"$F$3","v":"uklízí se"}]
["2020-05-01",null,null,null,null,null,{"$f":"B146","v":0}]
["2020-05-08"]
["2020-07-06"]
["2020-09-28"]
["2020-10-28"]
["2020-11-17"]
["2020-12-24"]
["2020-12-25"]
["2021-01-01"]
["2021-04-02"]
["2021-04-05"]
["2021-07-05"]
["2021-07-06"]
["2021-09-28"]
["2021-10-28"]
["2021-11-17"]
["2021-12-24"]
["2022-04-15"]
["2022-04-18"]
["2022-07-05"]
["2022-07-06"]
["2022-09-28"]
["2022-10-28"]
["2022-11-17"]
["2022-12-26"]
["2023-04-07"]
["2023-04-10"]
["2023-05-01"]
["2023-05-08"]
["2023-07-05"]
["2023-07-06"]
["2023-09-28"]
["2023-11-17"]
["2023-12-25"]
["2023-12-26"]
["2024-01-01"]
["2024-03-29"]
["2024-04-01"]
["2024-05-01"]
["2024-05-08"]
["2024-07-05"]
["2024-10-28"]
["2024-12-24"]
["2024-12-26"]
["2024-12-26"]
["2025-01-01"]
["2025-04-18"]
["2025-04-21"]
["2025-10-28"]
["2025-11-17"]
["2025-12-24"]
["2025-12-25"]
["2025-12-26"]

{"sheet":"Karty úklidu","index":2,"n_rows":127,"n_cols":8,"rows_kept":127,"cut":false,"hidden":false,"merged":[]}
["V komentáři jsou zkatky pro tisk"]
["Karta úklidu",null,null,{"$f":"'Rozpis úklidu'!$A$1","v":"kolej: Blanice, VŠE"}]
["DENNÍ ÚKLID                       DNE:",{"$f":"NOW()","v":"2020-09-22T14:55:12.410"}]
[{"$f":"'Rozpis úklidu'!$A$3","v":"Úklidová jednotka"},{"$f":"'Rozpis úklidu'!$D$3","v":"počet\núklidových jednotek"},"Doba úklidu\n[hod.]",{"$f":"'Rozpis úklidu'!$L$3","v":"Popis činnosti"},{"$f":"'Rozpis úklidu'!$Q$3","v":"cena celkem za všechny úklidové jednotky \n(prac. dny)\n[Kč]"},"Správně\nuklizené\njednotky","Smluvní pokuta\n[Kč]","Poznámka"]
[{"$f":"'Rozpis úklidu'!A4","v":"Schodiště"},{"$f":"'Rozpis úklidu'!D4","v":31},{"$f":"IF('Rozpis úklidu'!N4=0,'Rozpis úklidu'!M4*B5/60,'Rozpis úklidu'!N4*B5/60)","v":1.0333333333333334},{"$f":"'Rozpis úklidu'!L4","v":"Typová činnost č.: 1"},{"$f":"'Rozpis úklidu'!Q4*(IF(F5<B5,F5/B5,1))","v":0},{"$f":"B5","v":31},{"$f":"IF(F5<B5,(B5-F5)*('Rozpis úklidu'!Q4/B5)*2,0)","v":0}]
[{"$f":"'Rozpis úklidu'!A5","v":"výtah malý"},{"$f":"'Rozpis úklidu'!D5","v":3},{"$f":"IF('Rozpis úklidu'!N5=0,'Rozpis úklidu'!M5*B6/60,'Rozpis úklidu'!N5*B6/60)","v":0.25},{"$f":"'Rozpis úklidu'!L5","v":"zamést, vytřít, umýt stěny, vyleštit zrcadlo, vyluxovat drážku dveří"},{"$f":"'Rozpis úklidu'!Q5*(IF(F6<B6,F6/B6,1))","v":0},{"$f":"B6","v":3},{"$f":"IF(F6<B6,(B6-F6)*('Rozpis úklidu'!Q5/B6)*2,0)","v":0}]
[{"$f":"'Rozpis úklidu'!A6","v":"výtah velký"},{"$f":"'Rozpis úklidu'!D6","v":3},{"$f":"IF('Rozpis úklidu'!N6=0,'Rozpis úklidu'!M6*B7/60,'Rozpis úklidu'!N6*B7/60)","v":0.75},{"$f":"'Rozpis úklidu'!L6","v":"zamést, vytřít, umýt stěny, vyleštit zrcadlo, vyluxovat drážku dveří"},{"$f":"'Rozpis úklidu'!Q6*(IF(F7<B7,F7/B7,1))","v":0},3,{"$f":"IF(F7<B7,(B7-F7)*('Rozpis úklidu'!Q6/B7)*2,0)","v":0}]
[{"$f":"'Rozpis úklidu'!A7","v":"chodba za výtahy"},{"$f":"'Rozpis úklidu'!D7","v":34},{"$f":"IF('Rozpis úklidu'!N7=0,'Rozpis úklidu'!M7*B8/60,'Rozpis úklidu'!N7*B8/60)","v":3.4},{"$f":"'Rozpis úklidu'!L7","v":"Typová činnost č.: 1"},{"$f":"'Rozpis úklidu'!Q7*(IF(F8<B8,F8/B8,1))","v":0},34,{"$f":"IF(F8<B8,(B8-F8)*('Rozpis úklidu'!Q7/B8)*2,0)","v":0}]
[{"$f":"'Rozpis úklidu'!A8","v":"patro chodba "},{"$f":"'Rozpis úklidu'!D8","v":10},{"$f":"IF('Rozpis úklidu'!N8=0,'Rozpis úklidu'!M8*B9/60,'Rozpis úklidu'!N8*B9/60)","v":4.166666666666667},{"$f":"'Rozpis úklidu'!L8","v":"Typová činnost č.: 1"},{"$f":"'Rozpis úklidu'!Q8*(IF(F9<B9,F9/B9,1))","v":0},10,{"$f":"IF(F9<B9,(B9-F9)*('Rozpis úklidu'!Q8/B9)*2,0)","v":0}]
[{"$f":"'Rozpis úklidu'!A9","v":"patro chodba  -  tkz. téčko"},{"$f":"'Rozpis úklidu'!D9","v":11},{"$f":"IF('Rozpis úklidu'!N9=0,'Rozpis úklidu'!M9*B10/60,'Rozpis úklidu'!N9*B10/60)","v":1.2833333333333334},{"$f":"'Rozpis úklidu'!L9","v":"Typová činnost č.: 1"},{"$f":"'Rozpis úklidu'!Q9*(IF(F10<B10,F10/B10,1))","v":0},11,{"$f":"IF(F10<B10,(B10-F10)*('Rozpis úklidu'!Q9/B10)*2,0)","v":0}]
[{"$f":"'Rozpis úklidu'!A10","v":"chodba 1PP"},{"$f":"'Rozpis úklidu'!D10","v":1},{"$f":"IF('Rozpis úklidu'!N10=0,'Rozpis úklidu'!M10*B11/60,'Rozpis úklidu'!N10*B11/60)","v":0.2},{"$f":"'Rozpis úklidu'!L10","v":"Typová činnost č.: 1"},{"$f":"'Rozpis úklidu'!Q10*(IF(F11<B11,F11/B11,1))","v":0},1,{"$f":"IF(F11<B11,(B11-F11)*('Rozpis úklidu'!Q10/B11)*2,0)","v":0}]
[{"$f":"'Rozpis úklidu'!A11","v":" chodba 2PP"},{"$f":"'Rozpis úklidu'!D11","v":1},{"$f":"IF('Rozpis úklidu'!N11=0,'Rozpis úklidu'!M11*B12/60,'Rozpis úklidu'!N11*B12/60)","v":0.05},{"$f":"'Rozpis úklidu'!L11","v":"Typová činnost č.: 1"},{"$f":"'Rozpis úklidu'!Q11*(IF(F12<B12,F12/B12,1))","v":0},1,{"$f":"IF(F12<B12,(B12-F12)*('Rozpis úklidu'!Q11/B12)*2,0)","v":0}]
[{"$f":"'Rozpis úklidu'!A12","v":"studovna + balkon ( 6m2)"},{"$f":"'Rozpis úklidu'!D12","v":15},{"$f":"IF('Rozpis úklidu'!N12=0,'Rozpis úklidu'!M12*B13/60,'Rozpis úklidu'!N12*B13/60)","v":2.5},{"$f":"'Rozpis úklidu'!L12","v":"Typová činnost č.: 2 a 3"},{"$f":"'Rozpis úklidu'!Q12*(IF(F13<B13,F13/B13,1))","v":0},15,{"$f":"IF(F13<B13,(B13-F13)*('Rozpis úklidu'!Q12/B13)*2,0)","v":0}]
[{"$f":"'Rozpis úklidu'!A13","v":"spol. místnost - dataprojektor + balkon ( 6m2)"},{"$f":"'Rozpis úklidu'!D13","v":1},{"$f":"IF('Rozpis úklidu'!N13=0,'Rozpis úklidu'!M13*B14/60,'Rozpis úklidu'!N13*B14/60)","v":0.21666666666666667},{"$f":"'Rozpis úklidu'!L13","v":"Typová činnost č.: 2 a 3"},{"$f":"'Rozpis úklidu'!Q13*(IF(F14<B14,F14/B14,1))","v":0},1,{"$f":"IF(F14<B14,(B14-F14)*('Rozpis úklidu'!Q13/B14)*2,0)","v":0}]
[{"$f":"'Rozpis úklidu'!A14","v":"spol. místnost -  kulečník, piáno + balkon ( 6m2)"},{"$f":"'Rozpis úklidu'!D14","v":1},{"$f":"IF('Rozpis úklidu'!N14=0,'Rozpis úklidu'!M14*B15/60,'Rozpis úklidu'!N14*B15/60)","v":0.21666666666666667},{"$f":"'Rozpis úklidu'!L14","v":"Typová činnost č.: 2 a 3"},{"$f":"'Rozpis úklidu'!Q14*(IF(F15<B15,F15/B15,1))","v":0},1,{"$f":"IF(F15<B15,(B15-F15)*('Rozpis úklidu'!Q14/B15)*2,0)","v":0}]
[{"$f":"'Rozpis úklidu'!A15","v":"spol. místnost - herna (obývák) + balkon ( 6m2)"},{"$f":"'Rozpis úklidu'!D15","v":1},{"$f":"IF('Rozpis úklidu'!N15=0,'Rozpis úklidu'!M15*B16/60,'Rozpis úklidu'!N15*B16/60)","v":0.21666666666666667},{"$f":"'Rozpis úklidu'!L15","v":"Typová činnost č.: 2 a 3"},{"$f":"'Rozpis úklidu'!Q15*(IF(F16<B16,F16/B16,1))","v":0},1,{"$f":"IF(F16<B16,(B16-F16)*('Rozpis úklidu'!Q15/B16)*2,0)","v":0}]
[{"$f":"'Rozpis úklidu'!A16","v":"spol.místnost s kuchyňkou  + balkon ( 6m2)"},{"$f":"'Rozpis úklidu'!D16","v":1},{"$f":"IF('Rozpis úklidu'!N16=0,'Rozpis úklidu'!M16*B17/60,'Rozpis úklidu'!N16*B17/60)","v":0.38333333333333336},{"$f":"'Rozpis úklidu'!L16","v":"Typová činnost č.: 2 a 5"},{"$f":"'Rozpis úklidu'!Q16*(IF(F17<B17,F17/B17,1))","v":0},1,{"$f":"IF(F17<B17,(B17-F17)*('Rozpis úklidu'!Q16/B17)*2,0)","v":0}]
[{"$f":"'Rozpis úklidu'!A17","v":"společná prádelna  (8x pračka + 2x sušička)"},{"$f":"'Rozpis úklidu'!D17","v":1},{"$f":"IF('Rozpis úklidu'!N17=0,'Rozpis úklidu'!M17*B18/60,'Rozpis úklidu'!N17*B18/60)","v":0.75},{"$f":"'Rozpis úklidu'!L17","v":"Typová činnost č.: 5"},{"$f":"'Rozpis úklidu'!Q17*(IF(F18<B18,F18/B18,1))","v":0},1,{"$f":"IF(F18<B18,(B18-F18)*('Rozpis úklidu'!Q17/B18)*2,0)","v":0}]
[{"$f":"'Rozpis úklidu'!A18","v":"tělocvična malá ( tanec) + balkon ( 6m2)"},{"$f":"'Rozpis úklidu'!D18","v":1},{"$f":"IF('Rozpis úklidu'!N18=0,'Rozpis úklidu'!M18*B19/60,'Rozpis úklidu'!N18*B19/60)","v":0.33333333333333331},{"$f":"'Rozpis úklidu'!L18","v":"Typová činnost č.: 2 a 3"},{"$f":"'Rozpis úklidu'!Q18*(IF(F19<B19,F19/B19,1))","v":0},1,{"$f":"IF(F19<B19,(B19-F19)*('Rozpis úklidu'!Q18/B19)*2,0)","v":0}]
[{"$f":"'Rozpis úklidu'!A19","v":"tělocvična velká (aerobic)"},{"$f":"'Rozpis úklidu'!D19","v":1},{"$f":"IF('Rozpis úklidu'!N19=0,'Rozpis úklidu'!M19*B20/60,'Rozpis úklidu'!N19*B20/60)","v":0.65},{"$f":"'Rozpis úklidu'!L19","v":"Typová činnost č.: 3"},{"$f":"'Rozpis úklidu'!Q19*(IF(F20<B20,F20/B20,1))","v":0},1,{"$f":"IF(F20<B20,(B20-F20)*('Rozpis úklidu'!Q19/B20)*2,0)","v":0}]
[{"$f":"'Rozpis úklidu'!A20","v":"tělocvična - stolní tenis"},{"$f":"'Rozpis úklidu'!D20","v":1},{"$f":"IF('Rozpis úklidu'!N20=0,'Rozpis úklidu'!M20*B21/60,'Rozpis úklidu'!N20*B21/60)","v":0.35},{"$f":"'Rozpis úklidu'!L20","v":"Typová činnost č.: 3"},{"$f":"'Rozpis úklidu'!Q20*(IF(F21<B21,F21/B21,1))","v":0},1,{"$f":"IF(F21<B21,(B21-F21)*('Rozpis úklidu'!Q20/B21)*2,0)","v":0}]
[{"$f":"'Rozpis úklidu'!A21","v":"posilovna + balkon ( 6m2)"},{"$f":"'Rozpis úklidu'!D21","v":1},{"$f":"IF('Rozpis úklidu'!N21=0,'Rozpis úklidu'!M21*B22/60,'Rozpis úklidu'!N21*B22/60)","v":1.9},{"$f":"'Rozpis úklidu'!L21","v":"Typová činnost č.: 2 a 3"},{"$f":"'Rozpis úklidu'!Q21*(IF(F22<B22,F22/B22,1))","v":0},1,{"$f":"IF(F22<B22,(B22-F22)*('Rozpis úklidu'!Q21/B22)*2,0)","v":0}]
[{"$f":"'Rozpis úklidu'!A22","v":"WC posilovna"},{"$f":"'Rozpis úklidu'!D22","v":1},{"$f":"IF('Rozpis úklidu'!N22=0,'Rozpis úklidu'!M22*B23/60,'Rozpis úklidu'!N22*B23/60)","v":0.13333333333333333},{"$f":"'Rozpis úklidu'!L22","v":"Typová činnost č.: 11"},{"$f":"'Rozpis úklidu'!Q22*(IF(F23<B23,F23/B23,1))","v":0},1,{"$f":"IF(F23<B23,(B23-F23)*('Rozpis úklidu'!Q22/B23)*2,0)","v":0}]
[{"$f":"'Rozpis úklidu'!A23","v":"kanceláře+balkón ( 6m2)"},{"$f":"'Rozpis úklidu'!D23","v":2},{"$f":"IF('Rozpis úklidu'!N23=0,'Rozpis úklidu'!M23*B24/60,'Rozpis úklidu'!N23*B24/60)","v":0.3},{"$f":"'Rozpis úklidu'!L23","v":"Typová činnost č.: 2 a 3"},{"$f":"'Rozpis úklidu'!Q23*(IF(F24<B24,F24/B24,1))","v":0},2,{"$f":"IF(F24<B24,(B24-F24)*('Rozpis úklidu'!Q23/B24)*2,0)","v":0}]
[{"$f":"'Rozpis úklidu'!A24","v":"prostor před hlavním vchodem + schodiště"},{"$f":"'Rozpis úklidu'!D24","v":1},{"$f":"IF('Rozpis úklidu'!N24=0,'Rozpis úklidu'!M24*B25/60,'Rozpis úklidu'!N24*B25/60)","v":0.16666666666666666},{"$f":"'Rozpis úklidu'!L24","v":"zamést, pouze při nadměrném znečištění vytřít, vynést odpad"},{"$f":"'Rozpis úklidu'!Q24*(IF(F25<B25,F25/B25,1))","v":0},1,{"$f":"IF(F25<B25,(B25-F25)*('Rozpis úklidu'!Q24/B25)*2,0)","v":0}]
[{"$f":"'Rozpis úklidu'!A25","v":"zádveří - hlavní vchod"},{"$f":"'Rozpis úklidu'!D25","v":1},{"$f":"IF('Rozpis úklidu'!N25=0,'Rozpis úklidu'!M25*B26/60,'Rozpis úklidu'!N25*B26/60)","v":0.1},{"$f":"'Rozpis úklidu'!L25","v":"zamést, pouze při nadměrném znečištění vytřít, vyluxovat rohože, umýt rámy a vyleštit skleněné  plochy ( dveře, portály)"},{"$f":"'Rozpis úklidu'!Q25*(IF(F26<B26,F26/B26,1))","v":0},1,{"$f":"IF(F26<B26,(B26-F26)*('Rozpis úklidu'!Q25/B26)*2,0)","v":0}]
[{"$f":"'Rozpis úklidu'!A26","v":"Hala před recepcí"},{"$f":"'Rozpis úklidu'!D26","v":1},{"$f":"IF('Rozpis úklidu'!N26=0,'Rozpis úklidu'!M26*B27/60,'Rozpis úklidu'!N26*B27/60)","v":0.91666666666666663},{"$f":"'Rozpis úklidu'!L26","v":"Typová činnost č.: 1"},{"$f":"'Rozpis úklidu'!Q26*(IF(F27<B27,F27/B27,1))","v":0},1,{"$f":"IF(F27<B27,(B27-F27)*('Rozpis úklidu'!Q26/B27)*2,0)","v":0}]
[{"$f":"'Rozpis úklidu'!A27","v":"recepce"},{"$f":"'Rozpis úklidu'!D27","v":1},{"$f":"IF('Rozpis úklidu'!N27=0,'Rozpis úklidu'!M27*B28/60,'Rozpis úklidu'!N27*B28/60)","v":8.3333333333333329E-2},{"$f":"'Rozpis úklidu'!L27","v":"Typová činnost č.: 3"},{"$f":"'Rozpis úklidu'!Q27*(IF(F28<B28,F28/B28,1))","v":0},1,{"$f":"IF(F28<B28,(B28-F28)*('Rozpis úklidu'!Q27/B28)*2,0)","v":0}]
[{"$f":"'Rozpis úklidu'!A28","v":"zázemí recepce ( šatna + WC)"},{"$f":"'Rozpis úklidu'!D28","v":1},{"$f":"IF('Rozpis úklidu'!N28=0,'Rozpis úklidu'!M28*B29/60,'Rozpis úklidu'!N28*B29/60)","v":0.16666666666666666},{"$f":"'Rozpis úklidu'!L28","v":"Typová činnost č.: 3 a 11"},{"$f":"'Rozpis úklidu'!Q28*(IF(F29<B29,F29/B29,1))","v":0},1,{"$f":"IF(F29<B29,(B29-F29)*('Rozpis úklidu'!Q28/B29)*2,0)","v":0}]
[{"$f":"'Rozpis úklidu'!A29","v":"WC pro veřejnost"},{"$f":"'Rozpis úklidu'!D29","v":1},{"$f":"IF('Rozpis úklidu'!N29=0,'Rozpis úklidu'!M29*B30/60,'Rozpis úklidu'!N29*B30/60)","v":0.13333333333333333},{"$f":"'Rozpis úklidu'!L29","v":"Typová činnost č.: 11"},{"$f":"'Rozpis úklidu'!Q29*(IF(F30<B30,F30/B30,1))","v":0},1,{"$f":"IF(F30<B30,(B30-F30)*('Rozpis úklidu'!Q29/B30)*2,0)","v":0}]
[{"$f":"'Rozpis úklidu'!A30","v":"chodba ( krček)"},{"$f":"'Rozpis úklidu'!D30","v":1},{"$f":"IF('Rozpis úklidu'!N30=0,'Rozpis úklidu'!M30*B31/60,'Rozpis úklidu'!N30*B31/60)","v":0.38333333333333336},{"$f":"'Rozpis úklidu'!L30","v":"Typová činnost č.: 1 a zalití květin"},{"$f":"'Rozpis úklidu'!Q30*(IF(F31<B31,F31/B31,1))","v":0},1,{"$f":"IF(F31<B31,(B31-F31)*('Rozpis úklidu'!Q30/B31)*2,0)","v":0}]
[{"$f":"'Rozpis úklidu'!A31","v":"WC - úklidu"},{"$f":"'Rozpis úklidu'!D31","v":1},{"$f":"IF('Rozpis úklidu'!N31=0,'Rozpis úklidu'!M31*B32/60,'Rozpis úklidu'!N31*B32/60)","v":0.13333333333333333},{"$f":"'Rozpis úklidu'!L31","v":"Typová činnost č.: 11"},{"$f":"'Rozpis úklidu'!Q31*(IF(F32<B32,F32/B32,1))","v":0},1,{"$f":"IF(F32<B32,(B32-F32)*('Rozpis úklidu'!Q31/B32)*2,0)","v":0}]
["Úklidová pohotovost + Operativní úklidové práce dle požadavku vedoucí koleje",{"$f":"'Základní údaje'!B11","v":0},null,null,{"$f":"B33/60*F33","v":0},null,0]
[null,"Celkem hodin:",{"$f":"SUM(C5:C32)","v":21.166666666666671},"K FAKTURACI CELKEM:",{"$f":"SUM(E5:E33)","v":0},null,{"$f":"SUM(G5:G33)","v":0}]
["Podpis vedoucí směny:",null,null,"Podpis zástupce vedení koleje:"]
[]
["Karta úklidu",null,null,{"$f":"'Rozpis úklidu'!$A$1","v":"kolej: Blanice, VŠE"}]
["TÝDENNÍ ÚKLID                 TÝDEN:",{"$f":"WEEKNUM(TODAY(),1)","v":39},null,{"$f":"(NOW())","v":"2020-09-22T14:55:12.410"}]
[{"$f":"'Rozpis úklidu'!$A$3","v":"Úklidová jednotka"},{"$f":"'Rozpis úklidu'!$D$3","v":"počet\núklidových jednotek"},{"$f":"$C$4","v":"Doba úklidu\n[hod.]"},{"$f":"'Rozpis úklidu'!$L$3","v":"Popis činnosti"},{"$f":"'Rozpis úklidu'!$Q$3","v":"cena celkem za všechny úklidové jednotky \n(prac. dny)\n[Kč]"},"Správně\nuklizené\njednotky","Smluvní pokuta\n[Kč]","Poznámka"]
[{"$f":"'Rozpis úklidu'!A32","v":"schodiště na střechu"},{"$f":"'Rozpis úklidu'!D32","v":3},{"$f":"IF('Rozpis úklidu'!N32=0,'Rozpis úklidu'!M32*B40/60,'Rozpis úklidu'!N32*B40/60)","v":0.25},{"$f":"'Rozpis úklidu'!L32","v":"zamést, vytřít, setřít prach"},{"$f":"'Rozpis úklidu'!Q32*(IF(F40<B40,F40/B40,1))","v":0},{"$f":"B40","v":3},{"$f":"IF(F40<B40,(B40-F40)*('Rozpis úklidu'!Q32/B40)*2,0)","v":0}]
[{"$f":"'Rozpis úklidu'!A33","v":"zábradlí na střechu"},{"$f":"'Rozpis úklidu'!D33","v":3},{"$f":"IF('Rozpis úklidu'!N33=0,'Rozpis úklidu'!M33*B41/60,'Rozpis úklidu'!N33*B41/60)","v":0.15},{"$f":"'Rozpis úklidu'!L33","v":"umýt"},{"$f":"'Rozpis úklidu'!Q33*(IF(F41<B41,F41/B41,1))","v":0},{"$f":"B41","v":3},{"$f":"IF(F41<B41,(B41-F41)*('Rozpis úklidu'!Q33/B41)*2,0)","v":0}]
[{"$f":"'Rozpis úklidu'!A34","v":"zábradlí - schodiště"},{"$f":"'Rozpis úklidu'!D34","v":62},{"$f":"IF('Rozpis úklidu'!N34=0,'Rozpis úklidu'!M34*B42/60,'Rozpis úklidu'!N34*B42/60)","v":3.1},{"$f":"'Rozpis úklidu'!L34","v":"Typová činnost č.: 1"},{"$f":"'Rozpis úklidu'!Q34*(IF(F42<B42,F42/B42,1))","v":0},62,{"$f":"IF(F42<B42,(B42-F42)*('Rozpis úklidu'!Q34/B42)*2,0)","v":0}]
[{"$f":"'Rozpis úklidu'!A35","v":"zábradlí - chodba za výtahy"},{"$f":"'Rozpis úklidu'!D35","v":31},{"$f":"IF('Rozpis úklidu'!N35=0,'Rozpis úklidu'!M35*B43/60,'Rozpis úklidu'!N35*B43/60)","v":1.55},{"$f":"'Rozpis úklidu'!L35","v":"Typová činnost č.: 1"},{"$f":"'Rozpis úklidu'!Q35*(IF(F43<B43,F43/B43,1))","v":0},31,{"$f":"IF(F43<B43,(B43-F43)*('Rozpis úklidu'!Q35/B43)*2,0)","v":0}]
[{"$f":"'Rozpis úklidu'!A36","v":"místnost úklízeček a úklid.prost."},{"$f":"'Rozpis úklidu'!D36","v":2},{"$f":"IF('Rozpis úklidu'!N36=0,'Rozpis úklidu'!M36*B44/60,'Rozpis úklidu'!N36*B44/60)","v":0.33333333333333331},{"$f":"'Rozpis úklidu'!L36","v":"Typová činnost č.: 3"},{"$f":"'Rozpis úklidu'!Q36*(IF(F44<B44,F44/B44,1))","v":0},2,{"$f":"IF(F44<B44,(B44-F44)*('Rozpis úklidu'!Q36/B44)*2,0)","v":0}]
[null,"Celkem hodin\nprům. za den",{"$f":"SUM(C40:C44)/5","v":1.0766666666666667},"K FAKTURACI CELKEM:",{"$f":"SUM(E40:E44)","v":0},null,{"$f":"SUM(G40:G44)","v":0}]
["Podpis vedoucí směny:",null,null,"Podpis zástupce vedení koleje:"]
[]
["Karta úklidu",null,null,{"$f":"'Rozpis úklidu'!$A$1","v":"kolej: Blanice, VŠE"}]
["MĚSÍČNÍ ÚKLID                 MĚSÍC:",{"$f":"MONTH(D49)","v":9},null,{"$f":"NOW()","v":"2020-09-22T14:55:12.410"}]
[{"$f":"'Rozpis úklidu'!$A$3","v":"Úklidová jednotka"},{"$f":"'Rozpis úklidu'!$D$3","v":"počet\núklidových jednotek"},{"$f":"$C$4","v":"Doba úklidu\n[hod.]"},{"$f":"'Rozpis úklidu'!$L$3","v":"Popis činnosti"},{"$f":"'Rozpis úklidu'!$Q$3","v":"cena celkem za všechny úklidové jednotky \n(prac. dny)\n[Kč]"},"Správně\nuklizené\njednotky","Smluvní pokuta\n[Kč]","Poznámka"]
[{"$f":"CONCATENATE('Rozpis úklidu'!A37,\" / \",'Rozpis úklidu'!F37)","v":"radiátory ÚT - chodba patro + chodba schodiště ( 17 článků ÚT) / měsíčně"},{"$f":"'Rozpis úklidu'!D37","v":78},{"$f":"IF('Rozpis úklidu'!N37=0,'Rozpis úklidu'!M37*B51/60,'Rozpis úklidu'!N37*B51/60)","v":10.4},{"$f":"'Rozpis úklidu'!L37","v":"umýt"},{"$f":"'Rozpis úklidu'!Q37*(IF(F51<B51,F51/B51,1))","v":0},{"$f":"B51","v":78},{"$f":"IF(F51<B51,(B51-F51)*('Rozpis úklidu'!Q37/B51)*2,0)","v":0}]
[{"$f":"CONCATENATE('Rozpis úklidu'!A38,\" / \",'Rozpis úklidu'!F38)","v":"skleněné plochy +  portálové dveře ( oboustranně) / měsíčně"},{"$f":"'Rozpis úklidu'!D38","v":35},{"$f":"IF('Rozpis úklidu'!N38=0,'Rozpis úklidu'!M38*B52/60,'Rozpis úklidu'!N38*B52/60)","v":2.9166666666666665},{"$f":"'Rozpis úklidu'!L38","v":"umýt a vyleštit"},{"$f":"'Rozpis úklidu'!Q38*(IF(F52<B52,F52/B52,1))","v":0},{"$f":"B52","v":35},{"$f":"IF(F52<B52,(B52-F52)*('Rozpis úklidu'!Q38/B52)*2,0)","v":0}]
[{"$f":"CONCATENATE('Rozpis úklidu'!A39,\" / \",'Rozpis úklidu'!F39)","v":"skleněné chodbové spojovací dveře ( oboustraně) / měsíčně"},{"$f":"'Rozpis úklidu'!D39","v":73},{"$f":"IF('Rozpis úklidu'!N39=0,'Rozpis úklidu'!M39*B53/60,'Rozpis úklidu'!N39*B53/60)","v":2.4333333333333331},{"$f":"'Rozpis úklidu'!L39","v":"umýt a vyleštit"},{"$f":"'Rozpis úklidu'!Q39*(IF(F53<B53,F53/B53,1))","v":0},73,{"$f":"IF(F53<B53,(B53-F53)*('Rozpis úklidu'!Q39/B53)*2,0)","v":0}]
[{"$f":"CONCATENATE('Rozpis úklidu'!A40,\" / \",'Rozpis úklidu'!F40)","v":"buňka (skladba 2 + 3 s balkónem):\nkuchyňka + vstupní prostory / měsíčně"},{"$f":"'Rozpis úklidu'!D40","v":1},{"$f":"IF('Rozpis úklidu'!N40=0,'Rozpis úklidu'!M40*B54/60,'Rozpis úklidu'!N40*B54/60)","v":0.41666666666666669},{"$f":"'Rozpis úklidu'!L40","v":"Typová činnost č.: 3 a 5"},{"$f":"'Rozpis úklidu'!Q40*(IF(F54<B54,F54/B54,1))","v":0},1,{"$f":"IF(F54<B54,(B54-F54)*('Rozpis úklidu'!Q40/B54)*2,0)","v":0}]
[{"$f":"CONCATENATE('Rozpis úklidu'!A41,\" / \",'Rozpis úklidu'!F41)","v":"buňka (skladba 2 + 3 s balkónem):\nWC / měsíčně"},{"$f":"'Rozpis úklidu'!D41","v":1},{"$f":"IF('Rozpis úklidu'!N41=0,'Rozpis úklidu'!M41*B55/60,'Rozpis úklidu'!N41*B55/60)","v":0.16666666666666666},{"$f":"'Rozpis úklidu'!L41","v":"Typová činnost č.: 11"},{"$f":"'Rozpis úklidu'!Q41*(IF(F55<B55,F55/B55,1))","v":0},1,{"$f":"IF(F55<B55,(B55-F55)*('Rozpis úklidu'!Q41/B55)*2,0)","v":0}]
[{"$f":"CONCATENATE('Rozpis úklidu'!A42,\" / \",'Rozpis úklidu'!F42)","v":"buňka (skladba 2 + 3 s balkónem):\nkoupelna se sprchou / měsíčně"},{"$f":"'Rozpis úklidu'!D42","v":1},{"$f":"IF('Rozpis úklidu'!N42=0,'Rozpis úklidu'!M42*B56/60,'Rozpis úklidu'!N42*B56/60)","v":0.16666666666666666},{"$f":"'Rozpis úklidu'!L42","v":"Typová činnost č.: 12"},{"$f":"'Rozpis úklidu'!Q42*(IF(F56<B56,F56/B56,1))","v":0},1,{"$f":"IF(F56<B56,(B56-F56)*('Rozpis úklidu'!Q42/B56)*2,0)","v":0}]
[{"$f":"CONCATENATE('Rozpis úklidu'!A43,\" / \",'Rozpis úklidu'!F43)","v":"buňka (skladba 2 + 3 s balkónem):\ndvoulůžkový pokoj / měsíčně"},{"$f":"'Rozpis úklidu'!D43","v":1},{"$f":"IF('Rozpis úklidu'!N43=0,'Rozpis úklidu'!M43*B57/60,'Rozpis úklidu'!N43*B57/60)","v":0.25},{"$f":"'Rozpis úklidu'!L43","v":"Typová činnost č.: 2 a 8"},{"$f":"'Rozpis úklidu'!Q43*(IF(F57<B57,F57/B57,1))","v":0},{"$f":"B57","v":1},{"$f":"IF(F57<B57,(B57-F57)*('Rozpis úklidu'!Q43/B57)*2,0)","v":0}]
[{"$f":"CONCATENATE('Rozpis úklidu'!A44,\" / \",'Rozpis úklidu'!F44)","v":"buňka (skladba 2 + 3 s balkónem):\ntřílůžkový pokoj / měsíčně"},{"$f":"'Rozpis úklidu'!D44","v":1},{"$f":"IF('Rozpis úklidu'!N44=0,'Rozpis úklidu'!M44*B58/60,'Rozpis úklidu'!N44*B58/60)","v":0.33333333333333331},{"$f":"'Rozpis úklidu'!L44","v":"Typová činnost č.: 2 a 8"},{"$f":"'Rozpis úklidu'!Q44*(IF(F58<B58,F58/B58,1))","v":0},1,{"$f":"IF(F58<B58,(B58-F58)*('Rozpis úklidu'!Q44/B58)*2,0)","v":0}]
[{"$f":"CONCATENATE('Rozpis úklidu'!A45,\" / \",'Rozpis úklidu'!F45,\" (\",'Rozpis úklidu'!D45,\")\")","v":"emailové nátěry - schodiště / čtvrtletně (31)"},0,{"$f":"IF('Rozpis úklidu'!N45=0,'Rozpis úklidu'!M45*B59/60,'Rozpis úklidu'!N45*B59/60)","v":0},{"$f":"'Rozpis úklidu'!L45","v":"umýt"},{"$f":"IF(B59>0,'Rozpis úklidu'!P45*F59,0)","v":0},0,{"$f":"IF(F59<B59,(B59-F59)*'Rozpis úklidu'!P45*2,0)","v":0}]
[{"$f":"CONCATENATE('Rozpis úklidu'!A46,\" / \",'Rozpis úklidu'!F46,\" (\",'Rozpis úklidu'!D46,\")\")","v":"emailové nátěry - chodba za výtahy / čtvrtletně (34)"},0,{"$f":"IF('Rozpis úklidu'!N46=0,'Rozpis úklidu'!M46*B60/60,'Rozpis úklidu'!N46*B60/60)","v":0},{"$f":"'Rozpis úklidu'!L46","v":"umýt"},{"$f":"IF(B60>0,'Rozpis úklidu'!P46*F60,0)","v":0},0,{"$f":"IF(F60<B60,(B60-F60)*'Rozpis úklidu'!P46*2,0)","v":0}]
[{"$f":"CONCATENATE('Rozpis úklidu'!A47,\" / \",'Rozpis úklidu'!F47,\" (\",'Rozpis úklidu'!D47,\")\")","v":"emailové nátěry - patro chodba / čtvrtletně (10)"},0,{"$f":"IF('Rozpis úklidu'!N47=0,'Rozpis úklidu'!M47*B61/60,'Rozpis úklidu'!N47*B61/60)","v":0},{"$f":"'Rozpis úklidu'!L47","v":"umýt"},{"$f":"IF(B61>0,'Rozpis úklidu'!P47*F61,0)","v":0},0,{"$f":"IF(F61<B61,(B61-F61)*'Rozpis úklidu'!P47*2,0)","v":0}]
[{"$f":"CONCATENATE('Rozpis úklidu'!A48,\" / \",'Rozpis úklidu'!F48,\" (\",'Rozpis úklidu'!D48,\")\")","v":"emailové nátěry - patro chodba téčko / čtvrtletně (11)"},0,{"$f":"IF('Rozpis úklidu'!N48=0,'Rozpis úklidu'!M48*B62/60,'Rozpis úklidu'!N48*B62/60)","v":0},{"$f":"'Rozpis úklidu'!L48","v":"umýt"},{"$f":"IF(B62>0,'Rozpis úklidu'!P48*F62,0)","v":0},0,{"$f":"IF(F62<B62,(B62-F62)*'Rozpis úklidu'!P48*2,0)","v":0}]
[{"$f":"CONCATENATE('Rozpis úklidu'!A49,\" / \",'Rozpis úklidu'!F49,\" (\",'Rozpis úklidu'!D49,\")\")","v":"emailové nátěry -  chodba 1PP / čtvrtletně (1)"},0,{"$f":"IF('Rozpis úklidu'!N49=0,'Rozpis úklidu'!M49*B63/60,'Rozpis úklidu'!N49*B63/60)","v":0},{"$f":"'Rozpis úklidu'!L49","v":"umýt"},{"$f":"IF(B63>0,'Rozpis úklidu'!P49*F63,0)","v":0},0,{"$f":"IF(F63<B63,(B63-F63)*'Rozpis úklidu'!P49*2,0)","v":0}]
[{"$f":"CONCATENATE('Rozpis úklidu'!A50,\" / \",'Rozpis úklidu'!F50,\" (\",'Rozpis úklidu'!D50,\")\")","v":"emailové nátěry - chodba 2PP / čtvrtletně (1)"},0,{"$f":"IF('Rozpis úklidu'!N50=0,'Rozpis úklidu'!M50*B64/60,'Rozpis úklidu'!N50*B64/60)","v":0},{"$f":"'Rozpis úklidu'!L50","v":"umýt"},{"$f":"IF(B64>0,'Rozpis úklidu'!P50*F64,0)","v":0},0,{"$f":"IF(F64<B64,(B64-F64)*'Rozpis úklidu'!P50*2,0)","v":0}]
[{"$f":"CONCATENATE('Rozpis úklidu'!A51,\" / \",'Rozpis úklidu'!F51,\" (\",'Rozpis úklidu'!D51,\")\")","v":"prázdninový sklad + balkon ( 6m2) / ročně (1)"},0,{"$f":"IF('Rozpis úklidu'!N51=0,'Rozpis úklidu'!M51*B65/60,'Rozpis úklidu'!N51*B65/60)","v":0},{"$f":"'Rozpis úklidu'!L51","v":"Typová činnost č.: 2 a 3"},{"$f":"IF(B65>0,'Rozpis úklidu'!P51*F65,0)","v":0},0,{"$f":"IF(F65<B65,(B65-F65)*'Rozpis úklidu'!P51*2,0)","v":0}]
[{"$f":"CONCATENATE('Rozpis úklidu'!A52,\" / \",'Rozpis úklidu'!F52,\" (\",'Rozpis úklidu'!D52,\")\")","v":"kolárna / ročně (1)"},0,{"$f":"IF('Rozpis úklidu'!N52=0,'Rozpis úklidu'!M52*B66/60,'Rozpis úklidu'!N52*B66/60)","v":0},{"$f":"'Rozpis úklidu'!L52","v":"Typová činnost č.: 3"},{"$f":"IF(B66>0,'Rozpis úklidu'!P52*F66,0)","v":0},0,{"$f":"IF(F66<B66,(B66-F66)*'Rozpis úklidu'!P52*2,0)","v":0}]
[{"$f":"CONCATENATE('Rozpis úklidu'!A53,\" / \",'Rozpis úklidu'!F53,\" (\",'Rozpis úklidu'!D53,\")\")","v":"Okna velká / ročně (779)"},0,{"$f":"IF('Rozpis úklidu'!N53=0,'Rozpis úklidu'!M53*B67/60,'Rozpis úklidu'!N53*B67/60)","v":0},{"$f":"'Rozpis úklidu'!L53","v":"umýt skla, rámy, parapety; vyleštit skla"},{"$f":"IF(B67>0,'Rozpis úklidu'!P53*F67,0)","v":0},0,{"$f":"IF(F67<B67,(B67-F67)*'Rozpis úklidu'!P53*2,0)","v":0}]
[{"$f":"CONCATENATE('Rozpis úklidu'!A54,\" / \",'Rozpis úklidu'!F54,\" (\",'Rozpis úklidu'!D54,\")\")","v":"Okna malá / ročně (357)"},0,{"$f":"IF('Rozpis úklidu'!N54=0,'Rozpis úklidu'!M54*B68/60,'Rozpis úklidu'!N54*B68/60)","v":0},{"$f":"'Rozpis úklidu'!L54","v":"umýt skla, rámy, parapety; vyleštit skla"},{"$f":"IF(B68>0,'Rozpis úklidu'!P54*F68,0)","v":0},0,{"$f":"IF(F68<B68,(B68-F68)*'Rozpis úklidu'!P54*2,0)","v":0}]
[{"$f":"CONCATENATE('Rozpis úklidu'!A55,\" / \",'Rozpis úklidu'!F55,\" (\",'Rozpis úklidu'!D55,\")\")","v":"Okna - balkonové dveře / ročně (253)"},0,{"$f":"IF('Rozpis úklidu'!N55=0,'Rozpis úklidu'!M55*B69/60,'Rozpis úklidu'!N55*B69/60)","v":0},{"$f":"'Rozpis úklidu'!L55","v":"umýt skla, rámy, parapety; vyleštit skla"},{"$f":"IF(B69>0,'Rozpis úklidu'!P55*F69,0)","v":0},0,{"$f":"IF(F69<B69,(B69-F69)*'Rozpis úklidu'!P55*2,0)","v":0}]
[null,"Celkem hodin\nprům. za den",{"$f":"SUM(C51:C69)/21","v":0.8134920634920636},"K FAKTURACI CELKEM:",{"$f":"SUM(E51:E69)","v":0},null,{"$f":"SUM(G51:G69)","v":0}]
["Podpis vedoucí směny:",null,null,"Podpis zástupce vedení koleje:"]
[]
["Karta úklidu",null,null,{"$f":"'Rozpis úklidu'!$A$1","v":"kolej: Blanice, VŠE"}]
["SEZONNÍ ÚKLID                 MĚSÍC:",{"$f":"MONTH(D74)","v":9},null,{"$f":"(NOW())","v":"2020-09-22T14:55:12.410"}]
[{"$f":"'Rozpis úklidu'!$A$3","v":"Úklidová jednotka"},{"$f":"'Rozpis úklidu'!$D$3","v":"počet\núklidových jednotek"},{"$f":"$C$4","v":"Doba úklidu\n[hod.]"},{"$f":"'Rozpis úklidu'!$L$3","v":"Popis činnosti"},{"$f":"'Rozpis úklidu'!$Q$3","v":"cena celkem za všechny úklidové jednotky \n(prac. dny)\n[Kč]"},"Správně\nuklizené\njednotky","Smluvní pokuta\n[Kč]","Poznámka"]
[{"$f":"CONCATENATE('Rozpis úklidu'!A56,\" / \",'Rozpis úklidu'!F56,\" (\",'Rozpis úklidu'!D56,\")\")","v":"přebrání pokoje po ubytovaných / sezonně (520)"},0,{"$f":"IF('Rozpis úklidu'!N56=0,'Rozpis úklidu'!M56*B76/60,'Rozpis úklidu'!N56*B76/60)","v":0},{"$f":"'Rozpis úklidu'!L56","v":"Typová činnost č.: 10"},{"$f":"IF(B76>0,'Rozpis úklidu'!P56*F76,0)","v":0},0,{"$f":"IF(F76<B76,(B76-F76)*'Rozpis úklidu'!P56*2,0)","v":0}]
[{"$f":"CONCATENATE('Rozpis úklidu'!A57,\" / \",'Rozpis úklidu'!F57,\" (\",'Rozpis úklidu'!D57,\")\")","v":"buňka pro ZTP studenty:\nkuchyňka  / sezonně (2)"},0,{"$f":"IF('Rozpis úklidu'!N57=0,'Rozpis úklidu'!M57*B77/60,'Rozpis úklidu'!N57*B77/60)","v":0},{"$f":"'Rozpis úklidu'!L57","v":"Typová činnost č.: 5"},{"$f":"IF(B77>0,'Rozpis úklidu'!P57*F77,0)","v":0},0,{"$f":"IF(F77<B77,(B77-F77)*'Rozpis úklidu'!P57*2,0)","v":0}]
[{"$f":"CONCATENATE('Rozpis úklidu'!A58,\" / \",'Rozpis úklidu'!F58,\" (\",'Rozpis úklidu'!D58,\")\")","v":"buňka pro ZTP studenty:\nvstupní prostory / sezonně (1)"},0,{"$f":"IF('Rozpis úklidu'!N58=0,'Rozpis úklidu'!M58*B78/60,'Rozpis úklidu'!N58*B78/60)","v":0},{"$f":"'Rozpis úklidu'!L58","v":"Typová činnost č.: 1"},{"$f":"IF(B78>0,'Rozpis úklidu'!P58*F78,0)","v":0},0,{"$f":"IF(F78<B78,(B78-F78)*'Rozpis úklidu'!P58*2,0)","v":0}]
[{"$f":"CONCATENATE('Rozpis úklidu'!A59,\" / \",'Rozpis úklidu'!F59,\" (\",'Rozpis úklidu'!D59,\")\")","v":"buňka pro ZTP studenty:\nsociální zařízení / sezonně (1)"},0,{"$f":"IF('Rozpis úklidu'!N59=0,'Rozpis úklidu'!M59*B79/60,'Rozpis úklidu'!N59*B79/60)","v":0},{"$f":"'Rozpis úklidu'!L59","v":"Typová činnost č.: 11 a 12"},{"$f":"IF(B79>0,'Rozpis úklidu'!P59*F79,0)","v":0},0,{"$f":"IF(F79<B79,(B79-F79)*'Rozpis úklidu'!P59*2,0)","v":0}]
[{"$f":"CONCATENATE('Rozpis úklidu'!A60,\" / \",'Rozpis úklidu'!F60,\" (\",'Rozpis úklidu'!D60,\")\")","v":"buňka pro ZTP studenty:\npokoj / sezonně (4)"},0,{"$f":"IF('Rozpis úklidu'!N60=0,'Rozpis úklidu'!M60*B80/60,'Rozpis úklidu'!N60*B80/60)","v":0},{"$f":"'Rozpis úklidu'!L60","v":"Typová činnost č.: 6"},{"$f":"IF(B80>0,'Rozpis úklidu'!P60*F80,0)","v":0},0,{"$f":"IF(F80<B80,(B80-F80)*'Rozpis úklidu'!P60*2,0)","v":0}]
[{"$f":"CONCATENATE('Rozpis úklidu'!A71,\" / \",'Rozpis úklidu'!F71,\" (\",'Rozpis úklidu'!D71,\")\")","v":"buňka student (skladba 1 + 2):\nkuchyňka + vstupní prostory / sezonně (65)"},0,{"$f":"IF('Rozpis úklidu'!N71=0,'Rozpis úklidu'!M71*B81/60,'Rozpis úklidu'!N71*B81/60)","v":0},{"$f":"'Rozpis úklidu'!L71","v":"Typová činnost č.: 3 a 5"},{"$f":"IF(B81>0,'Rozpis úklidu'!P71*F81,0)","v":0},0,{"$f":"IF(F81<B81,(B81-F81)*'Rozpis úklidu'!P71*2,0)","v":0}]
[{"$f":"CONCATENATE('Rozpis úklidu'!A72,\" / \",'Rozpis úklidu'!F72,\" (\",'Rozpis úklidu'!D72,\")\")","v":"buňka student (skladba 1 + 2):\nkomora / sezonně (65)"},0,{"$f":"IF('Rozpis úklidu'!N72=0,'Rozpis úklidu'!M72*B82/60,'Rozpis úklidu'!N72*B82/60)","v":0},{"$f":"'Rozpis úklidu'!L72","v":"Typová činnost č.: 3"},{"$f":"IF(B82>0,'Rozpis úklidu'!P72*F82,0)","v":0},0,{"$f":"IF(F82<B82,(B82-F82)*'Rozpis úklidu'!P72*2,0)","v":0}]
[{"$f":"CONCATENATE('Rozpis úklidu'!A73,\" / \",'Rozpis úklidu'!F73,\" (\",'Rozpis úklidu'!D73,\")\")","v":"buňka student (skladba 1 + 2):\nWC / sezonně (65)"},0,{"$f":"IF('Rozpis úklidu'!N73=0,'Rozpis úklidu'!M73*B83/60,'Rozpis úklidu'!N73*B83/60)","v":0},{"$f":"'Rozpis úklidu'!L73","v":"Typová činnost č.: 11"},{"$f":"IF(B83>0,'Rozpis úklidu'!P73*F83,0)","v":0},0,{"$f":"IF(F83<B83,(B83-F83)*'Rozpis úklidu'!P73*2,0)","v":0}]
[{"$f":"CONCATENATE('Rozpis úklidu'!A74,\" / \",'Rozpis úklidu'!F74,\" (\",'Rozpis úklidu'!D74,\")\")","v":"buňka student (skladba 1 + 2):\nkoupelna se sprchou / sezonně (65)"},0,{"$f":"IF('Rozpis úklidu'!N74=0,'Rozpis úklidu'!M74*B84/60,'Rozpis úklidu'!N74*B84/60)","v":0},{"$f":"'Rozpis úklidu'!L74","v":"Typová činnost č.: 12"},{"$f":"IF(B84>0,'Rozpis úklidu'!P74*F84,0)","v":0},0,{"$f":"IF(F84<B84,(B84-F84)*'Rozpis úklidu'!P74*2,0)","v":0}]
[{"$f":"CONCATENATE('Rozpis úklidu'!A75,\" / \",'Rozpis úklidu'!F75,\" (\",'Rozpis úklidu'!D75,\")\")","v":"buňka student (skladba 1 + 2):\njednolůžkový pokoj / sezonně (65)"},0,{"$f":"IF('Rozpis úklidu'!N75=0,'Rozpis úklidu'!M75*B85/60,'Rozpis úklidu'!N75*B85/60)","v":0},{"$f":"'Rozpis úklidu'!L75","v":"Typová činnost č.: 6"},{"$f":"IF(B85>0,'Rozpis úklidu'!P75*F85,0)","v":0},0,{"$f":"IF(F85<B85,(B85-F85)*'Rozpis úklidu'!P75*2,0)","v":0}]
[{"$f":"CONCATENATE('Rozpis úklidu'!A76,\" / \",'Rozpis úklidu'!F76,\" (\",'Rozpis úklidu'!D76,\")\")","v":"buňka student (skladba 1 + 2):\ndvoulůžkový pokoj / sezonně (65)"},0,{"$f":"IF('Rozpis úklidu'!N76=0,'Rozpis úklidu'!M76*B86/60,'Rozpis úklidu'!N76*B86/60)","v":0},{"$f":"'Rozpis úklidu'!L76","v":"Typová činnost č.: 6"},{"$f":"IF(B86>0,'Rozpis úklidu'!P76*F86,0)","v":0},0,{"$f":"IF(F86<B86,(B86-F86)*'Rozpis úklidu'!P76*2,0)","v":0}]
[{"$f":"CONCATENATE('Rozpis úklidu'!A91,\" / \",'Rozpis úklidu'!F91,\" (\",'Rozpis úklidu'!D91,\")\")","v":"buňka student (skladba 2+ 2):\n kuchyňka + vstupní prostory / sezonně (94)"},0,{"$f":"IF('Rozpis úklidu'!N91=0,'Rozpis úklidu'!M91*B87/60,'Rozpis úklidu'!N91*B87/60)","v":0},{"$f":"'Rozpis úklidu'!L91","v":"Typová činnost č.: 3 a 5"},{"$f":"IF(B87>0,'Rozpis úklidu'!P91*F87,0)","v":0},0,{"$f":"IF(F87<B87,(B87-F87)*'Rozpis úklidu'!P91*2,0)","v":0}]
[{"$f":"CONCATENATE('Rozpis úklidu'!A92,\" / \",'Rozpis úklidu'!F92,\" (\",'Rozpis úklidu'!D92,\")\")","v":"buňka student (skladba 2+ 2):\nkomora / sezonně (94)"},0,{"$f":"IF('Rozpis úklidu'!N92=0,'Rozpis úklidu'!M92*B88/60,'Rozpis úklidu'!N92*B88/60)","v":0},{"$f":"'Rozpis úklidu'!L92","v":"Typová činnost č.: 3"},{"$f":"IF(B88>0,'Rozpis úklidu'!P92*F88,0)","v":0},0,{"$f":"IF(F88<B88,(B88-F88)*'Rozpis úklidu'!P92*2,0)","v":0}]
[{"$f":"CONCATENATE('Rozpis úklidu'!A93,\" / \",'Rozpis úklidu'!F93,\" (\",'Rozpis úklidu'!D93,\")\")","v":"buňka student (skladba 2+ 2):\nWC / sezonně (94)"},0,{"$f":"IF('Rozpis úklidu'!N93=0,'Rozpis úklidu'!M93*B89/60,'Rozpis úklidu'!N93*B89/60)","v":0},{"$f":"'Rozpis úklidu'!L93","v":"Typová činnost č.: 11"},{"$f":"IF(B89>0,'Rozpis úklidu'!P93*F89,0)","v":0},0,{"$f":"IF(F89<B89,(B89-F89)*'Rozpis úklidu'!P93*2,0)","v":0}]
[{"$f":"CONCATENATE('Rozpis úklidu'!A94,\" / \",'Rozpis úklidu'!F94,\" (\",'Rozpis úklidu'!D94,\")\")","v":"buňka student (skladba 2+ 2):\nkoupelna se sprchou / sezonně (94)"},0,{"$f":"IF('Rozpis úklidu'!N94=0,'Rozpis úklidu'!M94*B90/60,'Rozpis úklidu'!N94*B90/60)","v":0},{"$f":"'Rozpis úklidu'!L94","v":"Typová činnost č.: 12"},{"$f":"IF(B90>0,'Rozpis úklidu'!P94*F90,0)","v":0},0,{"$f":"IF(F90<B90,(B90-F90)*'Rozpis úklidu'!P94*2,0)","v":0}]
[{"$f":"CONCATENATE('Rozpis úklidu'!A95,\" / \",'Rozpis úklidu'!F95,\" (\",'Rozpis úklidu'!D95,\")\")","v":"buňka student (skladba 2+ 2):\npokoj / sezonně (188)"},0,{"$f":"IF('Rozpis úklidu'!N95=0,'Rozpis úklidu'!M95*B91/60,'Rozpis úklidu'!N95*B91/60)","v":0},{"$f":"'Rozpis úklidu'!L95","v":"Typová činnost č.: 6"},{"$f":"IF(B91>0,'Rozpis úklidu'!P95*F91,0)","v":0},0,{"$f":"IF(F91<B91,(B91-F91)*'Rozpis úklidu'!P95*2,0)","v":0}]
[{"$f":"CONCATENATE('Rozpis úklidu'!A109,\" / \",'Rozpis úklidu'!F109,\" (\",'Rozpis úklidu'!D109,\")\")","v":"buňka student (skladba 2 + 2 s balkónem):\nkuchyňka + vstupní prostory / sezonně (99)"},0,{"$f":"IF('Rozpis úklidu'!N109=0,'Rozpis úklidu'!M109*B92/60,'Rozpis úklidu'!N109*B92/60)","v":0},{"$f":"'Rozpis úklidu'!L109","v":"Typová činnost č.: 3 a 5"},{"$f":"IF(B92>0,'Rozpis úklidu'!P109*F92,0)","v":0},0,{"$f":"IF(F92<B92,(B92-F92)*'Rozpis úklidu'!P109*2,0)","v":0}]
[{"$f":"CONCATENATE('Rozpis úklidu'!A110,\" / \",'Rozpis úklidu'!F110,\" (\",'Rozpis úklidu'!D110,\")\")","v":"buňka student (skladba 2 + 2 s balkónem):\nkomora / sezonně (99)"},0,{"$f":"IF('Rozpis úklidu'!N110=0,'Rozpis úklidu'!M110*B93/60,'Rozpis úklidu'!N110*B93/60)","v":0},{"$f":"'Rozpis úklidu'!L110","v":"Typová činnost č.: 3"},{"$f":"IF(B93>0,'Rozpis úklidu'!P110*F93,0)","v":0},0,{"$f":"IF(F93<B93,(B93-F93)*'Rozpis úklidu'!P110*2,0)","v":0}]
[{"$f":"CONCATENATE('Rozpis úklidu'!A111,\" / \",'Rozpis úklidu'!F111,\" (\",'Rozpis úklidu'!D111,\")\")","v":"buňka student (skladba 2 + 2 s balkónem):\nWC / sezonně (99)"},0,{"$f":"IF('Rozpis úklidu'!N111=0,'Rozpis úklidu'!M111*B94/60,'Rozpis úklidu'!N111*B94/60)","v":0},{"$f":"'Rozpis úklidu'!L111","v":"Typová činnost č.: 11"},{"$f":"IF(B94>0,'Rozpis úklidu'!P111*F94,0)","v":0},0,{"$f":"IF(F94<B94,(B94-F94)*'Rozpis úklidu'!P111*2,0)","v":0}]
[{"$f":"CONCATENATE('Rozpis úklidu'!A112,\" / \",'Rozpis úklidu'!F112,\" (\",'Rozpis úklidu'!D112,\")\")","v":"buňka student (skladba 2 + 2 s balkónem):\nkoupelna se sprchou / sezonně (99)"},0,{"$f":"IF('Rozpis úklidu'!N112=0,'Rozpis úklidu'!M112*B95/60,'Rozpis úklidu'!N112*B95/60)","v":0},{"$f":"'Rozpis úklidu'!L112","v":"Typová činnost č.: 12"},{"$f":"IF(B95>0,'Rozpis úklidu'!P112*F95,0)","v":0},0,{"$f":"IF(F95<B95,(B95-F95)*'Rozpis úklidu'!P112*2,0)","v":0}]
[{"$f":"CONCATENATE('Rozpis úklidu'!A113,\" / \",'Rozpis úklidu'!F113,\" (\",'Rozpis úklidu'!D113,\")\")","v":"buňka student (skladba 2 + 2 s balkónem):\npokoj / sezonně (198)"},0,{"$f":"IF('Rozpis úklidu'!N113=0,'Rozpis úklidu'!M113*B96/60,'Rozpis úklidu'!N113*B96/60)","v":0},{"$f":"'Rozpis úklidu'!L113","v":"Typová činnost č.: 6"},{"$f":"IF(B96>0,'Rozpis úklidu'!P113*F96,0)","v":0},0,{"$f":"IF(F96<B96,(B96-F96)*'Rozpis úklidu'!P113*2,0)","v":0}]
[{"$f":"CONCATENATE('Rozpis úklidu'!A114,\" / \",'Rozpis úklidu'!F114,\" (\",'Rozpis úklidu'!D114,\")\")","v":"buňka student (skladba 2 + 2 s balkónem):\nbalkón / sezonně (99)"},0,{"$f":"IF('Rozpis úklidu'!N114=0,'Rozpis úklidu'!M114*B97/60,'Rozpis úklidu'!N114*B97/60)","v":0},{"$f":"'Rozpis úklidu'!L114","v":"Typový úklid č.: 2"},{"$f":"IF(B97>0,'Rozpis úklidu'!P114*F97,0)","v":0},0,{"$f":"IF(F97<B97,(B97-F97)*'Rozpis úklidu'!P114*2,0)","v":0}]
[{"$f":"CONCATENATE('Rozpis úklidu'!A129,\" / \",'Rozpis úklidu'!F129,\" (\",'Rozpis úklidu'!D129,\")\")","v":"Položení povlečení na postele / sezonně (990)"},0,{"$f":"IF('Rozpis úklidu'!N129=0,'Rozpis úklidu'!M129*B98/60,'Rozpis úklidu'!N129*B98/60)","v":0},{"$f":"'Rozpis úklidu'!L129","v":"Položit na každou postel povleční polštáře, deky a prostěradla."},{"$f":"IF(B98>0,'Rozpis úklidu'!P129*F98,0)","v":0},0,{"$f":"IF(F98<B98,(B98-F98)*'Rozpis úklidu'!P129*2,0)","v":0}]
[null,"Celkem hodin",{"$f":"SUM(C76:C98)","v":0},"K FAKTURACI CELKEM:",{"$f":"SUM(E76:E98)","v":0},null,{"$f":"SUM(G76:G98)","v":0}]
["Podpis vedoucí směny:",null,null,"Podpis zástupce vedení koleje:"]
[]
["Karta úklidu",null,null,{"$f":"'Rozpis úklidu'!$A$1","v":"kolej: Blanice, VŠE"}]
["ÚKLID O VÍKENDU                 DNE:",{"$f":"(NOW())","v":"2020-09-22T14:55:12.410"}]
[{"$f":"'Rozpis úklidu'!$A$3","v":"Úklidová jednotka"},{"$f":"'Rozpis úklidu'!$D$3","v":"počet\núklidových jednotek"},{"$f":"$C$4","v":"Doba úklidu\n[hod.]"},{"$f":"'Rozpis úklidu'!$L$3","v":"Popis činnosti"},"cena celkem za všechny úklidové jednotky \n(VÍKEND)\n[Kč]","Správně\nuklizené\njednotky","Smluvní pokuta\n[Kč]","Poznámka"]
[{"$f":"CONCATENATE('Rozpis úklidu'!A57,\" / \",'Rozpis úklidu'!F57,\" (\",'Rozpis úklidu'!D57,\")\")","v":"buňka pro ZTP studenty:\nkuchyňka  / sezonně (2)"},0,{"$f":"IF('Rozpis úklidu'!N57=0,'Rozpis úklidu'!M57*B105/60,'Rozpis úklidu'!N57*B105/60)","v":0},{"$f":"'Rozpis úklidu'!L57","v":"Typová činnost č.: 5"},{"$f":"IF(B105>0,'Rozpis úklidu'!P57*F105*'Základní údaje'!$C$11,0)","v":0},0,{"$f":"IF(F105<B105,(B105-F105)*'Rozpis úklidu'!P57*2*'Základní údaje'!$C$11,0)","v":0}]
[{"$f":"CONCATENATE('Rozpis úklidu'!A58,\" / \",'Rozpis úklidu'!F58,\" (\",'Rozpis úklidu'!D58,\")\")","v":"buňka pro ZTP studenty:\nvstupní prostory / sezonně (1)"},0,{"$f":"IF('Rozpis úklidu'!N58=0,'Rozpis úklidu'!M58*B106/60,'Rozpis úklidu'!N58*B106/60)","v":0},{"$f":"'Rozpis úklidu'!L58","v":"Typová činnost č.: 1"},{"$f":"IF(B106>0,'Rozpis úklidu'!P58*F106*'Základní údaje'!$C$11,0)","v":0},0,{"$f":"IF(F106<B106,(B106-F106)*'Rozpis úklidu'!P58*2*'Základní údaje'!$C$11,0)","v":0}]
[{"$f":"CONCATENATE('Rozpis úklidu'!A59,\" / \",'Rozpis úklidu'!F59,\" (\",'Rozpis úklidu'!D59,\")\")","v":"buňka pro ZTP studenty:\nsociální zařízení / sezonně (1)"},0,{"$f":"IF('Rozpis úklidu'!N59=0,'Rozpis úklidu'!M59*B107/60,'Rozpis úklidu'!N59*B107/60)","v":0},{"$f":"'Rozpis úklidu'!L59","v":"Typová činnost č.: 11 a 12"},{"$f":"IF(B107>0,'Rozpis úklidu'!P59*F107*'Základní údaje'!$C$11,0)","v":0},0,{"$f":"IF(F107<B107,(B107-F107)*'Rozpis úklidu'!P59*2*'Základní údaje'!$C$11,0)","v":0}]
[{"$f":"CONCATENATE('Rozpis úklidu'!A60,\" / \",'Rozpis úklidu'!F60,\" (\",'Rozpis úklidu'!D60,\")\")","v":"buňka pro ZTP studenty:\npokoj / sezonně (4)"},0,{"$f":"IF('Rozpis úklidu'!N60=0,'Rozpis úklidu'!M60*B108/60,'Rozpis úklidu'!N60*B108/60)","v":0},{"$f":"'Rozpis úklidu'!L60","v":"Typová činnost č.: 6"},{"$f":"IF(B108>0,'Rozpis úklidu'!P60*F108*'Základní údaje'!$C$11,0)","v":0},0,{"$f":"IF(F108<B108,(B108-F108)*'Rozpis úklidu'!P60*2*'Základní údaje'!$C$11,0)","v":0}]
[{"$f":"CONCATENATE('Rozpis úklidu'!A71,\" / \",'Rozpis úklidu'!F71,\" (\",'Rozpis úklidu'!D71,\")\")","v":"buňka student (skladba 1 + 2):\nkuchyňka + vstupní prostory / sezonně (65)"},0,{"$f":"IF('Rozpis úklidu'!N71=0,'Rozpis úklidu'!M71*B109/60,'Rozpis úklidu'!N71*B109/60)","v":0},{"$f":"'Rozpis úklidu'!L71","v":"Typová činnost č.: 3 a 5"},{"$f":"IF(B109>0,'Rozpis úklidu'!P71*F109*'Základní údaje'!$C$11,0)","v":0},0,{"$f":"IF(F109<B109,(B109-F109)*'Rozpis úklidu'!P71*2*'Základní údaje'!$C$11,0)","v":0}]
[{"$f":"CONCATENATE('Rozpis úklidu'!A72,\" / \",'Rozpis úklidu'!F72,\" (\",'Rozpis úklidu'!D72,\")\")","v":"buňka student (skladba 1 + 2):\nkomora / sezonně (65)"},0,{"$f":"IF('Rozpis úklidu'!N72=0,'Rozpis úklidu'!M72*B110/60,'Rozpis úklidu'!N72*B110/60)","v":0},{"$f":"'Rozpis úklidu'!L72","v":"Typová činnost č.: 3"},{"$f":"IF(B110>0,'Rozpis úklidu'!P72*F110*'Základní údaje'!$C$11,0)","v":0},0,{"$f":"IF(F110<B110,(B110-F110)*'Rozpis úklidu'!P72*2*'Základní údaje'!$C$11,0)","v":0}]
[{"$f":"CONCATENATE('Rozpis úklidu'!A73,\" / \",'Rozpis úklidu'!F73,\" (\",'Rozpis úklidu'!D73,\")\")","v":"buňka student (skladba 1 + 2):\nWC / sezonně (65)"},0,{"$f":"IF('Rozpis úklidu'!N73=0,'Rozpis úklidu'!M73*B111/60,'Rozpis úklidu'!N73*B111/60)","v":0},{"$f":"'Rozpis úklidu'!L73","v":"Typová činnost č.: 11"},{"$f":"IF(B111>0,'Rozpis úklidu'!P73*F111*'Základní údaje'!$C$11,0)","v":0},0,{"$f":"IF(F111<B111,(B111-F111)*'Rozpis úklidu'!P73*2*'Základní údaje'!$C$11,0)","v":0}]
[{"$f":"CONCATENATE('Rozpis úklidu'!A74,\" / \",'Rozpis úklidu'!F74,\" (\",'Rozpis úklidu'!D74,\")\")","v":"buňka student (skladba 1 + 2):\nkoupelna se sprchou / sezonně (65)"},0,{"$f":"IF('Rozpis úklidu'!N74=0,'Rozpis úklidu'!M74*B112/60,'Rozpis úklidu'!N74*B112/60)","v":0},{"$f":"'Rozpis úklidu'!L74","v":"Typová činnost č.: 12"},{"$f":"IF(B112>0,'Rozpis úklidu'!P74*F112*'Základní údaje'!$C$11,0)","v":0},0,{"$f":"IF(F112<B112,(B112-F112)*'Rozpis úklidu'!P74*2*'Základní údaje'!$C$11,0)","v":0}]
[{"$f":"CONCATENATE('Rozpis úklidu'!A75,\" / \",'Rozpis úklidu'!F75,\" (\",'Rozpis úklidu'!D75,\")\")","v":"buňka student (skladba 1 + 2):\njednolůžkový pokoj / sezonně (65)"},0,{"$f":"IF('Rozpis úklidu'!N75=0,'Rozpis úklidu'!M75*B113/60,'Rozpis úklidu'!N75*B113/60)","v":0},{"$f":"'Rozpis úklidu'!L75","v":"Typová činnost č.: 6"},{"$f":"IF(B113>0,'Rozpis úklidu'!P75*F113*'Základní údaje'!$C$11,0)","v":0},0,{"$f":"IF(F113<B113,(B113-F113)*'Rozpis úklidu'!P75*2*'Základní údaje'!$C$11,0)","v":0}]
[{"$f":"CONCATENATE('Rozpis úklidu'!A76,\" / \",'Rozpis úklidu'!F76,\" (\",'Rozpis úklidu'!D76,\")\")","v":"buňka student (skladba 1 + 2):\ndvoulůžkový pokoj / sezonně (65)"},0,{"$f":"IF('Rozpis úklidu'!N76=0,'Rozpis úklidu'!M76*B114/60,'Rozpis úklidu'!N76*B114/60)","v":0},{"$f":"'Rozpis úklidu'!L76","v":"Typová činnost č.: 6"},{"$f":"IF(B114>0,'Rozpis úklidu'!P76*F114*'Základní údaje'!$C$11,0)","v":0},0,{"$f":"IF(F114<B114,(B114-F114)*'Rozpis úklidu'!P76*2*'Základní údaje'!$C$11,0)","v":0}]
[{"$f":"CONCATENATE('Rozpis úklidu'!A91,\" / \",'Rozpis úklidu'!F91,\" (\",'Rozpis úklidu'!D91,\")\")","v":"buňka student (skladba 2+ 2):\n kuchyňka + vstupní prostory / sezonně (94)"},0,{"$f":"IF('Rozpis úklidu'!N91=0,'Rozpis úklidu'!M91*B115/60,'Rozpis úklidu'!N91*B115/60)","v":0},{"$f":"'Rozpis úklidu'!L91","v":"Typová činnost č.: 3 a 5"},{"$f":"IF(B115>0,'Rozpis úklidu'!P91*F115*'Základní údaje'!$C$11,0)","v":0},0,{"$f":"IF(F115<B115,(B115-F115)*'Rozpis úklidu'!P91*2*'Základní údaje'!$C$11,0)","v":0}]
[{"$f":"CONCATENATE('Rozpis úklidu'!A92,\" / \",'Rozpis úklidu'!F92,\" (\",'Rozpis úklidu'!D92,\")\")","v":"buňka student (skladba 2+ 2):\nkomora / sezonně (94)"},0,{"$f":"IF('Rozpis úklidu'!N92=0,'Rozpis úklidu'!M92*B116/60,'Rozpis úklidu'!N92*B116/60)","v":0},{"$f":"'Rozpis úklidu'!L92","v":"Typová činnost č.: 3"},{"$f":"IF(B116>0,'Rozpis úklidu'!P92*F116*'Základní údaje'!$C$11,0)","v":0},0,{"$f":"IF(F116<B116,(B116-F116)*'Rozpis úklidu'!P92*2*'Základní údaje'!$C$11,0)","v":0}]
[{"$f":"CONCATENATE('Rozpis úklidu'!A93,\" / \",'Rozpis úklidu'!F93,\" (\",'Rozpis úklidu'!D93,\")\")","v":"buňka student (skladba 2+ 2):\nWC / sezonně (94)"},0,{"$f":"IF('Rozpis úklidu'!N93=0,'Rozpis úklidu'!M93*B117/60,'Rozpis úklidu'!N93*B117/60)","v":0},{"$f":"'Rozpis úklidu'!L93","v":"Typová činnost č.: 11"},{"$f":"IF(B117>0,'Rozpis úklidu'!P93*F117*'Základní údaje'!$C$11,0)","v":0},0,{"$f":"IF(F117<B117,(B117-F117)*'Rozpis úklidu'!P93*2*'Základní údaje'!$C$11,0)","v":0}]
[{"$f":"CONCATENATE('Rozpis úklidu'!A94,\" / \",'Rozpis úklidu'!F94,\" (\",'Rozpis úklidu'!D94,\")\")","v":"buňka student (skladba 2+ 2):\nkoupelna se sprchou / sezonně (94)"},0,{"$f":"IF('Rozpis úklidu'!N94=0,'Rozpis úklidu'!M94*B118/60,'Rozpis úklidu'!N94*B118/60)","v":0},{"$f":"'Rozpis úklidu'!L94","v":"Typová činnost č.: 12"},{"$f":"IF(B118>0,'Rozpis úklidu'!P94*F118*'Základní údaje'!$C$11,0)","v":0},0,{"$f":"IF(F118<B118,(B118-F118)*'Rozpis úklidu'!P94*2*'Základní údaje'!$C$11,0)","v":0}]
[{"$f":"CONCATENATE('Rozpis úklidu'!A95,\" / \",'Rozpis úklidu'!F95,\" (\",'Rozpis úklidu'!D95,\")\")","v":"buňka student (skladba 2+ 2):\npokoj / sezonně (188)"},0,{"$f":"IF('Rozpis úklidu'!N95=0,'Rozpis úklidu'!M95*B119/60,'Rozpis úklidu'!N95*B119/60)","v":0},{"$f":"'Rozpis úklidu'!L95","v":"Typová činnost č.: 6"},{"$f":"IF(B119>0,'Rozpis úklidu'!P95*F119*'Základní údaje'!$C$11,0)","v":0},0,{"$f":"IF(F119<B119,(B119-F119)*'Rozpis úklidu'!P95*2*'Základní údaje'!$C$11,0)","v":0}]
[{"$f":"CONCATENATE('Rozpis úklidu'!A109,\" / \",'Rozpis úklidu'!F109,\" (\",'Rozpis úklidu'!D109,\")\")","v":"buňka student (skladba 2 + 2 s balkónem):\nkuchyňka + vstupní prostory / sezonně (99)"},0,{"$f":"IF('Rozpis úklidu'!N109=0,'Rozpis úklidu'!M109*B120/60,'Rozpis úklidu'!N109*B120/60)","v":0},{"$f":"'Rozpis úklidu'!L109","v":"Typová činnost č.: 3 a 5"},{"$f":"IF(B120>0,'Rozpis úklidu'!P109*F120*'Základní údaje'!$C$11,0)","v":0},0,{"$f":"IF(F120<B120,(B120-F120)*'Rozpis úklidu'!P109*2*'Základní údaje'!$C$11,0)","v":0}]
[{"$f":"CONCATENATE('Rozpis úklidu'!A110,\" / \",'Rozpis úklidu'!F110,\" (\",'Rozpis úklidu'!D110,\")\")","v":"buňka student (skladba 2 + 2 s balkónem):\nkomora / sezonně (99)"},0,{"$f":"IF('Rozpis úklidu'!N110=0,'Rozpis úklidu'!M110*B121/60,'Rozpis úklidu'!N110*B121/60)","v":0},{"$f":"'Rozpis úklidu'!L110","v":"Typová činnost č.: 3"},{"$f":"IF(B121>0,'Rozpis úklidu'!P110*F121*'Základní údaje'!$C$11,0)","v":0},0,{"$f":"IF(F121<B121,(B121-F121)*'Rozpis úklidu'!P110*2*'Základní údaje'!$C$11,0)","v":0}]
[{"$f":"CONCATENATE('Rozpis úklidu'!A111,\" / \",'Rozpis úklidu'!F111,\" (\",'Rozpis úklidu'!D111,\")\")","v":"buňka student (skladba 2 + 2 s balkónem):\nWC / sezonně (99)"},0,{"$f":"IF('Rozpis úklidu'!N111=0,'Rozpis úklidu'!M111*B122/60,'Rozpis úklidu'!N111*B122/60)","v":0},{"$f":"'Rozpis úklidu'!L111","v":"Typová činnost č.: 11"},{"$f":"IF(B122>0,'Rozpis úklidu'!P111*F122*'Základní údaje'!$C$11,0)","v":0},0,{"$f":"IF(F122<B122,(B122-F122)*'Rozpis úklidu'!P111*2*'Základní údaje'!$C$11,0)","v":0}]
[{"$f":"CONCATENATE('Rozpis úklidu'!A112,\" / \",'Rozpis úklidu'!F112,\" (\",'Rozpis úklidu'!D112,\")\")","v":"buňka student (skladba 2 + 2 s balkónem):\nkoupelna se sprchou / sezonně (99)"},0,{"$f":"IF('Rozpis úklidu'!N112=0,'Rozpis úklidu'!M112*B123/60,'Rozpis úklidu'!N112*B123/60)","v":0},{"$f":"'Rozpis úklidu'!L112","v":"Typová činnost č.: 12"},{"$f":"IF(B123>0,'Rozpis úklidu'!P112*F123*'Základní údaje'!$C$11,0)","v":0},0,{"$f":"IF(F123<B123,(B123-F123)*'Rozpis úklidu'!P112*2*'Základní údaje'!$C$11,0)","v":0}]
[{"$f":"CONCATENATE('Rozpis úklidu'!A113,\" / \",'Rozpis úklidu'!F113,\" (\",'Rozpis úklidu'!D113,\")\")","v":"buňka student (skladba 2 + 2 s balkónem):\npokoj / sezonně (198)"},0,{"$f":"IF('Rozpis úklidu'!N113=0,'Rozpis úklidu'!M113*B124/60,'Rozpis úklidu'!N113*B124/60)","v":0},{"$f":"'Rozpis úklidu'!L113","v":"Typová činnost č.: 6"},{"$f":"IF(B124>0,'Rozpis úklidu'!P113*F124*'Základní údaje'!$C$11,0)","v":0},0,{"$f":"IF(F124<B124,(B124-F124)*'Rozpis úklidu'!P113*2*'Základní údaje'!$C$11,0)","v":0}]
[{"$f":"CONCATENATE('Rozpis úklidu'!A114,\" / \",'Rozpis úklidu'!F114,\" (\",'Rozpis úklidu'!D114,\")\")","v":"buňka student (skladba 2 + 2 s balkónem):\nbalkón / sezonně (99)"},0,{"$f":"IF('Rozpis úklidu'!N114=0,'Rozpis úklidu'!M114*B125/60,'Rozpis úklidu'!N114*B125/60)","v":0},{"$f":"'Rozpis úklidu'!L114","v":"Typový úklid č.: 2"},{"$f":"IF(B125>0,'Rozpis úklidu'!P114*F125*'Základní údaje'!$C$11,0)","v":0},0,{"$f":"IF(F125<B125,(B125-F125)*'Rozpis úklidu'!P114*2*'Základní údaje'!$C$11,0)","v":0}]
[null,"Celkem hodin\nza víkend",{"$f":"SUM(C105:C125)","v":0},"K FAKTURACI CELKEM:",{"$f":"SUM(E105:E125)","v":0},null,{"$f":"SUM(G105:G125)","v":0}]
["Podpis vedoucí směny:",null,null,"Podpis zástupce vedení koleje:"]

{"sheet":"Činnosti úklidu","index":3,"n_rows":32,"n_cols":2,"rows_kept":32,"cut":false,"hidden":false,"merged":[[0,0,0,1],[19,1,19,2]]}
["Úklidová činnost"]
[null,"Úklidová činnost probíhá v čase od 07:00 hod. do 15.00 hod. v jednosměnném provozu v pětidenním pracovním týdnu, úklid hotelových pokojů musí být dle potřeby zajištěn i o víkendu. V době nastěhování a vystěhování studentů koncem letního semestru a začátkem zimního semestru stanovuje dobu pro úklid podle aktuálních potřeb vedoucí/zástupce vedoucí koleje a to včetně úklidu o víkendu. Při úklidu je potřeba používat úklidové, čistící a desinfekční prostředky vhodné pro daný předmět úklidu a dodržovat návody na použití příslušných úklidových, čistících a desinfekčních prostředků a bezpečnostní a hygienická pravidla"]
["Definice pojmů:"]
["Zametání","pomocí vhodného smetáku zamést dané podlahové plochy."]
["Vytírání ","pomocí mopu za použití vody a odpovídajícího saponátu vytřít dané podlahové plochy."]
["Mytí ","pomocí hadru, utěrky nebo houbičky, za použití vody a odpovídajícího saponátu, umýt plochy nábytku, dveří, spotřebičů, keramických a jiných obkladů, topení apod."]
["Čištění ","důkladné čištění, zvláště skvrn, za pomocí odpovídajících čisticích prostředků, ploch nábytku, dveří, spotřebičů, keramických a jiných obkladů, topení apod."]
["Desinfekce ","po umytí nebo vyčištění daných ploch, podlah, spotřebičů aj. použít podle návodu odpovídající desinfekční prostředek."]
["Leštění ","leštění všech skleněných a zrcadlových ploch za použití odpovídajícího přípravku na mytí a leštění skel."]
["Luxování ","čištění podlah za použití vysavače."]
["Strojové čištění ","se provádí za použití čistícího stroje na vodní nebo parní bázi (strojové čištění postelí, matrací, koberců apod.)."]
["Stírání prachu","setření prachu vhodnou utěrkou za použití odpovídajícího přípravku na odstranění prachu, odstranění pavučin."]
["Úklid odpadů ","řádné uvolnění, umytí, vyčištění a vydesinfikování odpadů na soc. zařízeních, WC, umývárnách a sprchových koutech za použití odpovídajících přípravků."]
["Mimořádný úklid ","úklid znečištěného WC (mimo mísu), umývárny nebo společných prostor zvratky nebo exkrementy (uklízečka vyrozumí vedoucí/zástupce vedoucí koleje)."]
["Mytí oken ","umytí parapetů na mokro za použití odpovídajícího saponátu, umytí rámů oken na mokro za použití odpovídajícího saponátu, umytí a vyleštění oken odpovídajícím přípravkem na mytí a leštění oken."]
["Zalévání květin ","zalití květin čistou odstátou vodou v přiměřeném množství s ohledem na druh rostliny. Podle potřeby použít odpovídající hnojivo v dávkování podle návodu k použití."]
["Vynášení a likvidace odpadu","vynesení odpadu ze všech odpadních nádob (i z prostoru okolo těchto nádob), a ze skartovaček, umytí odpadních nádob a doplnění pytlů na odpadky do odpadních nádob. Odpad dle možnosti vhodným způsobem třídit."]
["Doplňování hotelových potřeb ","v hotelovém provozu doplnit toaletní papír do zásobníků doplnit ručníky a hotelové mýdlo."]
[]
["Číslo typové činnosti","Popis typových pracovních činností:"]
["1.","Úklidem společných prostor, podlah chodeb, schodišť a vestibulu se rozumí:\nzamést a vytřít podlahy, odstranit našlapané žvýkačky a jiné nečistoty, vyluxovat podlahy kryté kobercem. Umýt parapety, zábradlí a hasicí přístroje umístěné na chodbách, vyleštit skleněné plochy na chodbách a ve vestibulech, setřít prach a pavučiny. Sepsat a nahlásit vedení koleje všechny závady a škody."]
["2.","Úklidem balkonů se rozumí: \nzamést a vytřít podlahy, odstranit našlapané žvýkačky a jiné nečistoty, umýt parapety a zábradlí. Odstranit pavučiny. Vynést odpady a popř. i vysypat popelníky."]
["3.","Úklidem společenských, (studoven, kluboven apod.) zájmových (posiloven, tělocvičen apod.) a zasedacích místností, kanceláří, skladů, šaten a výtahů se rozumí:\nzamést a vytřít podlahy, podlahy pokryté kobercem vyluxovat, setřít prach a pavučiny ze všech dosažitelných a volně přístupných míst a zařízení místností (topení, cvičební nářadí apod.), umýt a vyčistit skvrny kolem klik, dveří, vypínačů a světel. Srovnat nábytek a jiné vybavení místností. Srovnat nebo dověsit záclony a závěsy. Vyleštit zrcadla. Vynést odpad. Sepsat a nahlásit vedení koleje všechny závady a škody."]
["4.","Úklidem prádelen se rozumí:\nzamést a vytřít podlahy, setřít prach a pavučiny ze všech dosažitelných a volně přístupných míst a zařízení místností (praček, topení, apod.). Vyčistit filtry praček, vyčistit zásobníky na prášek. Umýt a vyčistit dveře, kliky, vypínače a světla. Srovnat nebo dověsit záclony a závěsy. Vyleštit zrcadla. Vynést odpad. Sepsat a nahlásit vedení koleje všechny závady a škody."]
["5.","Úklidem kuchyněk se rozumí:\numýt, vyčistit a vydesinfikovat sporák, vařič, mikrovlnnou troubu, digestoř, pracovní desky a zařízení místnosti kuchyňky. Umýt, vyčistit a vydesinfikovat obklady. Pokud je kuchyňka vybavena nádobím umýt nádobí. Odmrazit a vyčistit lednici. Odstranit všechny prošlé nebo kazící se potraviny. Zamést a vytřít podlahy. Vynést odpad. Setřít prach a pavučiny. Sepsat a nahlásit vedení koleje všechny závady a škody."]
["6.","Generálním úklidem pokojů po odchodu studentů se rozumí:\numýt nábytek z venku (postele, stoly, židle, police, skříně apod.) i zevnitř (skříně, šuplíky, peřináče, postele apod.) a vyčistit od skvrn. Vyleštit zrcadla a okna. Vyluxovat/strojově vyčistit matrace postelí. Setřít prach a pavučiny (včetně žaluzií). Umýt a vyčistit veškeré obložení, lišty, obrazy, dveře, kliky, rámy oken, parapety, vypínače, zásuvky, topení, světla, lampičky apod. Umýt ledničku zevnitř i zvenku. Zamést a vytřít podlahy, podlahy kryté kobercem vyluxovat, a to i pod a za postelí, křesly a závěsy. Srovnat nebo dověsit záclony a závěsy, srovnat nábytek a jiné vybavení pokoje. Vynést odpad, umýt, otřít a vyleštit odpadkový koš. Zlikvidovat případné komáry a mouchy. Vyvětrat a popř. i navonět. Sepsat a nahlásit vedení koleje všechny závady a škody. Případné nalezené věci po ubytovaných předat vedení koleje."]
["7.","Úklidem předsíní buněk se rozumí:\núklid sociálního zařízení podle bodu 11. a 12. úklid kuchyňky podle bodu 5. Zamést a vytřít podlahy. Umýt a vyčistit pracovní plochy a nábytek. Setřít prach a pavučiny. Vynést odpad. Sepsat a nahlásit vedení koleje všechny závady a škody."]
["8.","Úklidem hotelových pokojů po vystěhování se rozumí:\numýt nábytek z venku (postele, stoly, židle, police, skříně apod.) i zevnitř (skříně, šuplíky, peřináče, postele apod.) a vyčistit od skvrn. Vyleštit zrcadla a okna. Převléct a ustlat postele, vyluxovat/strojově vyčistit matrace postelí. Setřít prach a pavučiny (včetně žaluzií). Umýt a vyčistit veškeré obložení, lišty, obrazy, dveře, kliky, rámy oken, parapety, vypínače, zásuvky, televizi, topení, světla, lampičky apod. Umýt nádobí. Umýt ledničku zevnitř i zvenku. Zamést a vytřít podlahy, podlahy kryté kobercem vyluxovat, a to i pod a za postelí, křesly a závěsy. Srovnat nebo dověsit záclony a závěsy, srovnat nábytek a jiné vybavení pokoje. Vynést odpad, umýt, otřít a vyleštit odpadkový koš. Zlikvidovat případné komáry a mouchy. Doplnit hotelové potřeby. Vyvětrat a popř. i navonět. Předat složené použité prádlo a ručníky skladní. Sepsat a nahlásit vedení koleje všechny závady a škody. Případné nalezené věci po hostech předat vedení koleje."]
["9.","Úklidem hotelových pokojů v průběhu ubytování se rozumí:\nustlání postelí, popř. výměna ložního prádla každý 4. den pobytu, výměna osušek a ručníků, doplnění toaletního papíru, vynesení odpadků, umytí koupelny (sprchový kout, WC, umyvadlo), vytření podlahy."]
["10.","Přebráním uklizeného pokoje po studentech se rozumí:\npodle bodu 6. a 7. zkontrolovat úklid provedený studenty. Přebrat klíče od pokoje. Podepsat potvrzení o řádně provedeném úklidu a odevzdání klíčů. Sepsat a nahlásit vedení koleje všechny závady a škody. V případě nutnosti upozornit studenty na nedostatky v úklidu s tím, že je musí ve stanovené době odstranit, po té provést novou kontrolu úklidu. V případě, že ani napodruhé nebude pokoj řádně uklizen nahlásit tuto skutečnost vedení koleje."]
["11.","Úklidem WC se rozumí:\numýt, vyčistit a vydesinfikovat místnost WC, umýt záchodovou mísu zevnitř i zvenku umýt nohu a trubku za WC, umýt prkýnko a nádobu na splachovací vodu, popř. umýt pisoáry, umyvadla, baterie, obklady, odpady, podlahy a dveře. Otřít držák na toaletní papír. Umýt dlaždičky a silikon od plísně. Vylít vodu a otřít pouzdro na WC štětku. Vyleštit zrcadla. Vynést odpad. Setřít prach a pavučiny. Vždy za použití odpovídajícího mycího/čistícího přípravku."]
["12.","Úklidem koupelen a sprch se rozumí:\numýt, vyčistit a vydesinfikovat umyvadlo zevnitř i zvenku včetně trubek pod ním, baterie, sprchový kout, obklady, poličku nad umyvadlem i ve sprchovém koutě, odpady, podlahy a dveře. Umýt stěny sprchového koutu, gumové těsnění popř. závěs sprchového koutu. Odstranit rez a vodní kámen. Vynést odpad. Vyleštit zrcadlo, poličku, sprchu a držák na sprchu. Umýt dlaždičky a silikon od plísně. Vynést odpad. Setřít prach a pavučiny. Vždy za použití odpovídajícího mycího/čistícího přípravku"]