{"text_format":"1","workbook":"xlsx","n_sheets":5,"sheets":["Základní údaje","Rozpis úklidu","Karty úklidu","Činnosti úklidu","kanc.+skleň.pl."],"not_rendered":{"charts":0,"images":0,"macros":1,"external_links":0,"defined_names":4,"comments":4,"pivot_tables":0},"unopened":[],"bounds":{"document_bytes":16777216,"sheet_cells":100000,"rows_first":2000,"rows_last":500,"rows_between":2000,"halvings":0,"cell_chars":16384,"cell_head_chars":4096},"cells_cut":0,"cells_raw":0,"read":"whole","date_system":"1900"}

{"sheet":"Základní údaje","index":0,"n_rows":15,"n_cols":8,"rows_kept":15,"cut":false,"hidden":false,"merged":[[8,3,8,6],[1,0,1,1]]}
["Centrum kolejí Jarov + \nxPORT VŠE"]
["OBDOBÍ:"]
["2024-03-01","2028-02-29"]
["Identifikace subjektu podávajícího nabídku:"]
["Název subjektu:"]
["IČ:"]
["Sídlo:"]
["Zapsaná v:"]
[null,null,null,"Předpoklad roční inflace"]
[null,null,null,"1. rok","2. rok","3. rok","4. rok"]
["CENA pracovní dny [Kč/hodinu/člověka]:",null,{"$f":"IF(B11<>0,B12/B11,0)","v":0},0,0.03,0.03,0.03]
["CENA víkendy [Kč/hodinu/člověka]:",0,{"$f":"IF(B11<>0,(5*B11+2*B12)/7/B11,0)","v":0},1,{"$f":"1+E11","v":1.03},{"$f":"1+F11","v":1.03},1.03]
[null,null,null,1,{"$f":"+D13*E12","v":1.03},{"$f":"+E13*F12","v":1.0609},1.092727,{"$f":"SUM(D13:G13)/4","v":1.0459067500000001}]
[]
["CENA CELKEM ZA ZAKÁZKU:",{"$f":"'Rozpis úklidu'!C93","v":0}]

{"sheet":"Rozpis úklidu","index":1,"n_rows":164,"n_cols":21,"rows_kept":164,"cut":false,"hidden":false,"merged":[[92,2,92,4]]}
[{"$f":"'Základní údaje'!A1","v":"Centrum kolejí Jarov + \nxPORT VŠE"},null,{"$f":"'Základní údaje'!A2","v":"OBDOBÍ:"},{"$f":"'Základní údaje'!A3","v":"2024-03-01"},{"$f":"'Základní údaje'!B3","v":"2028-02-29"}]
["Cena za 1 úklidovou hodinu:",null,{"$f":"'Základní údaje'!B11","v":0},"Kč/hod."]
["Úklidová jednotka","xPORT","plocha\n[m²]","kusy\n[-]","počet\núklidových jednotek","CELKEM\n[m²]\n[ks]","uklízí se","Četnost úklidu v sezóně","počet úklidů","sezonní\ntýden\nod","sezonní\ntýden\ndo","uklízí se v\npracovní dny","uklízí se o\nvíkendech","Popis činnosti","Zadavatelem předpokládaný čas na úklidovou jednotku\n[min]","Uchazečem navrhovaný čas na úklidovou jednotku\n[min.]","celkový čas úklidu všech úklidových jednotek\n[hod.]","Cena za úklidovou jednotku\n[Kč]","cena celkem za všechny úklidové jednotky \n(prac. dny)\n[Kč]","Cena celkem za období úklidu\n[Kč]","Poznámka"]
["Vstupní schodiště venkovní-podesta",null,{"$f":"5.4*1.8","v":9.7200000000000006},null,1,{"$f":"C4*E4+D4*E4","v":9.7200000000000006},"denně",null,1,null,null,1,0,"Typová činnost č.: 1\ndlažba + čistič bot",5,null,{"$f":"IF(P4=0,O4*E4/60,P4*E4/60)","v":8.3333333333333329E-2},{"$f":"ROUND(IF(P4=0,O4/60*$C$2,P4/60*$C$2),0)","v":0},{"$f":"R4*E4","v":0},{"$f":"IF(G4=\"denně\",S4*I4*$C$89,IF(G4=\"týdně\",S4*I4*$C$90,IF(G4=\"měsíčně\",S4*I4*$C$91,IF(G4=\"čtvrtletně\",S4*I4*4*$C$92,IF(G4=\"ročně\",S4*I4*$C$92,I4*S4*$C$92)))))*'Základní údaje'!$H$13*IF(M4=1,'Základní údaje'!$C$12,1)","v":0}]
["Vstupní schodiště venkovní-schody",null,{"$f":"5.4*3.6","v":19.440000000000001},null,1,{"$f":"C5*E5+D5*E5","v":19.440000000000001},"denně",null,1,null,null,1,0,"Typová činnost č.: 1\ndlažba",5,null,{"$f":"IF(P5=0,O5*E5/60,P5*E5/60)","v":8.3333333333333329E-2},{"$f":"ROUND(IF(P5=0,O5/60*$C$2,P5/60*$C$2),0)","v":0},{"$f":"R5*E5","v":0},{"$f":"IF(G5=\"denně\",S5*I5*$C$89,IF(G5=\"týdně\",S5*I5*$C$90,IF(G5=\"měsíčně\",S5*I5*$C$91,IF(G5=\"čtvrtletně\",S5*I5*4*$C$92,IF(G5=\"ročně\",S5*I5*$C$92,I5*S5*$C$92)))))*'Základní údaje'!$H$13*IF(M5=1,'Základní údaje'!$C$12,1)","v":0}]
["Zádveří - 1. NP",null,{"$f":"5.4*2","v":10.8},null,1,{"$f":"C6*E6+D6*E6","v":10.8},"denně",null,1,null,null,1,0,"Typová činnost č.: 1\ndlažba + zátěžový koberec",5,null,{"$f":"IF(P6=0,O6*E6/60,P6*E6/60)","v":8.3333333333333329E-2},{"$f":"ROUND(IF(P6=0,O6/60*$C$2,P6/60*$C$2),0)","v":0},{"$f":"R6*E6","v":0},{"$f":"IF(G6=\"denně\",S6*I6*$C$89,IF(G6=\"týdně\",S6*I6*$C$90,IF(G6=\"měsíčně\",S6*I6*$C$91,IF(G6=\"čtvrtletně\",S6*I6*4*$C$92,IF(G6=\"ročně\",S6*I6*$C$92,I6*S6*$C$92)))))*'Základní údaje'!$H$13*IF(M6=1,'Základní údaje'!$C$12,1)","v":0}]
["VSTUPNÍ HALA - 1. NP",null,{"$f":"8.9*9.6+6.8*2.9+1.9*3","v":110.86},null,1,110.86,"denně",null,1,null,null,1,0,"Typová činnost č.: 1\ndlažba + 6 m2 zátěžový koberec",{"$f":"25*C7/60","v":46.19166666666667},null,0.76986111111111122,0,0,{"$f":"IF(G7=\"denně\",S7*I7*$C$89,IF(G7=\"týdně\",S7*I7*$C$90,IF(G7=\"měsíčně\",S7*I7*$C$91,IF(G7=\"čtvrtletně\",S7*I7*4*$C$92,IF(G7=\"ročně\",S7*I7*$C$92,I7*S7*$C$92)))))*'Základní údaje'!$H$13*IF(M7=1,'Základní údaje'!$C$12,1)","v":0}]
["WC - 1. NP vestibul páni\n2x kabinka, 3x pisoár, 2x umyvadlo",null,{"$f":"2.4*2.3+3.1*3.6","v":16.68},null,1,16.68,"denně",null,1,null,null,1,0,"Typová činnost č.: 14\ndlažba",8,null,0.13333333333333333,0,0,{"$f":"IF(G8=\"denně\",S8*I8*$C$89,IF(G8=\"týdně\",S8*I8*$C$90,IF(G8=\"měsíčně\",S8*I8*$C$91,IF(G8=\"čtvrtletně\",S8*I8*4*$C$92,IF(G8=\"ročně\",S8*I8*$C$92,I8*S8*$C$92)))))*'Základní údaje'!$H$13*IF(M8=1,'Základní údaje'!$C$12,1)","v":0}]
["WC - 1. NP vestibul dámy\n3x kabinka, 2x umyvadlo",null,{"$f":"3.9*2+3*2.6","v":15.600000000000001},null,1,{"$f":"C9*E9+D9*E9","v":15.600000000000001},"denně",null,1,null,null,1,0,"Typová činnost č.: 14\ndlažba",8,null,{"$f":"IF(P9=0,O9*E9/60,P9*E9/60)","v":0.13333333333333333},{"$f":"ROUND(IF(P9=0,O9/60*$C$2,P9/60*$C$2),0)","v":0},{"$f":"R9*E9","v":0},{"$f":"IF(G9=\"denně\",S9*I9*$C$89,IF(G9=\"týdně\",S9*I9*$C$90,IF(G9=\"měsíčně\",S9*I9*$C$91,IF(G9=\"čtvrtletně\",S9*I9*4*$C$92,IF(G9=\"ročně\",S9*I9*$C$92,I9*S9*$C$92)))))*'Základní údaje'!$H$13*IF(M9=1,'Základní údaje'!$C$12,1)","v":0}]
["Příplatek za silně znečištěné WC",null,null,1,1,1,"měsíčně",null,2,null,null,1,0,"Typová činnost č.: 14\n(nutno doložit fotodokumentací)",20,null,0.33333333333333331,0,0,{"$f":"IF(G10=\"denně\",S10*I10*$C$89,IF(G10=\"týdně\",S10*I10*$C$90,IF(G10=\"měsíčně\",S10*I10*$C$91,IF(G10=\"čtvrtletně\",S10*I10*4*$C$92,IF(G10=\"ročně\",S10*I10*$C$92,I10*S10*$C$92)))))*'Základní údaje'!$H$13*IF(M10=1,'Základní údaje'!$C$12,1)","v":0}]
["Mytí vnitřních skleněných ploch",null,{"$f":"'kanc.+skleň.pl.'!F8","v":47},null,1,{"$f":"C11*E11+D11*E11","v":47},"měsíčně",null,1,null,null,1,0,"Typová činnost č. 12",{"$f":"(120*C11)/60","v":94},null,{"$f":"IF(P11=0,O11*E11/60,P11*E11/60)","v":1.5666666666666667},{"$f":"ROUND(IF(P11=0,O11/60*$C$2,P11/60*$C$2),0)","v":0},{"$f":"R11*E11","v":0},{"$f":"IF(G11=\"denně\",S11*I11*$C$89,IF(G11=\"týdně\",S11*I11*$C$90,IF(G11=\"měsíčně\",S11*I11*$C$91,IF(G11=\"čtvrtletně\",S11*I11*4*$C$92,IF(G11=\"ročně\",S11*I11*$C$92,I11*S11*$C$92)))))*'Základní údaje'!$H$13*IF(M11=1,'Základní údaje'!$C$12,1)","v":0}]
["SCHODIŠTĚ včetně podest - ze suterénu k bytům (3. NP)\n(3 podlaží)",null,{"$f":"0.25*1.2*60+3*1.3+2.5+6.2*5.5+6.4*3.7+3*4","v":94.18},null,1,{"$f":"C12*E12+D12*E12","v":94.18},"týdně",null,1,null,null,1,0,"Typová činnost č.: 1\ndlažba",{"$f":"20*C12/60","v":31.393333333333334},null,{"$f":"IF(P12=0,O12*E12/60,P12*E12/60)","v":0.52322222222222226},{"$f":"ROUND(IF(P12=0,O12/60*$C$2,P12/60*$C$2),0)","v":0},{"$f":"R12*E12","v":0},{"$f":"IF(G12=\"denně\",S12*I12*$C$89,IF(G12=\"týdně\",S12*I12*$C$90,IF(G12=\"měsíčně\",S12*I12*$C$91,IF(G12=\"čtvrtletně\",S12*I12*4*$C$92,IF(G12=\"ročně\",S12*I12*$C$92,I12*S12*$C$92)))))*'Základní údaje'!$H$13*IF(M12=1,'Základní údaje'!$C$12,1)","v":0}]
["Výtah ze suterénu k bytům",null,{"$f":"1.1*1.4","v":1.54},null,1,{"$f":"C13*E13+D13*E13","v":1.54},"týdně",null,1,null,null,1,0,"Typová činnost č.: 16",5,null,{"$f":"IF(P13=0,O13*E13/60,P13*E13/60)","v":8.3333333333333329E-2},{"$f":"ROUND(IF(P13=0,O13/60*$C$2,P13/60*$C$2),0)","v":0},{"$f":"R13*E13","v":0},{"$f":"IF(G13=\"denně\",S13*I13*$C$89,IF(G13=\"týdně\",S13*I13*$C$90,IF(G13=\"měsíčně\",S13*I13*$C$91,IF(G13=\"čtvrtletně\",S13*I13*4*$C$92,IF(G13=\"ročně\",S13*I13*$C$92,I13*S13*$C$92)))))*'Základní údaje'!$H$13*IF(M13=1,'Základní údaje'!$C$12,1)","v":0}]
["Chodba před byty, 3. NP",null,{"$f":"3.6*1.5+8.2*1.5","v":17.7},null,1,17.7,"týdně",null,1,null,null,1,0,"Typová činnost č.: 1\ndlažba",{"$f":"15*C14/60","v":4.4249999999999998},null,7.3749999999999996E-2,0,{"$f":"R14*E14","v":0},{"$f":"IF(G14=\"denně\",S14*I14*$C$89,IF(G14=\"týdně\",S14*I14*$C$90,IF(G14=\"měsíčně\",S14*I14*$C$91,IF(G14=\"čtvrtletně\",S14*I14*4*$C$92,IF(G14=\"ročně\",S14*I14*$C$92,I14*S14*$C$92)))))*'Základní údaje'!$H$13*IF(M14=1,'Základní údaje'!$C$12,1)","v":0}]
["ZADNÍ SCHODIŠTĚ včetně podest - ze suterénu k Xport (3. NP)\n(3 podlaží)",null,{"$f":"1.2*0.25*34+3*1.1*2+1.3*4+0.8*(1.15*4)","v":25.68},null,1,{"$f":"C15*E15+D15*E15","v":25.68},"měsíčně",null,1,null,null,1,0,"Typová činnost č.: 1\ndlažba",{"$f":"15*C15/60","v":6.42},null,{"$f":"IF(P15=0,O15*E15/60,P15*E15/60)","v":0.107},{"$f":"ROUND(IF(P15=0,O15/60*$C$2,P15/60*$C$2),0)","v":0},{"$f":"R15*E15","v":0},{"$f":"IF(G15=\"denně\",S15*I15*$C$89,IF(G15=\"týdně\",S15*I15*$C$90,IF(G15=\"měsíčně\",S15*I15*$C$91,IF(G15=\"čtvrtletně\",S15*I15*4*$C$92,IF(G15=\"ročně\",S15*I15*$C$92,I15*S15*$C$92)))))*'Základní údaje'!$H$13*IF(M15=1,'Základní údaje'!$C$12,1)","v":0}]
["KANCELÁŘE - 1. NP\n15x (viz list \"Kanceláře\")",null,null,1,15,15,"denně",null,1,null,null,1,0,"Typová činnost č.: 3. a",1.5,null,0.375,0,0,{"$f":"IF(G16=\"denně\",S16*I16*$C$89,IF(G16=\"týdně\",S16*I16*$C$90,IF(G16=\"měsíčně\",S16*I16*$C$91,IF(G16=\"čtvrtletně\",S16*I16*4*$C$92,IF(G16=\"ročně\",S16*I16*$C$92,I16*S16*$C$92)))))*'Základní údaje'!$H$13*IF(M16=1,'Základní údaje'!$C$12,1)","v":0}]
["KANCELÁŘE - 1. NP\n14x (viz list \"Kanceláře\")",null,{"$f":"'kanc.+skleň.pl.'!B17","v":265},null,1,{"$f":"C17*E17+D17*E17","v":265},"týdně",null,2,null,null,1,0,"Typová činnost č.: 3. b\nkoberec",{"$f":"15*C17/60","v":66.25},null,{"$f":"IF(P17=0,O17*E17/60,P17*E17/60)","v":1.1041666666666667},{"$f":"ROUND(IF(P17=0,O17/60*$C$2,P17/60*$C$2),0)","v":0},{"$f":"R17*E17","v":0},{"$f":"IF(G17=\"denně\",S17*I17*$C$89,IF(G17=\"týdně\",S17*I17*$C$90,IF(G17=\"měsíčně\",S17*I17*$C$91,IF(G17=\"čtvrtletně\",S17*I17*4*$C$92,IF(G17=\"ročně\",S17*I17*$C$92,I17*S17*$C$92)))))*'Základní údaje'!$H$13*IF(M17=1,'Základní údaje'!$C$12,1)","v":0}]
["KANCELÁŘ 146 - 1. NP",null,{"$f":"'kanc.+skleň.pl.'!B19","v":21.939999999999998},null,1,{"$f":"C18*E18+D18*E18","v":21.939999999999998},"týdně",null,2,null,null,1,0,"Typová činnost č.: 3. b\nlinoleum",5.4849999999999994,null,{"$f":"IF(P18=0,O18*E18/60,P18*E18/60)","v":9.141666666666666E-2},{"$f":"ROUND(IF(P18=0,O18/60*$C$2,P18/60*$C$2),0)","v":0},{"$f":"R18*E18","v":0},{"$f":"IF(G18=\"denně\",S18*I18*$C$89,IF(G18=\"týdně\",S18*I18*$C$90,IF(G18=\"měsíčně\",S18*I18*$C$91,IF(G18=\"čtvrtletně\",S18*I18*4*$C$92,IF(G18=\"ročně\",S18*I18*$C$92,I18*S18*$C$92)))))*'Základní údaje'!$H$13*IF(M18=1,'Základní údaje'!$C$12,1)","v":0}]
["Chodba před kancelářemi",null,{"$f":"5.6*2.4+2.9*8.3+15.3*1.8+1.6*3.6+3.7*13+13.7*1.5","v":139.45999999999998},null,1,{"$f":"C19*E19+D19*E19","v":139.45999999999998},"týdně",null,2,null,null,1,0,"Typová činnost č.: 3. b\nkoberec/dlažba",34.864999999999995,null,{"$f":"IF(P19=0,O19*E19/60,P19*E19/60)","v":0.58108333333333329},{"$f":"ROUND(IF(P19=0,O19/60*$C$2,P19/60*$C$2),0)","v":0},{"$f":"R19*E19","v":0},{"$f":"IF(G19=\"denně\",S19*I19*$C$89,IF(G19=\"týdně\",S19*I19*$C$90,IF(G19=\"měsíčně\",S19*I19*$C$91,IF(G19=\"čtvrtletně\",S19*I19*4*$C$92,IF(G19=\"ročně\",S19*I19*$C$92,I19*S19*$C$92)))))*'Základní údaje'!$H$13*IF(M19=1,'Základní údaje'!$C$12,1)","v":0}]
["Kuchyňka u kanceláří",null,{"$f":"1.8*2.9","v":5.22},null,1,{"$f":"C20*E20+D20*E20","v":5.22},"denně",null,1,null,null,1,0,"Typová činnost č.: 5\ndlažba",1.3049999999999999,null,{"$f":"IF(P20=0,O20*E20/60,P20*E20/60)","v":2.1749999999999999E-2},{"$f":"ROUND(IF(P20=0,O20/60*$C$2,P20/60*$C$2),0)","v":0},{"$f":"R20*E20","v":0},{"$f":"IF(G20=\"denně\",S20*I20*$C$89,IF(G20=\"týdně\",S20*I20*$C$90,IF(G20=\"měsíčně\",S20*I20*$C$91,IF(G20=\"čtvrtletně\",S20*I20*4*$C$92,IF(G20=\"ročně\",S20*I20*$C$92,I20*S20*$C$92)))))*'Základní údaje'!$H$13*IF(M20=1,'Základní údaje'!$C$12,1)","v":0}]
["Zasedací místnost + komora - 1. NP",null,{"$f":"5.8*6.1+1.8+1.8","v":38.97999999999999},null,1,{"$f":"C21*E21+D21*E21","v":38.97999999999999},"týdně",null,2,null,null,1,0,"Typová činnost č.: 17\nkoberec",9.7449999999999974,null,{"$f":"IF(P21=0,O21*E21/60,P21*E21/60)","v":0.16241666666666663},{"$f":"ROUND(IF(P21=0,O21/60*$C$2,P21/60*$C$2),0)","v":0},{"$f":"R21*E21","v":0},{"$f":"IF(G21=\"denně\",S21*I21*$C$89,IF(G21=\"týdně\",S21*I21*$C$90,IF(G21=\"měsíčně\",S21*I21*$C$91,IF(G21=\"čtvrtletně\",S21*I21*4*$C$92,IF(G21=\"ročně\",S21*I21*$C$92,I21*S21*$C$92)))))*'Základní údaje'!$H$13*IF(M21=1,'Základní údaje'!$C$12,1)","v":0}]
["Vynesení pytel ze skartovačky (zasedací místnost)",null,null,1,1,{"$f":"C22*E22+D22*E22","v":1},"týdně",null,1,null,null,1,0,"Typová činnost č.: 3. a",10,null,{"$f":"IF(P22=0,O22*E22/60,P22*E22/60)","v":0.16666666666666666},{"$f":"ROUND(IF(P22=0,O22/60*$C$2,P22/60*$C$2),0)","v":0},{"$f":"R22*E22","v":0},{"$f":"IF(G22=\"denně\",S22*I22*$C$89,IF(G22=\"týdně\",S22*I22*$C$90,IF(G22=\"měsíčně\",S22*I22*$C$91,IF(G22=\"čtvrtletně\",S22*I22*4*$C$92,IF(G22=\"ročně\",S22*I22*$C$92,I22*S22*$C$92)))))*'Základní údaje'!$H$13*IF(M22=1,'Základní údaje'!$C$12,1)","v":0}]
["Sprcha dámy (kanceláře)",null,{"$f":"2.7*1.8","v":4.8600000000000003},null,1,{"$f":"C23*E23+D23*E23","v":4.8600000000000003},"týdně",null,2,null,null,1,0,"Typová činnost č.: 15\ndlažba",{"$f":"15*C23/60","v":1.2150000000000001},null,{"$f":"IF(P23=0,O23*E23/60,P23*E23/60)","v":2.0250000000000001E-2},{"$f":"ROUND(IF(P23=0,O23/60*$C$2,P23/60*$C$2),0)","v":0},{"$f":"R23*E23","v":0},{"$f":"IF(G23=\"denně\",S23*I23*$C$89,IF(G23=\"týdně\",S23*I23*$C$90,IF(G23=\"měsíčně\",S23*I23*$C$91,IF(G23=\"čtvrtletně\",S23*I23*4*$C$92,IF(G23=\"ročně\",S23*I23*$C$92,I23*S23*$C$92)))))*'Základní údaje'!$H$13*IF(M23=1,'Základní údaje'!$C$12,1)","v":0}]
["Sprcha páni (kanceláře)",null,{"$f":"1.1*2.6","v":2.8600000000000003},null,1,2.8600000000000003,"týdně",null,2,null,null,1,0,"Typová činnost č.: 15\ndlažba",0.71500000000000008,null,1.1916666666666667E-2,0,0,{"$f":"IF(G24=\"denně\",S24*I24*$C$89,IF(G24=\"týdně\",S24*I24*$C$90,IF(G24=\"měsíčně\",S24*I24*$C$91,IF(G24=\"čtvrtletně\",S24*I24*4*$C$92,IF(G24=\"ročně\",S24*I24*$C$92,I24*S24*$C$92)))))*'Základní údaje'!$H$13*IF(M24=1,'Základní údaje'!$C$12,1)","v":0}]
["WC dány (kanceláře)\n2x záchod, 2x umyvadlo",null,{"$f":"2.8*4","v":11.2},null,1,11.2,"týdně",null,2,null,null,1,0,"Typová činnost č.: 14\ndlažba",2.8,null,4.6666666666666662E-2,0,0,{"$f":"IF(G25=\"denně\",S25*I25*$C$89,IF(G25=\"týdně\",S25*I25*$C$90,IF(G25=\"měsíčně\",S25*I25*$C$91,IF(G25=\"čtvrtletně\",S25*I25*4*$C$92,IF(G25=\"ročně\",S25*I25*$C$92,I25*S25*$C$92)))))*'Základní údaje'!$H$13*IF(M25=1,'Základní údaje'!$C$12,1)","v":0}]
["WC páni (kanceláře)\n1x záchod, 2x umyvadlo, 2x pisoar",null,{"$f":"2.8*4","v":11.2},null,1,11.2,"týdně",null,2,null,null,1,0,"Typová činnost č.: 14\ndlažba",2.8,null,4.6666666666666662E-2,0,0,{"$f":"IF(G26=\"denně\",S26*I26*$C$89,IF(G26=\"týdně\",S26*I26*$C$90,IF(G26=\"měsíčně\",S26*I26*$C$91,IF(G26=\"čtvrtletně\",S26*I26*4*$C$92,IF(G26=\"ročně\",S26*I26*$C$92,I26*S26*$C$92)))))*'Základní údaje'!$H$13*IF(M26=1,'Základní údaje'!$C$12,1)","v":0}]
["Schodiště ze SÚZ do xPORT",1,24.54,null,1,24.54,"denně",null,1,null,null,1,0,"Typová činnost č.: 1\nPodlahová krytina: dlažba",6.1349999999999998,null,0.10224999999999999,0,0,{"$f":"IF(G27=\"denně\",S27*I27*$C$89,IF(G27=\"týdně\",S27*I27*$C$90,IF(G27=\"měsíčně\",S27*I27*$C$91,IF(G27=\"čtvrtletně\",S27*I27*4*$C$92,IF(G27=\"ročně\",S27*I27*$C$92,I27*S27*$C$92)))))*'Základní údaje'!$H$13*IF(M27=1,'Základní údaje'!$C$12,1)","v":0}]
["vstupní hala xPORT + recepce",1,44.01,null,1,44.01,"denně",null,1,null,null,1,0,"Typová činnost č.: 1\nPodlahová krytina: lino",{"$f":"25*C28/60","v":18.337499999999999},null,0.30562499999999998,0,0,{"$f":"IF(G28=\"denně\",S28*I28*$C$89,IF(G28=\"týdně\",S28*I28*$C$90,IF(G28=\"měsíčně\",S28*I28*$C$91,IF(G28=\"čtvrtletně\",S28*I28*4*$C$92,IF(G28=\"ročně\",S28*I28*$C$92,I28*S28*$C$92)))))*'Základní údaje'!$H$13*IF(M28=1,'Základní údaje'!$C$12,1)","v":0}]
["Kuchyňka - 2. NP xPORT",1,71.55,null,1,71.55,"denně",null,1,null,null,1,0,"Typová činnost č.: 5\nPodlahová krytina: lino",{"$f":"30*C29/60","v":35.774999999999999},null,0.59624999999999995,0,0,{"$f":"IF(G29=\"denně\",S29*I29*$C$89,IF(G29=\"týdně\",S29*I29*$C$90,IF(G29=\"měsíčně\",S29*I29*$C$91,IF(G29=\"čtvrtletně\",S29*I29*4*$C$92,IF(G29=\"ročně\",S29*I29*$C$92,I29*S29*$C$92)))))*'Základní údaje'!$H$13*IF(M29=1,'Základní údaje'!$C$12,1)","v":0}]
["WC - 2. NP xPORT",1,34.25,null,1,34.25,"denně",null,1,null,null,1,0,"Typová činnost č.: 14\nPodlahová krytina: dlažba",{"$f":"450/60","v":7.5},null,0.125,0,0,{"$f":"IF(G30=\"denně\",S30*I30*$C$89,IF(G30=\"týdně\",S30*I30*$C$90,IF(G30=\"měsíčně\",S30*I30*$C$91,IF(G30=\"čtvrtletně\",S30*I30*4*$C$92,IF(G30=\"ročně\",S30*I30*$C$92,I30*S30*$C$92)))))*'Základní údaje'!$H$13*IF(M30=1,'Základní údaje'!$C$12,1)","v":0}]
["Director - 2. NP xPORT",1,14.51,null,1,14.51,"denně",null,1,null,null,1,0,"Typová činnost č.: 3\nPodlahová krytina: koberec",{"$f":"15*C31/60","v":3.6274999999999999},null,6.0458333333333329E-2,0,0,{"$f":"IF(G31=\"denně\",S31*I31*$C$89,IF(G31=\"týdně\",S31*I31*$C$90,IF(G31=\"měsíčně\",S31*I31*$C$91,IF(G31=\"čtvrtletně\",S31*I31*4*$C$92,IF(G31=\"ročně\",S31*I31*$C$92,I31*S31*$C$92)))))*'Základní údaje'!$H$13*IF(M31=1,'Základní údaje'!$C$12,1)","v":0}]
["Chill Out - 2. NP xPORT",1,57.06,null,1,57.06,"denně",null,1,null,null,1,0,"Typová činnost č.: 3\nPodlahová krytina: lino+koberec",14.265000000000002,null,0.23775000000000004,0,0,{"$f":"IF(G32=\"denně\",S32*I32*$C$89,IF(G32=\"týdně\",S32*I32*$C$90,IF(G32=\"měsíčně\",S32*I32*$C$91,IF(G32=\"čtvrtletně\",S32*I32*4*$C$92,IF(G32=\"ročně\",S32*I32*$C$92,I32*S32*$C$92)))))*'Základní údaje'!$H$13*IF(M32=1,'Základní údaje'!$C$12,1)","v":0}]
["Kuchyňka - 3. NP xPORT",1,5.7,null,1,5.7,"denně",null,1,null,null,1,0,"Typová činnost č.: 5\nPodlahová krytina: lino",{"$f":"30*C33/60","v":2.85},null,4.7500000000000001E-2,0,0,{"$f":"IF(G33=\"denně\",S33*I33*$C$89,IF(G33=\"týdně\",S33*I33*$C$90,IF(G33=\"měsíčně\",S33*I33*$C$91,IF(G33=\"čtvrtletně\",S33*I33*4*$C$92,IF(G33=\"ročně\",S33*I33*$C$92,I33*S33*$C$92)))))*'Základní údaje'!$H$13*IF(M33=1,'Základní údaje'!$C$12,1)","v":0}]
["Kanceláře - 3. NP xPORT",1,{"$f":"292.67/7","v":41.81},null,7,292.67,"denně",null,1,null,null,1,0,"Typová činnost č.: 3\nPodlahová krytina: koberec",{"$f":"15*C34/60","v":10.452500000000002},null,1.2194583333333335,0,0,{"$f":"IF(G34=\"denně\",S34*I34*$C$89,IF(G34=\"týdně\",S34*I34*$C$90,IF(G34=\"měsíčně\",S34*I34*$C$91,IF(G34=\"čtvrtletně\",S34*I34*4*$C$92,IF(G34=\"ročně\",S34*I34*$C$92,I34*S34*$C$92)))))*'Základní údaje'!$H$13*IF(M34=1,'Základní údaje'!$C$12,1)","v":0}]
["WC - 3. NP xPORT",1,26.75,null,1,26.75,"denně",null,1,null,null,1,0,"Typová činnost č.: 14\nPodlahová krytina: dlažba",7.5,null,0.125,0,0,{"$f":"IF(G35=\"denně\",S35*I35*$C$89,IF(G35=\"týdně\",S35*I35*$C$90,IF(G35=\"měsíčně\",S35*I35*$C$91,IF(G35=\"čtvrtletně\",S35*I35*4*$C$92,IF(G35=\"ročně\",S35*I35*$C$92,I35*S35*$C$92)))))*'Základní údaje'!$H$13*IF(M35=1,'Základní údaje'!$C$12,1)","v":0}]
["Příplatek za silně znečištěné WC xPORT",1,null,1,1,{"$f":"C36*E36+D36*E36","v":1},"měsíčně",null,2,null,null,1,0,"Typová činnost č.: 14\n(nutno doložit fotodokumentací)",20,null,{"$f":"IF(P36=0,O36*E36/60,P36*E36/60)","v":0.33333333333333331},{"$f":"ROUND(IF(P36=0,O36/60*$C$2,P36/60*$C$2),0)","v":0},{"$f":"R36*E36","v":0},{"$f":"IF(G36=\"denně\",S36*I36*$C$89,IF(G36=\"týdně\",S36*I36*$C$90,IF(G36=\"měsíčně\",S36*I36*$C$91,IF(G36=\"čtvrtletně\",S36*I36*4*$C$92,IF(G36=\"ročně\",S36*I36*$C$92,I36*S36*$C$92)))))*'Základní údaje'!$H$13*IF(M36=1,'Základní údaje'!$C$12,1)","v":0}]
["Bay Bridge - 2. NP xPORT",1,45.81,null,1,45.81,"denně",null,1,null,null,1,0,"Typová činnost č.: 3\nPodlahová krytina: koberec",{"$f":"20*C37/60","v":15.270000000000001},null,{"$f":"IF(P37=0,O37*E37/60,P37*E37/60)","v":0.2545},{"$f":"ROUND(IF(P37=0,O37/60*$C$2,P37/60*$C$2),0)","v":0},{"$f":"R37*E37","v":0},{"$f":"IF(G37=\"denně\",S37*I37*$C$89,IF(G37=\"týdně\",S37*I37*$C$90,IF(G37=\"měsíčně\",S37*I37*$C$91,IF(G37=\"čtvrtletně\",S37*I37*4*$C$92,IF(G37=\"ročně\",S37*I37*$C$92,I37*S37*$C$92)))))*'Základní údaje'!$H$13*IF(M37=1,'Základní údaje'!$C$12,1)","v":0}]
["San Francisco - 2. NP xPORT",1,62.92,null,1,62.92,"denně",null,1,null,null,1,0,"Typová činnost č.: 3\nPodlahová krytina: koberec",20.973333333333336,null,0.34955555555555562,0,0,{"$f":"IF(G38=\"denně\",S38*I38*$C$89,IF(G38=\"týdně\",S38*I38*$C$90,IF(G38=\"měsíčně\",S38*I38*$C$91,IF(G38=\"čtvrtletně\",S38*I38*4*$C$92,IF(G38=\"ročně\",S38*I38*$C$92,I38*S38*$C$92)))))*'Základní údaje'!$H$13*IF(M38=1,'Základní údaje'!$C$12,1)","v":0}]
["Recepce včetně meeting rooms - 2. NP xPORT",1,121.19,null,1,121.19,"denně",null,1,null,null,1,0,"Typová činnost č.: 1\nPodlahová krytina: lino",40.396666666666668,null,0.67327777777777775,0,0,{"$f":"IF(G39=\"denně\",S39*I39*$C$89,IF(G39=\"týdně\",S39*I39*$C$90,IF(G39=\"měsíčně\",S39*I39*$C$91,IF(G39=\"čtvrtletně\",S39*I39*4*$C$92,IF(G39=\"ročně\",S39*I39*$C$92,I39*S39*$C$92)))))*'Základní údaje'!$H$13*IF(M39=1,'Základní údaje'!$C$12,1)","v":0}]
["Open Space - 2. NP xPORT",1,272,null,1,272,"denně",null,1,null,null,1,0,"Typová činnost č.: 3\nPodlahová krytina: koberec",90.666666666666671,null,1.5111111111111113,0,0,{"$f":"IF(G40=\"denně\",S40*I40*$C$89,IF(G40=\"týdně\",S40*I40*$C$90,IF(G40=\"měsíčně\",S40*I40*$C$91,IF(G40=\"čtvrtletně\",S40*I40*4*$C$92,IF(G40=\"ročně\",S40*I40*$C$92,I40*S40*$C$92)))))*'Základní údaje'!$H$13*IF(M40=1,'Základní údaje'!$C$12,1)","v":0}]
["Open Space kancelář - 2. NP xPORT",1,41,null,1,{"$f":"C41*E41+D41*E41","v":41},"denně",null,1,null,null,1,0,"Typová činnost č.: 3\nPodlahová krytina: koberec",{"$f":"20*C41/60","v":13.666666666666666},null,{"$f":"IF(P41=0,O41*E41/60,P41*E41/60)","v":0.22777777777777777},{"$f":"ROUND(IF(P41=0,O41/60*$C$2,P41/60*$C$2),0)","v":0},{"$f":"R41*E41","v":0},{"$f":"IF(G41=\"denně\",S41*I41*$C$89,IF(G41=\"týdně\",S41*I41*$C$90,IF(G41=\"měsíčně\",S41*I41*$C$91,IF(G41=\"čtvrtletně\",S41*I41*4*$C$92,IF(G41=\"ročně\",S41*I41*$C$92,I41*S41*$C$92)))))*'Základní údaje'!$H$13*IF(M41=1,'Základní údaje'!$C$12,1)","v":0}]
["Lobby - 2. NP xPORT",1,26.46,null,1,26.46,"denně",null,1,null,null,1,0,"Typová činnost č.: 3\nPodlahová krytina: lino",8.82,null,0.14699999999999999,0,0,{"$f":"IF(G42=\"denně\",S42*I42*$C$89,IF(G42=\"týdně\",S42*I42*$C$90,IF(G42=\"měsíčně\",S42*I42*$C$91,IF(G42=\"čtvrtletně\",S42*I42*4*$C$92,IF(G42=\"ročně\",S42*I42*$C$92,I42*S42*$C$92)))))*'Základní údaje'!$H$13*IF(M42=1,'Základní údaje'!$C$12,1)","v":0}]
["Chodba - 2. NP xPORT",1,32.96,null,1,32.96,"denně",null,1,null,null,1,0,"Typová činnost č.: 1\nPodlahová krytina: koberec",{"$f":"10*C43/60","v":5.4933333333333341},null,9.1555555555555571E-2,0,0,{"$f":"IF(G43=\"denně\",S43*I43*$C$89,IF(G43=\"týdně\",S43*I43*$C$90,IF(G43=\"měsíčně\",S43*I43*$C$91,IF(G43=\"čtvrtletně\",S43*I43*4*$C$92,IF(G43=\"ročně\",S43*I43*$C$92,I43*S43*$C$92)))))*'Základní údaje'!$H$13*IF(M43=1,'Základní údaje'!$C$12,1)","v":0}]
["World Trade Centre - 2. NP xPORT",1,43.63,null,1,43.63,"denně",null,1,null,null,1,0,"Typová činnost č.: 3\nPodlahová krytina: koberec",{"$f":"20*C44/60","v":14.543333333333333},null,0.24238888888888888,0,0,{"$f":"IF(G44=\"denně\",S44*I44*$C$89,IF(G44=\"týdně\",S44*I44*$C$90,IF(G44=\"měsíčně\",S44*I44*$C$91,IF(G44=\"čtvrtletně\",S44*I44*4*$C$92,IF(G44=\"ročně\",S44*I44*$C$92,I44*S44*$C$92)))))*'Základní údaje'!$H$13*IF(M44=1,'Základní údaje'!$C$12,1)","v":0}]
["Malé zas. místnosti - 2. NP xPORT",1,49.98,null,1,49.98,"denně",null,1,null,null,1,0,"Typová činnost č.: 3\nPodlahová krytina: koberec",16.66,null,0.27766666666666667,0,0,{"$f":"IF(G45=\"denně\",S45*I45*$C$89,IF(G45=\"týdně\",S45*I45*$C$90,IF(G45=\"měsíčně\",S45*I45*$C$91,IF(G45=\"čtvrtletně\",S45*I45*4*$C$92,IF(G45=\"ročně\",S45*I45*$C$92,I45*S45*$C$92)))))*'Základní údaje'!$H$13*IF(M45=1,'Základní údaje'!$C$12,1)","v":0}]
["Area 51 - 2. NP xPORT",1,25.29,null,1,25.29,"denně",null,1,null,null,1,0,"Typová činnost č.: 3\nPodlahová krytina: koberec",8.43,null,0.14049999999999999,0,0,{"$f":"IF(G46=\"denně\",S46*I46*$C$89,IF(G46=\"týdně\",S46*I46*$C$90,IF(G46=\"měsíčně\",S46*I46*$C$91,IF(G46=\"čtvrtletně\",S46*I46*4*$C$92,IF(G46=\"ročně\",S46*I46*$C$92,I46*S46*$C$92)))))*'Základní údaje'!$H$13*IF(M46=1,'Základní údaje'!$C$12,1)","v":0}]
["Call rooms - 2. NP xPORT",1,12.68,null,1,12.68,"denně",null,1,null,null,1,0,"Typová činnost č.: 3\nPodlahová krytina: koberec",4.2266666666666666,null,7.0444444444444448E-2,0,0,{"$f":"IF(G47=\"denně\",S47*I47*$C$89,IF(G47=\"týdně\",S47*I47*$C$90,IF(G47=\"měsíčně\",S47*I47*$C$91,IF(G47=\"čtvrtletně\",S47*I47*4*$C$92,IF(G47=\"ročně\",S47*I47*$C$92,I47*S47*$C$92)))))*'Základní údaje'!$H$13*IF(M47=1,'Základní údaje'!$C$12,1)","v":0}]
["Manhattan - 2. NP xPORT",1,27.33,null,1,{"$f":"C48*E48+D48*E48","v":27.33},"denně",null,1,null,null,1,0,"Typová činnost č.: 3\nPodlahová krytina: koberec",9.1099999999999977,null,{"$f":"IF(P48=0,O48*E48/60,P48*E48/60)","v":0.15183333333333329},{"$f":"ROUND(IF(P48=0,O48/60*$C$2,P48/60*$C$2),0)","v":0},{"$f":"R48*E48","v":0},{"$f":"IF(G48=\"denně\",S48*I48*$C$89,IF(G48=\"týdně\",S48*I48*$C$90,IF(G48=\"měsíčně\",S48*I48*$C$91,IF(G48=\"čtvrtletně\",S48*I48*4*$C$92,IF(G48=\"ročně\",S48*I48*$C$92,I48*S48*$C$92)))))*'Základní údaje'!$H$13*IF(M48=1,'Základní údaje'!$C$12,1)","v":0}]
["Chodba - 3. NP xPORT",1,11.65,null,1,11.65,"denně",null,1,null,null,1,0,"Typová činnost č.: 1\nPodlahová krytina: koberec",{"$f":"10*C49/60","v":1.9416666666666667},null,3.2361111111111111E-2,0,0,{"$f":"IF(G49=\"denně\",S49*I49*$C$89,IF(G49=\"týdně\",S49*I49*$C$90,IF(G49=\"měsíčně\",S49*I49*$C$91,IF(G49=\"čtvrtletně\",S49*I49*4*$C$92,IF(G49=\"ročně\",S49*I49*$C$92,I49*S49*$C$92)))))*'Základní údaje'!$H$13*IF(M49=1,'Základní údaje'!$C$12,1)","v":0}]
["Open Space - 3. NP xPORT",1,119.93,null,1,119.93,"denně",null,1,null,null,1,0,"Typová činnost č.: 3\nPodlahová krytina: koberec",39.976666666666674,null,0.66627777777777786,0,{"$f":"R50*E50","v":0},{"$f":"IF(G50=\"denně\",S50*I50*$C$89,IF(G50=\"týdně\",S50*I50*$C$90,IF(G50=\"měsíčně\",S50*I50*$C$91,IF(G50=\"čtvrtletně\",S50*I50*4*$C$92,IF(G50=\"ročně\",S50*I50*$C$92,I50*S50*$C$92)))))*'Základní údaje'!$H$13*IF(M50=1,'Základní údaje'!$C$12,1)","v":0}]
["Schodiště - 3. NP xPORT",1,10.83,null,1,10.83,"denně",null,1,null,null,1,0,"Typová činnost č.: 1\nPodlahová krytina: koberec",{"$f":"15*C51/60","v":2.7075},null,4.5124999999999998E-2,0,0,{"$f":"IF(G51=\"denně\",S51*I51*$C$89,IF(G51=\"týdně\",S51*I51*$C$90,IF(G51=\"měsíčně\",S51*I51*$C$91,IF(G51=\"čtvrtletně\",S51*I51*4*$C$92,IF(G51=\"ročně\",S51*I51*$C$92,I51*S51*$C$92)))))*'Základní údaje'!$H$13*IF(M51=1,'Základní údaje'!$C$12,1)","v":0}]
["Schod. ze SÚZ do xPORT - 2. NP xPORT",1,17.829999999999998,null,1,17.829999999999998,"měsíčně",null,1,null,null,1,0,"Typová činnost č.: 1\nPodlahová krytina: dlažba",{"$f":"15*C52/60","v":4.4574999999999996},null,7.4291666666666659E-2,0,0,{"$f":"IF(G52=\"denně\",S52*I52*$C$89,IF(G52=\"týdně\",S52*I52*$C$90,IF(G52=\"měsíčně\",S52*I52*$C$91,IF(G52=\"čtvrtletně\",S52*I52*4*$C$92,IF(G52=\"ročně\",S52*I52*$C$92,I52*S52*$C$92)))))*'Základní údaje'!$H$13*IF(M52=1,'Základní údaje'!$C$12,1)","v":0}]
["Terasa - 3. NP xPORT",1,60.79,null,1,60.79,"měsíčně",null,1,null,null,1,0,"Typová činnost č.: 2\nPodlahová krytina: plast",{"$f":"25*C53/60","v":25.329166666666666},null,0.42215277777777777,0,0,{"$f":"IF(G53=\"denně\",S53*I53*$C$89,IF(G53=\"týdně\",S53*I53*$C$90,IF(G53=\"měsíčně\",S53*I53*$C$91,IF(G53=\"čtvrtletně\",S53*I53*4*$C$92,IF(G53=\"ročně\",S53*I53*$C$92,I53*S53*$C$92)))))*'Základní údaje'!$H$13*IF(M53=1,'Základní údaje'!$C$12,1)","v":0}]
["Mytí vnitřních skleněných ploch xPORT",1,{"$f":"'kanc.+skleň.pl.'!M12","v":114},null,1,{"$f":"C54*E54+D54*E54","v":114},"měsíčně",null,1,null,null,1,0,"Typová činnost č.: 12",{"$f":"120*C54/60","v":228},null,{"$f":"IF(P54=0,O54*E54/60,P54*E54/60)","v":3.8},{"$f":"ROUND(IF(P54=0,O54/60*$C$2,P54/60*$C$2),0)","v":0},{"$f":"R54*E54","v":0},{"$f":"IF(G54=\"denně\",S54*I54*$C$89,IF(G54=\"týdně\",S54*I54*$C$90,IF(G54=\"měsíčně\",S54*I54*$C$91,IF(G54=\"čtvrtletně\",S54*I54*4*$C$92,IF(G54=\"ročně\",S54*I54*$C$92,I54*S54*$C$92)))))*'Základní údaje'!$H$13*IF(M54=1,'Základní údaje'!$C$12,1)","v":0}]
["Mytí oken xPORT",1,{"$f":"'kanc.+skleň.pl.'!Q9","v":219},null,1,219,"ročně",null,1,null,null,1,0,"Typová činnost č.: 12",{"$f":"120*C55/60","v":438},null,7.3,0,0,{"$f":"IF(G55=\"denně\",S55*I55*$C$89,IF(G55=\"týdně\",S55*I55*$C$90,IF(G55=\"měsíčně\",S55*I55*$C$91,IF(G55=\"čtvrtletně\",S55*I55*4*$C$92,IF(G55=\"ročně\",S55*I55*$C$92,I55*S55*$C$92)))))*'Základní údaje'!$H$13*IF(M55=1,'Základní údaje'!$C$12,1)","v":0}]
["Předsíň tělocvičny (1.PP)",null,{"$f":"2.6*5.5","v":14.3},null,1,14.3,"sezonně","týdně",{"$f":"TRUNC((K56-J56+1)*IF(H56=\"denně\",5,IF(H56=\"týdně\",1,IF(H56=\"měsíčně\",0.25,IF(H56=\"čtvrtletně\",0.077,1/(K56-J56+1))))),0)","v":17},36,52,1,0,"Typová činnost č.: 1\nPodlahová krytina: koberec",{"$f":"15*C56/60","v":3.5750000000000002},null,5.9583333333333335E-2,0,0,{"$f":"IF(G56=\"denně\",S56*I56*$C$89,IF(G56=\"týdně\",S56*I56*$C$90,IF(G56=\"měsíčně\",S56*I56*$C$91,IF(G56=\"čtvrtletně\",S56*I56*4*$C$92,IF(G56=\"ročně\",S56*I56*$C$92,I56*S56*$C$92)))))*'Základní údaje'!$H$13*IF(M56=1,'Základní údaje'!$C$12,1)","v":0}]
["Předsíň tělocvičny (1.PP)",null,14.3,null,1,14.3,"sezonně","týdně",{"$f":"TRUNC((K57-J57+1)*IF(H57=\"denně\",5,IF(H57=\"týdně\",1,IF(H57=\"měsíčně\",0.25,IF(H57=\"čtvrtletně\",0.077,1/(K57-J57+1))))),0)","v":26},1,26,1,0,"Typová činnost č.: 1\nPodlahová krytina: koberec",7.5,null,0.125,0,0,{"$f":"IF(G57=\"denně\",S57*I57*$C$89,IF(G57=\"týdně\",S57*I57*$C$90,IF(G57=\"měsíčně\",S57*I57*$C$91,IF(G57=\"čtvrtletně\",S57*I57*4*$C$92,IF(G57=\"ročně\",S57*I57*$C$92,I57*S57*$C$92)))))*'Základní údaje'!$H$13*IF(M57=1,'Základní údaje'!$C$12,1)","v":0}]
["Chodba před tělocvičnami (1.PP)",null,{"$f":"12.3*1.7+9.2*1.8","v":37.47},null,1,{"$f":"C58*E58+D58*E58","v":37.47},"sezonně","týdně",{"$f":"TRUNC((K58-J58+1)*IF(H58=\"denně\",5,IF(H58=\"týdně\",1,IF(H58=\"měsíčně\",0.25,IF(H58=\"čtvrtletně\",0.077,1/(K58-J58+1))))),0)","v":17},36,52,1,0,"Typová činnost č.: 1\nPodlahová krytina: dlažba",{"$f":"15*C58/60","v":9.3674999999999997},null,{"$f":"IF(P58=0,O58*E58/60,P58*E58/60)","v":0.15612499999999999},{"$f":"ROUND(IF(P58=0,O58/60*$C$2,P58/60*$C$2),0)","v":0},{"$f":"R58*E58","v":0},{"$f":"IF(G58=\"denně\",S58*I58*$C$89,IF(G58=\"týdně\",S58*I58*$C$90,IF(G58=\"měsíčně\",S58*I58*$C$91,IF(G58=\"čtvrtletně\",S58*I58*4*$C$92,IF(G58=\"ročně\",S58*I58*$C$92,I58*S58*$C$92)))))*'Základní údaje'!$H$13*IF(M58=1,'Základní údaje'!$C$12,1)","v":0}]
["Chodba před tělocvičnami (1.PP)",null,{"$f":"12.3*1.7+9.2*1.8","v":37.47},null,1,{"$f":"C59*E59+D59*E59","v":37.47},"sezonně","týdně",{"$f":"TRUNC((K59-J59+1)*IF(H59=\"denně\",5,IF(H59=\"týdně\",1,IF(H59=\"měsíčně\",0.25,IF(H59=\"čtvrtletně\",0.077,1/(K59-J59+1))))),0)","v":26},1,26,1,0,"Typová činnost č.: 1\nPodlahová krytina: dlažba",7.5,null,0.125,0,0,{"$f":"IF(G59=\"denně\",S59*I59*$C$89,IF(G59=\"týdně\",S59*I59*$C$90,IF(G59=\"měsíčně\",S59*I59*$C$91,IF(G59=\"čtvrtletně\",S59*I59*4*$C$92,IF(G59=\"ročně\",S59*I59*$C$92,I59*S59*$C$92)))))*'Základní údaje'!$H$13*IF(M59=1,'Základní údaje'!$C$12,1)","v":0}]
["ŠATNA PROFESOŘI - 1.PP\n(toaleta, sprcha)",null,{"$f":"4.1*2","v":8.1999999999999993},null,1,8.1999999999999993,"sezonně","denně",85,36,52,1,0,"Typová činnost č.: 3, 14 a 15\nPodlahová krytina: dlažba",{"$f":"20*C60/60","v":2.7333333333333334},null,4.5555555555555557E-2,0,0,{"$f":"IF(G60=\"denně\",S60*I60*$C$89,IF(G60=\"týdně\",S60*I60*$C$90,IF(G60=\"měsíčně\",S60*I60*$C$91,IF(G60=\"čtvrtletně\",S60*I60*4*$C$92,IF(G60=\"ročně\",S60*I60*$C$92,I60*S60*$C$92)))))*'Základní údaje'!$H$13*IF(M60=1,'Základní údaje'!$C$12,1)","v":0}]
["ŠATNA PROFESOŘI - 1.PP\n(toaleta, sprcha)",null,{"$f":"4.1*2","v":8.1999999999999993},null,1,8.1999999999999993,"sezonně","denně",130,1,26,1,0,"Typová činnost č.: 3, 14 a 15\nPodlahová krytina: dlažba",{"$f":"100*C61/60","v":13.666666666666664},null,0.22777777777777775,0,0,{"$f":"IF(G61=\"denně\",S61*I61*$C$89,IF(G61=\"týdně\",S61*I61*$C$90,IF(G61=\"měsíčně\",S61*I61*$C$91,IF(G61=\"čtvrtletně\",S61*I61*4*$C$92,IF(G61=\"ročně\",S61*I61*$C$92,I61*S61*$C$92)))))*'Základní údaje'!$H$13*IF(M61=1,'Základní údaje'!$C$12,1)","v":0}]
["ŠATNA muži - 1.PP\n(2x spch.kout, 2x toalety, 2x pisoar)",null,{"$f":"6*2.3+2.3*4.2","v":23.46},null,1,{"$f":"C62*E62+D62*E62","v":23.46},"sezonně","denně",85,36,52,1,0,"Typová činnost č.: 3, 14 a 15\nPodlahová krytina: dlažba",{"$f":"20*C62/60","v":7.8200000000000012},null,{"$f":"IF(P62=0,O62*E62/60,P62*E62/60)","v":0.13033333333333336},{"$f":"ROUND(IF(P62=0,O62/60*$C$2,P62/60*$C$2),0)","v":0},{"$f":"R62*E62","v":0},{"$f":"IF(G62=\"denně\",S62*I62*$C$89,IF(G62=\"týdně\",S62*I62*$C$90,IF(G62=\"měsíčně\",S62*I62*$C$91,IF(G62=\"čtvrtletně\",S62*I62*4*$C$92,IF(G62=\"ročně\",S62*I62*$C$92,I62*S62*$C$92)))))*'Základní údaje'!$H$13*IF(M62=1,'Základní údaje'!$C$12,1)","v":0}]
["ŠATNA muži - 1.PP\n(2x spch.kout, 2x toalety, 2x pisoar)",null,{"$f":"6*2.3+2.3*4.2","v":23.46},null,1,{"$f":"C63*E63+D63*E63","v":23.46},"sezonně","denně",130,1,26,1,0,"Typová činnost č.: 3, 14 a 15\nPodlahová krytina: dlažba",7.5,null,{"$f":"IF(P63=0,O63*E63/60,P63*E63/60)","v":0.125},{"$f":"ROUND(IF(P63=0,O63/60*$C$2,P63/60*$C$2),0)","v":0},{"$f":"R63*E63","v":0},{"$f":"IF(G63=\"denně\",S63*I63*$C$89,IF(G63=\"týdně\",S63*I63*$C$90,IF(G63=\"měsíčně\",S63*I63*$C$91,IF(G63=\"čtvrtletně\",S63*I63*4*$C$92,IF(G63=\"ročně\",S63*I63*$C$92,I63*S63*$C$92)))))*'Základní údaje'!$H$13*IF(M63=1,'Základní údaje'!$C$12,1)","v":0}]
["ŠATNA ženy - 1.PP\n(2x spch.kout, 2x toalety)",null,{"$f":"6*2.3+2.3*4.2","v":23.46},null,1,{"$f":"C64*E64+D64*E64","v":23.46},"sezonně","denně",85,36,52,1,0,"Typová činnost č.: 3, 14 a 15\nPodlahová krytina: dlažba",{"$f":"20*C64/60","v":7.8200000000000012},null,{"$f":"IF(P64=0,O64*E64/60,P64*E64/60)","v":0.13033333333333336},{"$f":"ROUND(IF(P64=0,O64/60*$C$2,P64/60*$C$2),0)","v":0},{"$f":"R64*E64","v":0},{"$f":"IF(G64=\"denně\",S64*I64*$C$89,IF(G64=\"týdně\",S64*I64*$C$90,IF(G64=\"měsíčně\",S64*I64*$C$91,IF(G64=\"čtvrtletně\",S64*I64*4*$C$92,IF(G64=\"ročně\",S64*I64*$C$92,I64*S64*$C$92)))))*'Základní údaje'!$H$13*IF(M64=1,'Základní údaje'!$C$12,1)","v":0}]
["ŠATNA ženy - 1.PP\n(2x spch.kout, 2x toalety)",null,{"$f":"6*2.3+2.3*4.2","v":23.46},null,1,{"$f":"C65*E65+D65*E65","v":23.46},"sezonně","denně",130,1,26,1,0,"Typová činnost č.: 3, 14 a 15\nPodlahová krytina: dlažba",{"$f":"100*C65/60","v":39.1},null,{"$f":"IF(P65=0,O65*E65/60,P65*E65/60)","v":0.65166666666666673},{"$f":"ROUND(IF(P65=0,O65/60*$C$2,P65/60*$C$2),0)","v":0},{"$f":"R65*E65","v":0},{"$f":"IF(G65=\"denně\",S65*I65*$C$89,IF(G65=\"týdně\",S65*I65*$C$90,IF(G65=\"měsíčně\",S65*I65*$C$91,IF(G65=\"čtvrtletně\",S65*I65*4*$C$92,IF(G65=\"ročně\",S65*I65*$C$92,I65*S65*$C$92)))))*'Základní údaje'!$H$13*IF(M65=1,'Základní údaje'!$C$12,1)","v":0}]
["CVIČEBNÍ SÁL A - 1.PP",null,{"$f":"8.6*6.2","v":53.32},null,1,{"$f":"C66*E66+D66*E66","v":53.32},"sezonně","týdně",17,36,52,1,0,"Typová činnost č.: 3\nPodlahová krytina: žiněnky",{"$f":"20*C66/60","v":17.773333333333333},null,{"$f":"IF(P66=0,O66*E66/60,P66*E66/60)","v":0.29622222222222222},{"$f":"ROUND(IF(P66=0,O66/60*$C$2,P66/60*$C$2),0)","v":0},{"$f":"R66*E66","v":0},{"$f":"IF(G66=\"denně\",S66*I66*$C$89,IF(G66=\"týdně\",S66*I66*$C$90,IF(G66=\"měsíčně\",S66*I66*$C$91,IF(G66=\"čtvrtletně\",S66*I66*4*$C$92,IF(G66=\"ročně\",S66*I66*$C$92,I66*S66*$C$92)))))*'Základní údaje'!$H$13*IF(M66=1,'Základní údaje'!$C$12,1)","v":0}]
["CVIČEBNÍ SÁL A - 1.PP",null,{"$f":"8.6*6.2","v":53.32},null,1,53.32,"sezonně","týdně",26,1,26,1,0,"Typová činnost č.: 3\nPodlahová krytina: žiněnky",17.773333333333333,null,0.29622222222222222,0,0,{"$f":"IF(G67=\"denně\",S67*I67*$C$89,IF(G67=\"týdně\",S67*I67*$C$90,IF(G67=\"měsíčně\",S67*I67*$C$91,IF(G67=\"čtvrtletně\",S67*I67*4*$C$92,IF(G67=\"ročně\",S67*I67*$C$92,I67*S67*$C$92)))))*'Základní údaje'!$H$13*IF(M67=1,'Základní údaje'!$C$12,1)","v":0}]
["CVIČEBNÍ SÁL B - 1.PP",null,{"$f":"17.2*6","v":103.19999999999999},null,1,{"$f":"C68*E68+D68*E68","v":103.19999999999999},"sezonně","týdně",17,36,52,1,0,"Typová činnost č.: 3\nPodlahová krytina: žiněnky",34.4,null,{"$f":"IF(P68=0,O68*E68/60,P68*E68/60)","v":0.57333333333333336},{"$f":"ROUND(IF(P68=0,O68/60*$C$2,P68/60*$C$2),0)","v":0},{"$f":"R68*E68","v":0},{"$f":"IF(G68=\"denně\",S68*I68*$C$89,IF(G68=\"týdně\",S68*I68*$C$90,IF(G68=\"měsíčně\",S68*I68*$C$91,IF(G68=\"čtvrtletně\",S68*I68*4*$C$92,IF(G68=\"ročně\",S68*I68*$C$92,I68*S68*$C$92)))))*'Základní údaje'!$H$13*IF(M68=1,'Základní údaje'!$C$12,1)","v":0}]
["CVIČEBNÍ SÁL B - 1.PP",null,103.19999999999999,null,1,{"$f":"C69*E69+D69*E69","v":103.19999999999999},"sezonně","týdně",26,1,26,1,0,"Typová činnost č.: 3\nPodlahová krytina: žiněnky",34.4,null,{"$f":"IF(P69=0,O69*E69/60,P69*E69/60)","v":0.57333333333333336},{"$f":"ROUND(IF(P69=0,O69/60*$C$2,P69/60*$C$2),0)","v":0},{"$f":"R69*E69","v":0},{"$f":"IF(G69=\"denně\",S69*I69*$C$89,IF(G69=\"týdně\",S69*I69*$C$90,IF(G69=\"měsíčně\",S69*I69*$C$91,IF(G69=\"čtvrtletně\",S69*I69*4*$C$92,IF(G69=\"ročně\",S69*I69*$C$92,I69*S69*$C$92)))))*'Základní údaje'!$H$13*IF(M69=1,'Základní údaje'!$C$12,1)","v":0}]
["NÁŘAĎOVNA - 1.PP",null,6.7,null,1,{"$f":"C70*E70+D70*E70","v":6.7},"sezonně","měsíčně",{"$f":"TRUNC((K70-J70+1)*IF(H70=\"denně\",5,IF(H70=\"týdně\",1,IF(H70=\"měsíčně\",0.25,IF(H70=\"čtvrtletně\",0.077,1/(K70-J70+1))))),0)","v":4},36,52,1,0,"Typová činnost č.: 3\nPodlahová krytina: dlažba",2.2333333333333334,null,{"$f":"IF(P70=0,O70*E70/60,P70*E70/60)","v":3.7222222222222226E-2},{"$f":"ROUND(IF(P70=0,O70/60*$C$2,P70/60*$C$2),0)","v":0},{"$f":"R70*E70","v":0},{"$f":"IF(G70=\"denně\",S70*I70*$C$89,IF(G70=\"týdně\",S70*I70*$C$90,IF(G70=\"měsíčně\",S70*I70*$C$91,IF(G70=\"čtvrtletně\",S70*I70*4*$C$92,IF(G70=\"ročně\",S70*I70*$C$92,I70*S70*$C$92)))))*'Základní údaje'!$H$13*IF(M70=1,'Základní údaje'!$C$12,1)","v":0}]
["NÁŘAĎOVNA - 1.PP",null,6.7,null,1,{"$f":"C71*E71+D71*E71","v":6.7},"sezonně","měsíčně",6,1,27,1,0,"Typová činnost č.: 3\nPodlahová krytina: dlažba",2.2333333333333334,null,{"$f":"IF(P71=0,O71*E71/60,P71*E71/60)","v":3.7222222222222226E-2},{"$f":"ROUND(IF(P71=0,O71/60*$C$2,P71/60*$C$2),0)","v":0},{"$f":"R71*E71","v":0},{"$f":"IF(G71=\"denně\",S71*I71*$C$89,IF(G71=\"týdně\",S71*I71*$C$90,IF(G71=\"měsíčně\",S71*I71*$C$91,IF(G71=\"čtvrtletně\",S71*I71*4*$C$92,IF(G71=\"ročně\",S71*I71*$C$92,I71*S71*$C$92)))))*'Základní údaje'!$H$13*IF(M71=1,'Základní údaje'!$C$12,1)","v":0}]
["chodba, sport. areál",null,{"$f":"17.5+2.2+2.1*2.3","v":24.53},null,1,{"$f":"C72*E72+D72*E72","v":24.53},"sezonně","denně",85,36,52,1,0,"Typová činnost č.: 3\nPodlahová krytina: dlažba",{"$f":"20*C72/60","v":8.1766666666666676},null,{"$f":"IF(P72=0,O72*E72/60,P72*E72/60)","v":0.1362777777777778},{"$f":"ROUND(IF(P72=0,O72/60*$C$2,P72/60*$C$2),0)","v":0},{"$f":"R72*E72","v":0},{"$f":"IF(G72=\"denně\",S72*I72*$C$89,IF(G72=\"týdně\",S72*I72*$C$90,IF(G72=\"měsíčně\",S72*I72*$C$91,IF(G72=\"čtvrtletně\",S72*I72*4*$C$92,IF(G72=\"ročně\",S72*I72*$C$92,I72*S72*$C$92)))))*'Základní údaje'!$H$13*IF(M72=1,'Základní údaje'!$C$12,1)","v":0}]
["chodba, sport. areál",null,24.53,null,1,24.53,"sezonně","denně",135,1,27,1,0,"Typová činnost č.: 1\nPodlahová krytina: dlažba",{"$f":"10*C73/60","v":4.0883333333333338},null,6.8138888888888902E-2,0,{"$f":"R73*E73","v":0},{"$f":"IF(G73=\"denně\",S73*I73*$C$89,IF(G73=\"týdně\",S73*I73*$C$90,IF(G73=\"měsíčně\",S73*I73*$C$91,IF(G73=\"čtvrtletně\",S73*I73*4*$C$92,IF(G73=\"ročně\",S73*I73*$C$92,I73*S73*$C$92)))))*'Základní údaje'!$H$13*IF(M73=1,'Základní údaje'!$C$12,1)","v":0}]
["šatna profesoři, sport. areál\n(toalety, sprchy)",null,{"$f":"2.4*4+2.4*2.7","v":16.079999999999998},null,1,16.079999999999998,"sezonně","denně",85,36,52,1,0,"Typová činnost č.: 14 + 15\nPodlahová krytina: dlažba",{"$f":"100*C74/60","v":26.799999999999997},null,0.4466666666666666,0,0,{"$f":"IF(G74=\"denně\",S74*I74*$C$89,IF(G74=\"týdně\",S74*I74*$C$90,IF(G74=\"měsíčně\",S74*I74*$C$91,IF(G74=\"čtvrtletně\",S74*I74*4*$C$92,IF(G74=\"ročně\",S74*I74*$C$92,I74*S74*$C$92)))))*'Základní údaje'!$H$13*IF(M74=1,'Základní údaje'!$C$12,1)","v":0}]
["šatna profesoři, sport. areál\n(toalety, sprchy)",null,16.079999999999998,null,1,{"$f":"C75*E75+D75*E75","v":16.079999999999998},"sezonně","denně",135,1,27,1,0,"Typová činnost č.: 3, 14 a 15\nPodlahová krytina: dlažba",{"$f":"20*C75/60","v":5.3599999999999994},null,{"$f":"IF(P75=0,O75*E75/60,P75*E75/60)","v":8.933333333333332E-2},{"$f":"ROUND(IF(P75=0,O75/60*$C$2,P75/60*$C$2),0)","v":0},{"$f":"R75*E75","v":0},{"$f":"IF(G75=\"denně\",S75*I75*$C$89,IF(G75=\"týdně\",S75*I75*$C$90,IF(G75=\"měsíčně\",S75*I75*$C$91,IF(G75=\"čtvrtletně\",S75*I75*4*$C$92,IF(G75=\"ročně\",S75*I75*$C$92,I75*S75*$C$92)))))*'Základní údaje'!$H$13*IF(M75=1,'Základní údaje'!$C$12,1)","v":0}]
["šatna ženy, sport.areál\n(3x toaleta, 4x sprcha)",null,{"$f":"6*3.7+2.8*3.1+2.2*4","v":39.680000000000007},null,1,{"$f":"C76*E76+D76*E76","v":39.680000000000007},"sezonně","denně",85,36,52,1,0,"Typová činnost č.: 3, 14 a 15\nPodlahová krytina: dlažba",{"$f":"10*C76/60","v":6.6133333333333342},null,{"$f":"IF(P76=0,O76*E76/60,P76*E76/60)","v":0.11022222222222224},{"$f":"ROUND(IF(P76=0,O76/60*$C$2,P76/60*$C$2),0)","v":0},{"$f":"R76*E76","v":0},{"$f":"IF(G76=\"denně\",S76*I76*$C$89,IF(G76=\"týdně\",S76*I76*$C$90,IF(G76=\"měsíčně\",S76*I76*$C$91,IF(G76=\"čtvrtletně\",S76*I76*4*$C$92,IF(G76=\"ročně\",S76*I76*$C$92,I76*S76*$C$92)))))*'Základní údaje'!$H$13*IF(M76=1,'Základní údaje'!$C$12,1)","v":0}]
["šatna ženy, sport.areál\n(3x toaleta, 4x sprcha)",null,{"$f":"6*3.7+2.8*3.1+2.2*4","v":39.680000000000007},null,1,{"$f":"C77*E77+D77*E77","v":39.680000000000007},"sezonně","denně",135,1,27,1,0,"Typová činnost č.: 3, 14 a 15\nPodlahová krytina: dlažba",{"$f":"100*C77/60","v":66.133333333333354},null,{"$f":"IF(P77=0,O77*E77/60,P77*E77/60)","v":1.1022222222222227},{"$f":"ROUND(IF(P77=0,O77/60*$C$2,P77/60*$C$2),0)","v":0},{"$f":"R77*E77","v":0},{"$f":"IF(G77=\"denně\",S77*I77*$C$89,IF(G77=\"týdně\",S77*I77*$C$90,IF(G77=\"měsíčně\",S77*I77*$C$91,IF(G77=\"čtvrtletně\",S77*I77*4*$C$92,IF(G77=\"ročně\",S77*I77*$C$92,I77*S77*$C$92)))))*'Základní údaje'!$H$13*IF(M77=1,'Základní údaje'!$C$12,1)","v":0}]
["šatna muži, sport.areál\n(3x pisoar, 2x toaleta, 4x sprcha)",null,{"$f":"6*3.1+2.9*3+2.2*4","v":36.1},null,1,{"$f":"C78*E78+D78*E78","v":36.1},"sezonně","denně",85,36,52,1,0,"Typová činnost č.: 3, 14 a 15\nPodlahová krytina: dlažba",{"$f":"20*C78/60","v":12.033333333333333},null,{"$f":"IF(P78=0,O78*E78/60,P78*E78/60)","v":0.20055555555555554},{"$f":"ROUND(IF(P78=0,O78/60*$C$2,P78/60*$C$2),0)","v":0},{"$f":"R78*E78","v":0},{"$f":"IF(G78=\"denně\",S78*I78*$C$89,IF(G78=\"týdně\",S78*I78*$C$90,IF(G78=\"měsíčně\",S78*I78*$C$91,IF(G78=\"čtvrtletně\",S78*I78*4*$C$92,IF(G78=\"ročně\",S78*I78*$C$92,I78*S78*$C$92)))))*'Základní údaje'!$H$13*IF(M78=1,'Základní údaje'!$C$12,1)","v":0}]
["šatna muži, sport.areál\n(3x pisoar, 2x toaleta, 4x sprcha)",null,{"$f":"6*3.1+2.9*3+2.2*4","v":36.1},null,1,{"$f":"C79*E79+D79*E79","v":36.1},"sezonně","denně",135,1,27,1,0,"Typová činnost č.: 3, 14 a 15\nPodlahová krytina: dlažba",12.033333333333333,null,{"$f":"IF(P79=0,O79*E79/60,P79*E79/60)","v":0.20055555555555554},{"$f":"ROUND(IF(P79=0,O79/60*$C$2,P79/60*$C$2),0)","v":0},{"$f":"R79*E79","v":0},{"$f":"IF(G79=\"denně\",S79*I79*$C$89,IF(G79=\"týdně\",S79*I79*$C$90,IF(G79=\"měsíčně\",S79*I79*$C$91,IF(G79=\"čtvrtletně\",S79*I79*4*$C$92,IF(G79=\"ročně\",S79*I79*$C$92,I79*S79*$C$92)))))*'Základní údaje'!$H$13*IF(M79=1,'Základní údaje'!$C$12,1)","v":0}]
["Mytí oken v kancelářích",null,{"$f":"'kanc.+skleň.pl.'!J9","v":372},null,1,372,"ročně",null,1,null,null,1,0,"Typová činnost č. 12",{"$f":"(240*C80)/60","v":1488},null,24.8,0,0,{"$f":"IF(G80=\"denně\",S80*I80*$C$89,IF(G80=\"týdně\",S80*I80*$C$90,IF(G80=\"měsíčně\",S80*I80*$C$91,IF(G80=\"čtvrtletně\",S80*I80*4*$C$92,IF(G80=\"ročně\",S80*I80*$C$92,I80*S80*$C$92)))))*'Základní údaje'!$H$13*IF(M80=1,'Základní údaje'!$C$12,1)","v":0}]
[null,null,null,null,1,0,null,null,1,null,null,1,0,null,null,null,0,0,0,{"$f":"IF(G81=\"denně\",S81*I81*$C$89,IF(G81=\"týdně\",S81*I81*$C$90,IF(G81=\"měsíčně\",S81*I81*$C$91,IF(G81=\"čtvrtletně\",S81*I81*4*$C$92,IF(G81=\"ročně\",S81*I81*$C$92,I81*S81*$C$92)))))*'Základní údaje'!$H$13*IF(M81=1,'Základní údaje'!$C$12,1)","v":0}]
[null,null,null,null,null,0,null,null,1,null,null,1,0,null,null,null,0,0,0,{"$f":"IF(G82=\"denně\",S82*I82*$C$89,IF(G82=\"týdně\",S82*I82*$C$90,IF(G82=\"měsíčně\",S82*I82*$C$91,IF(G82=\"čtvrtletně\",S82*I82*4*$C$92,IF(G82=\"ročně\",S82*I82*$C$92,I82*S82*$C$92)))))*'Základní údaje'!$H$13*IF(M82=1,'Základní údaje'!$C$12,1)","v":0}]
[null,null,null,null,null,0,null,null,1,null,null,1,0,null,null,null,0,0,0,{"$f":"IF(G83=\"denně\",S83*I83*$C$89,IF(G83=\"týdně\",S83*I83*$C$90,IF(G83=\"měsíčně\",S83*I83*$C$91,IF(G83=\"čtvrtletně\",S83*I83*4*$C$92,IF(G83=\"ročně\",S83*I83*$C$92,I83*S83*$C$92)))))*'Základní údaje'!$H$13*IF(M83=1,'Základní údaje'!$C$12,1)","v":0}]
[null,null,null,null,null,{"$f":"C84*E84+D84*E84","v":0},null,null,1,null,null,null,null,null,null,null,{"$f":"IF(P84=0,O84*E84/60,P84*E84/60)","v":0},{"$f":"ROUND(IF(P84=0,O84/60*$C$2,P84/60*$C$2),0)","v":0},{"$f":"R84*E84","v":0},{"$f":"IF(G84=\"denně\",S84*I84*$C$89,IF(G84=\"týdně\",S84*I84*$C$90,IF(G84=\"měsíčně\",S84*I84*$C$91,IF(G84=\"čtvrtletně\",S84*I84*4*$C$92,IF(G84=\"ročně\",S84*I84*$C$92,I84*S84*$C$92)))))*'Základní údaje'!$H$13*IF(M84=1,'Základní údaje'!$C$12,1)","v":0}]
[null,null,null,null,null,0,null,null,1,null,null,null,null,null,null,null,0,0,0,{"$f":"IF(G85=\"denně\",S85*I85*$C$89,IF(G85=\"týdně\",S85*I85*$C$90,IF(G85=\"měsíčně\",S85*I85*$C$91,IF(G85=\"čtvrtletně\",S85*I85*4*$C$92,IF(G85=\"ročně\",S85*I85*$C$92,I85*S85*$C$92)))))*'Základní údaje'!$H$13*IF(M85=1,'Základní údaje'!$C$12,1)","v":0}]
[null,null,null,null,null,{"$f":"C86*E86+D86*E86","v":0},null,null,1,null,null,null,null,null,null,null,{"$f":"IF(P86=0,O86*E86/60,P86*E86/60)","v":0},{"$f":"ROUND(IF(P86=0,O86/60*$C$2,P86/60*$C$2),0)","v":0},{"$f":"R86*E86","v":0},{"$f":"IF(G86=\"denně\",S86*I86*$C$89,IF(G86=\"týdně\",S86*I86*$C$90,IF(G86=\"měsíčně\",S86*I86*$C$91,IF(G86=\"čtvrtletně\",S86*I86*4*$C$92,IF(G86=\"ročně\",S86*I86*$C$92,I86*S86*$C$92)))))*'Základní údaje'!$H$13*IF(M86=1,'Základní údaje'!$C$12,1)","v":0}]
["Plocha celkem",null,{"$f":"SUMPRODUCT(C6:C86,E6:E86)","v":3872.079999999999},"[m²]"]
["Počet kusů celkem",null,{"$f":"SUMPRODUCT(D6:D44,E6:E44)","v":18},"[-]"]
["Počet pracovních dnů úklidu:",null,{"$f":"NETWORKDAYS($D$1,$E$1,$A$99:$A$165)","v":1027},null,null,null,null,null,null,null,null,null,null,{"$f":"NETWORKDAYS(L89,M89,L90)","v":0}]
["Počet týdnů úklidu:",null,{"$f":"C92*52","v":208}]
["Počet měsíců úklidu:",null,{"$f":"C92*12","v":48}]
["Počet let úklidu",null,{"$f":"YEAR(E1)-YEAR(D1)","v":4}]
["CENA CELKEM:",null,{"$f":"ROUND(SUM(T6:T86),0)","v":0},null,null,"[Kč]"]
[]
[]
[]
[]
["svátky:",null,"četnost úklidu","označení","období úklidu",null,null,null,"Kritéria"]
["2019-01-01",null,"denně",0,"1. Q",null,null,null,{"$f":"$G$3","v":"uklízí se"}]
["2019-04-19",null,"týdně",1,"2. Q",null,null,null,{"$f":"C99","v":"denně"}]
["2019-04-22",null,"měsíčně",null,"3. Q"]
["2019-05-01",null,"čtvrtletně",null,"4. Q",null,null,null,{"$f":"$G$3","v":"uklízí se"}]
["2019-05-08",null,"ročně",null,"leden",null,null,null,{"$f":"C100","v":"týdně"}]
["2019-07-05",null,"sezonně",null,"únor"]
["2019-10-28",null,null,null,"březen",null,null,null,{"$f":"$G$3","v":"uklízí se"}]
["2019-12-24",null,null,null,"duben",null,null,null,{"$f":"C101","v":"měsíčně"}]
["2019-12-25",null,null,null,"květen"]
["2019-12-26",null,null,null,"červen",null,null,null,{"$f":"$G$3","v":"uklízí se"}]
["2020-01-01",null,null,null,"červenec",null,null,null,{"$f":"C102","v":"čtvrtletně"}]
["2020-04-10",null,null,null,"srpen"]
["2020-04-13",null,null,null,"září",null,null,null,{"$f":"$G$3","v":"uklízí se"}]
["2020-05-01",null,null,null,"říjen",null,null,null,{"$f":"C103","v":"ročně"}]
["2020-05-08",null,null,null,"listopad"]
["2020-07-06",null,null,null,"prosinec"]
["2020-09-28"]
["2020-10-28"]
["2020-11-17"]
["2020-12-24"]
["2020-12-25"]
["2021-01-01"]
["2021-04-02"]
["2021-04-05"]
["2021-07-05"]
["2021-07-06"]
["2021-09-28"]
["2021-10-28"]
["2021-11-17"]
["2021-12-24"]
["2022-04-15"]
["2022-04-18"]
["2022-07-05"]
["2022-07-06"]
["2022-09-28"]
["2022-10-28"]
["2022-11-17"]
["2022-12-26"]
["2023-04-07"]
["2023-04-10"]
["2023-05-01"]
["2023-05-08"]
["2023-07-05"]
["2023-07-06"]
["2023-09-28"]
["2023-11-17"]
["2023-12-25"]
["2023-12-26"]
["2024-01-01"]
["2024-03-29"]
["2024-04-01"]
["2024-05-01"]
["2024-05-08"]
["2024-07-05"]
["2024-10-28"]
["2024-12-24"]
["2024-12-26"]
["2024-12-26"]
["2025-01-01"]
["2025-04-18"]
["2025-04-21"]
["2025-10-28"]
["2025-11-17"]
["2025-12-24"]
["2025-12-25"]
["2025-12-26"]

{"sheet":"Karty úklidu","index":2,"n_rows":103,"n_cols":9,"rows_kept":103,"cut":false,"hidden":false,"merged":[]}
["V komentáři jsou zkratky pro tisk"]
["Karta úklidu",null,null,"Centrum kolejí Jarov","týden:",{"$f":"WEEKNUM(B3,1)","v":45}]
["DENNÍ ÚKLID                       DNE:",{"$f":"NOW()","v":"2023-11-07T15:38:08"},null,null,null,null,null,null,"sezonnost"]
[{"$f":"'Rozpis úklidu'!$A$3","v":"Úklidová jednotka"},{"$f":"'Rozpis úklidu'!$E$3","v":"počet\núklidových jednotek"},"Doba úklidu\n[hod.]",{"$f":"'Rozpis úklidu'!$N$3","v":"Popis činnosti"},{"$f":"'Rozpis úklidu'!$S$3","v":"cena celkem za všechny úklidové jednotky \n(prac. dny)\n[Kč]"},"Správně\nuklizené\njednotky","Smluvní pokuta\n[Kč]","Poznámka"]
[{"$f":"'Rozpis úklidu'!A4","v":"Vstupní schodiště venkovní-podesta"},{"$f":"'Rozpis úklidu'!E4","v":1},{"$f":"IF('Rozpis úklidu'!P4=0,'Rozpis úklidu'!O4*B5/60,'Rozpis úklidu'!P4*B5/60)","v":8.3333333333333329E-2},{"$f":"'Rozpis úklidu'!N4","v":"Typová činnost č.: 1\ndlažba + čistič bot"},{"$f":"'Rozpis úklidu'!R4*F5","v":0},{"$f":"B5","v":1},{"$f":"IF(F5<B5,(B5-F5)*('Rozpis úklidu'!R4)*2,0)","v":0}]
[{"$f":"'Rozpis úklidu'!A5","v":"Vstupní schodiště venkovní-schody"},{"$f":"'Rozpis úklidu'!E5","v":1},{"$f":"IF('Rozpis úklidu'!P5=0,'Rozpis úklidu'!O5*B6/60,'Rozpis úklidu'!P5*B6/60)","v":8.3333333333333329E-2},{"$f":"'Rozpis úklidu'!N5","v":"Typová činnost č.: 1\ndlažba"},{"$f":"'Rozpis úklidu'!R5*F6","v":0},{"$f":"B6","v":1},{"$f":"IF(F6<B6,(B6-F6)*('Rozpis úklidu'!R5)*2,0)","v":0}]
[{"$f":"'Rozpis úklidu'!A6","v":"Zádveří - 1. NP"},{"$f":"'Rozpis úklidu'!E6","v":1},{"$f":"IF('Rozpis úklidu'!P6=0,'Rozpis úklidu'!O6*B7/60,'Rozpis úklidu'!P6*B7/60)","v":8.3333333333333329E-2},{"$f":"'Rozpis úklidu'!N6","v":"Typová činnost č.: 1\ndlažba + zátěžový koberec"},{"$f":"'Rozpis úklidu'!R6*F7","v":0},1,{"$f":"IF(F7<B7,(B7-F7)*('Rozpis úklidu'!R6)*2,0)","v":0}]
[{"$f":"'Rozpis úklidu'!A7","v":"VSTUPNÍ HALA - 1. NP"},{"$f":"'Rozpis úklidu'!E7","v":1},{"$f":"IF('Rozpis úklidu'!P7=0,'Rozpis úklidu'!O7*B8/60,'Rozpis úklidu'!P7*B8/60)","v":0.76986111111111122},{"$f":"'Rozpis úklidu'!N7","v":"Typová činnost č.: 1\ndlažba + 6 m2 zátěžový koberec"},{"$f":"'Rozpis úklidu'!R7*F8","v":0},1,{"$f":"IF(F8<B8,(B8-F8)*('Rozpis úklidu'!R7)*2,0)","v":0}]
[{"$f":"'Rozpis úklidu'!A8","v":"WC - 1. NP vestibul páni\n2x kabinka, 3x pisoár, 2x umyvadlo"},{"$f":"'Rozpis úklidu'!E8","v":1},{"$f":"IF('Rozpis úklidu'!P8=0,'Rozpis úklidu'!O8*B9/60,'Rozpis úklidu'!P8*B9/60)","v":0.13333333333333333},{"$f":"'Rozpis úklidu'!N8","v":"Typová činnost č.: 14\ndlažba"},{"$f":"'Rozpis úklidu'!R8*F9","v":0},1,{"$f":"IF(F9<B9,(B9-F9)*('Rozpis úklidu'!R8)*2,0)","v":0}]
[{"$f":"'Rozpis úklidu'!A9","v":"WC - 1. NP vestibul dámy\n3x kabinka, 2x umyvadlo"},{"$f":"'Rozpis úklidu'!E9","v":1},{"$f":"IF('Rozpis úklidu'!P9=0,'Rozpis úklidu'!O9*B10/60,'Rozpis úklidu'!P9*B10/60)","v":0.13333333333333333},{"$f":"'Rozpis úklidu'!N9","v":"Typová činnost č.: 14\ndlažba"},{"$f":"'Rozpis úklidu'!R9*F10","v":0},1,{"$f":"IF(F10<B10,(B10-F10)*('Rozpis úklidu'!R9)*2,0)","v":0}]
[{"$f":"'Rozpis úklidu'!A16","v":"KANCELÁŘE - 1. NP\n15x (viz list \"Kanceláře\")"},{"$f":"'Rozpis úklidu'!E16","v":15},{"$f":"IF('Rozpis úklidu'!P16=0,'Rozpis úklidu'!O16*B11/60,'Rozpis úklidu'!P16*B11/60)","v":0.375},{"$f":"'Rozpis úklidu'!N16","v":"Typová činnost č.: 3. a"},{"$f":"'Rozpis úklidu'!R16*F11","v":0},{"$f":"B11","v":15},{"$f":"IF(F11<B11,(B11-F11)*('Rozpis úklidu'!R16)*2,0)","v":0}]
[{"$f":"'Rozpis úklidu'!A20","v":"Kuchyňka u kanceláří"},{"$f":"'Rozpis úklidu'!E20","v":1},{"$f":"IF('Rozpis úklidu'!P20=0,'Rozpis úklidu'!O20*B12/60,'Rozpis úklidu'!P20*B12/60)","v":2.1749999999999999E-2},{"$f":"'Rozpis úklidu'!N20","v":"Typová činnost č.: 5\ndlažba"},{"$f":"'Rozpis úklidu'!R20*F12","v":0},{"$f":"B12","v":1},{"$f":"IF(F12<B12,(B12-F12)*('Rozpis úklidu'!R20)*2,0)","v":0}]
[{"$f":"CONCATENATE('Rozpis úklidu'!A60,\" (\",'Rozpis úklidu'!G60,\")\")","v":"ŠATNA PROFESOŘI - 1.PP\n(toaleta, sprcha) (sezonně)"},{"$f":"'Rozpis úklidu'!E60*I13","v":1},{"$f":"IF('Rozpis úklidu'!P60=0,'Rozpis úklidu'!O60*B13/60,'Rozpis úklidu'!P60*B13/60)*I13","v":4.5555555555555557E-2},{"$f":"'Rozpis úklidu'!N60","v":"Typová činnost č.: 3, 14 a 15\nPodlahová krytina: dlažba"},{"$f":"'Rozpis úklidu'!R60*F13*I13","v":0},{"$f":"B13","v":1},{"$f":"IF(F13<B13,(B13-F13)*('Rozpis úklidu'!R60)*2,0)","v":0},null,{"$f":"IF(OR(AND(WEEKNUM($B$3,1)<='Rozpis úklidu'!K60,WEEKNUM($B$3,1)>='Rozpis úklidu'!J60),AND(WEEKNUM($B$3,1)<='Rozpis úklidu'!K61,WEEKNUM($B$3,1)>='Rozpis úklidu'!J61)),1,0)","v":1}]
[{"$f":"CONCATENATE('Rozpis úklidu'!A62,\" (\",'Rozpis úklidu'!G62,\")\")","v":"ŠATNA muži - 1.PP\n(2x spch.kout, 2x toalety, 2x pisoar) (sezonně)"},{"$f":"'Rozpis úklidu'!E62*I14","v":1},{"$f":"IF('Rozpis úklidu'!P62=0,'Rozpis úklidu'!O62*B14/60,'Rozpis úklidu'!P62*B14/60)*I14","v":0.13033333333333336},{"$f":"'Rozpis úklidu'!N62","v":"Typová činnost č.: 3, 14 a 15\nPodlahová krytina: dlažba"},{"$f":"'Rozpis úklidu'!R62*F14*I14","v":0},{"$f":"B14","v":1},{"$f":"IF(F14<B14,(B14-F14)*('Rozpis úklidu'!R62)*2,0)","v":0},null,{"$f":"IF(OR(AND(WEEKNUM($B$3,1)<='Rozpis úklidu'!K62,WEEKNUM($B$3,1)>='Rozpis úklidu'!J62),AND(WEEKNUM($B$3,1)<='Rozpis úklidu'!K63,WEEKNUM($B$3,1)>='Rozpis úklidu'!J63)),1,0)","v":1}]
[{"$f":"CONCATENATE('Rozpis úklidu'!A64,\" (\",'Rozpis úklidu'!G64,\")\")","v":"ŠATNA ženy - 1.PP\n(2x spch.kout, 2x toalety) (sezonně)"},{"$f":"'Rozpis úklidu'!E64*I15","v":1},{"$f":"IF('Rozpis úklidu'!P64=0,'Rozpis úklidu'!O64*B15/60,'Rozpis úklidu'!P64*B15/60)*I15","v":0.13033333333333336},{"$f":"'Rozpis úklidu'!N64","v":"Typová činnost č.: 3, 14 a 15\nPodlahová krytina: dlažba"},{"$f":"'Rozpis úklidu'!R64*F15*I15","v":0},{"$f":"B15","v":1},{"$f":"IF(F15<B15,(B15-F15)*('Rozpis úklidu'!R64)*2,0)","v":0},null,{"$f":"IF(OR(AND(WEEKNUM($B$3,1)<='Rozpis úklidu'!K64,WEEKNUM($B$3,1)>='Rozpis úklidu'!J64),AND(WEEKNUM($B$3,1)<='Rozpis úklidu'!K65,WEEKNUM($B$3,1)>='Rozpis úklidu'!J65)),1,0)","v":1}]
[{"$f":"CONCATENATE('Rozpis úklidu'!A72,\" (\",'Rozpis úklidu'!G72,\")\")","v":"chodba, sport. areál (sezonně)"},{"$f":"'Rozpis úklidu'!E72*I16","v":1},{"$f":"IF('Rozpis úklidu'!P72=0,'Rozpis úklidu'!O72*B16/60,'Rozpis úklidu'!P72*B16/60)*I16","v":0.1362777777777778},{"$f":"'Rozpis úklidu'!N72","v":"Typová činnost č.: 3\nPodlahová krytina: dlažba"},{"$f":"'Rozpis úklidu'!R72*F16*I16","v":0},{"$f":"B16","v":1},{"$f":"IF(F16<B16,(B16-F16)*('Rozpis úklidu'!R72)*2,0)","v":0},null,{"$f":"IF(OR(AND(WEEKNUM($B$3,1)<='Rozpis úklidu'!K72,WEEKNUM($B$3,1)>='Rozpis úklidu'!J72),AND(WEEKNUM($B$3,1)<='Rozpis úklidu'!K73,WEEKNUM($B$3,1)>='Rozpis úklidu'!J73)),1,0)","v":1}]
[{"$f":"CONCATENATE('Rozpis úklidu'!A74,\" (\",'Rozpis úklidu'!G74,\")\")","v":"šatna profesoři, sport. areál\n(toalety, sprchy) (sezonně)"},{"$f":"'Rozpis úklidu'!E74*I17","v":1},{"$f":"IF('Rozpis úklidu'!P74=0,'Rozpis úklidu'!O74*B17/60,'Rozpis úklidu'!P74*B17/60)*I17","v":0.4466666666666666},{"$f":"'Rozpis úklidu'!N74","v":"Typová činnost č.: 14 + 15\nPodlahová krytina: dlažba"},{"$f":"'Rozpis úklidu'!R74*F17*I17","v":0},1,{"$f":"IF(F17<B17,(B17-F17)*('Rozpis úklidu'!R74)*2,0)","v":0},null,{"$f":"IF(OR(AND(WEEKNUM($B$3,1)<='Rozpis úklidu'!K74,WEEKNUM($B$3,1)>='Rozpis úklidu'!J74),AND(WEEKNUM($B$3,1)<='Rozpis úklidu'!K75,WEEKNUM($B$3,1)>='Rozpis úklidu'!J75)),1,0)","v":1}]
[{"$f":"CONCATENATE('Rozpis úklidu'!A76,\" (\",'Rozpis úklidu'!G76,\")\")","v":"šatna ženy, sport.areál\n(3x toaleta, 4x sprcha) (sezonně)"},{"$f":"'Rozpis úklidu'!E76*I18","v":1},{"$f":"IF('Rozpis úklidu'!P76=0,'Rozpis úklidu'!O76*B18/60,'Rozpis úklidu'!P76*B18/60)*I18","v":0.11022222222222224},{"$f":"'Rozpis úklidu'!N76","v":"Typová činnost č.: 3, 14 a 15\nPodlahová krytina: dlažba"},{"$f":"'Rozpis úklidu'!R76*F18*I18","v":0},{"$f":"B18","v":1},{"$f":"IF(F18<B18,(B18-F18)*('Rozpis úklidu'!R76)*2,0)","v":0},null,{"$f":"IF(OR(AND(WEEKNUM($B$3,1)<='Rozpis úklidu'!K76,WEEKNUM($B$3,1)>='Rozpis úklidu'!J76),AND(WEEKNUM($B$3,1)<='Rozpis úklidu'!K77,WEEKNUM($B$3,1)>='Rozpis úklidu'!J77)),1,0)","v":1}]
[{"$f":"CONCATENATE('Rozpis úklidu'!A78,\" (\",'Rozpis úklidu'!G78,\")\")","v":"šatna muži, sport.areál\n(3x pisoar, 2x toaleta, 4x sprcha) (sezonně)"},{"$f":"'Rozpis úklidu'!E78*I19","v":1},{"$f":"IF('Rozpis úklidu'!P78=0,'Rozpis úklidu'!O78*B19/60,'Rozpis úklidu'!P24*B19/60)*I19","v":0.20055555555555554},{"$f":"'Rozpis úklidu'!N78","v":"Typová činnost č.: 3, 14 a 15\nPodlahová krytina: dlažba"},{"$f":"'Rozpis úklidu'!R78*F19*I19","v":0},1,{"$f":"IF(F19<B19,(B19-F19)*('Rozpis úklidu'!R78)*2,0)","v":0},null,{"$f":"IF(OR(AND(WEEKNUM($B$3,1)<='Rozpis úklidu'!K78,WEEKNUM($B$3,1)>='Rozpis úklidu'!J78),AND(WEEKNUM($B$3,1)<='Rozpis úklidu'!K79,WEEKNUM($B$3,1)>='Rozpis úklidu'!J35)),1,0)","v":1}]
["Úklidová pohotovost + Operativní úklidové práce dle požadavku vedoucí koleje",{"$f":"'Základní údaje'!B11","v":0},null,null,{"$f":"B20/60*F20","v":0},null,0]
[null,"Celkem hodin",{"$f":"SUM(C5:C19)","v":2.8832222222222224},"K FAKTURACI CELKEM za CKJ:",{"$f":"SUM(E5:E20)","v":0},null,{"$f":"SUM(G5:G20)","v":0},{"$f":"E21*21+E74*4.5+E91","v":0}]
["Podpis vedoucí směny:",null,null,"Podpis zástupce vedení CKJ:"]
[]
["Karta úklidu",null,null,"xPORT"]
["DENNÍ ÚKLID                       DNE:",{"$f":"NOW()","v":"2023-11-07T15:38:08"}]
[{"$f":"'Rozpis úklidu'!$A$3","v":"Úklidová jednotka"},{"$f":"'Rozpis úklidu'!$E$3","v":"počet\núklidových jednotek"},"Doba úklidu\n[hod.]",{"$f":"'Rozpis úklidu'!$N$3","v":"Popis činnosti"},{"$f":"'Rozpis úklidu'!$S$3","v":"cena celkem za všechny úklidové jednotky \n(prac. dny)\n[Kč]"},"Správně\nuklizené\njednotky","Smluvní pokuta\n[Kč]","Poznámka"]
[{"$f":"'Rozpis úklidu'!A27","v":"Schodiště ze SÚZ do xPORT"},{"$f":"'Rozpis úklidu'!E27","v":1},{"$f":"IF('Rozpis úklidu'!P27=0,'Rozpis úklidu'!O27*B27/60,'Rozpis úklidu'!P27*B27/60)","v":0.10224999999999999},{"$f":"'Rozpis úklidu'!N27","v":"Typová činnost č.: 1\nPodlahová krytina: dlažba"},{"$f":"'Rozpis úklidu'!R27*F27","v":0},{"$f":"B27","v":1},{"$f":"IF(F27<B27,(B27-F27)*('Rozpis úklidu'!R27)*2,0)","v":0}]
[{"$f":"'Rozpis úklidu'!A28","v":"vstupní hala xPORT + recepce"},{"$f":"'Rozpis úklidu'!E28","v":1},{"$f":"IF('Rozpis úklidu'!P28=0,'Rozpis úklidu'!O28*B28/60,'Rozpis úklidu'!P28*B28/60)","v":0.30562499999999998},{"$f":"'Rozpis úklidu'!N28","v":"Typová činnost č.: 1\nPodlahová krytina: lino"},{"$f":"'Rozpis úklidu'!R28*F28","v":0},{"$f":"B28","v":1},{"$f":"IF(F28<B28,(B28-F28)*('Rozpis úklidu'!R28)*2,0)","v":0}]
[{"$f":"'Rozpis úklidu'!A29","v":"Kuchyňka - 2. NP xPORT"},{"$f":"'Rozpis úklidu'!E29","v":1},{"$f":"IF('Rozpis úklidu'!P29=0,'Rozpis úklidu'!O29*B29/60,'Rozpis úklidu'!P29*B29/60)","v":0.59624999999999995},{"$f":"'Rozpis úklidu'!N29","v":"Typová činnost č.: 5\nPodlahová krytina: lino"},{"$f":"'Rozpis úklidu'!R29*F29","v":0},1,{"$f":"IF(F29<B29,(B29-F29)*('Rozpis úklidu'!R29)*2,0)","v":0}]
[{"$f":"'Rozpis úklidu'!A30","v":"WC - 2. NP xPORT"},{"$f":"'Rozpis úklidu'!E30","v":1},{"$f":"IF('Rozpis úklidu'!P30=0,'Rozpis úklidu'!O30*B30/60,'Rozpis úklidu'!P30*B30/60)","v":0.125},{"$f":"'Rozpis úklidu'!N30","v":"Typová činnost č.: 14\nPodlahová krytina: dlažba"},{"$f":"'Rozpis úklidu'!R30*F30","v":0},1,{"$f":"IF(F30<B30,(B30-F30)*('Rozpis úklidu'!R30)*2,0)","v":0}]
[{"$f":"'Rozpis úklidu'!A31","v":"Director - 2. NP xPORT"},{"$f":"'Rozpis úklidu'!E31","v":1},{"$f":"IF('Rozpis úklidu'!P31=0,'Rozpis úklidu'!O31*B31/60,'Rozpis úklidu'!P31*B31/60)","v":6.0458333333333329E-2},{"$f":"'Rozpis úklidu'!N31","v":"Typová činnost č.: 3\nPodlahová krytina: koberec"},{"$f":"'Rozpis úklidu'!R31*F31","v":0},1,{"$f":"IF(F31<B31,(B31-F31)*('Rozpis úklidu'!R31)*2,0)","v":0}]
[{"$f":"'Rozpis úklidu'!A32","v":"Chill Out - 2. NP xPORT"},{"$f":"'Rozpis úklidu'!E32","v":1},{"$f":"IF('Rozpis úklidu'!P32=0,'Rozpis úklidu'!O32*B32/60,'Rozpis úklidu'!P32*B32/60)","v":0.23775000000000004},{"$f":"'Rozpis úklidu'!N32","v":"Typová činnost č.: 3\nPodlahová krytina: lino+koberec"},{"$f":"'Rozpis úklidu'!R32*F32","v":0},1,{"$f":"IF(F32<B32,(B32-F32)*('Rozpis úklidu'!R32)*2,0)","v":0}]
[{"$f":"'Rozpis úklidu'!A33","v":"Kuchyňka - 3. NP xPORT"},{"$f":"'Rozpis úklidu'!E33","v":1},{"$f":"IF('Rozpis úklidu'!P33=0,'Rozpis úklidu'!O33*B33/60,'Rozpis úklidu'!P33*B33/60)","v":4.7500000000000001E-2},{"$f":"'Rozpis úklidu'!N33","v":"Typová činnost č.: 5\nPodlahová krytina: lino"},{"$f":"'Rozpis úklidu'!R33*F33","v":0},1,{"$f":"IF(F33<B33,(B33-F33)*('Rozpis úklidu'!R33)*2,0)","v":0}]
[{"$f":"'Rozpis úklidu'!A34","v":"Kanceláře - 3. NP xPORT"},{"$f":"'Rozpis úklidu'!E34","v":7},{"$f":"IF('Rozpis úklidu'!P34=0,'Rozpis úklidu'!O34*B34/60,'Rozpis úklidu'!P34*B34/60)","v":1.2194583333333335},{"$f":"'Rozpis úklidu'!N34","v":"Typová činnost č.: 3\nPodlahová krytina: koberec"},{"$f":"'Rozpis úklidu'!R34*F34","v":0},7,{"$f":"IF(F34<B34,(B34-F34)*('Rozpis úklidu'!R34)*2,0)","v":0}]
[{"$f":"'Rozpis úklidu'!A35","v":"WC - 3. NP xPORT"},{"$f":"'Rozpis úklidu'!E35","v":1},{"$f":"IF('Rozpis úklidu'!P35=0,'Rozpis úklidu'!O35*B35/60,'Rozpis úklidu'!P35*B35/60)","v":0.125},{"$f":"'Rozpis úklidu'!N35","v":"Typová činnost č.: 14\nPodlahová krytina: dlažba"},{"$f":"'Rozpis úklidu'!R35*F35","v":0},1,{"$f":"IF(F35<B35,(B35-F35)*('Rozpis úklidu'!R35)*2,0)","v":0}]
[{"$f":"'Rozpis úklidu'!A37","v":"Bay Bridge - 2. NP xPORT"},{"$f":"'Rozpis úklidu'!E37","v":1},{"$f":"IF('Rozpis úklidu'!P37=0,'Rozpis úklidu'!O37*B36/60,'Rozpis úklidu'!P37*B36/60)","v":0.2545},{"$f":"'Rozpis úklidu'!N37","v":"Typová činnost č.: 3\nPodlahová krytina: koberec"},{"$f":"'Rozpis úklidu'!R37*F36","v":0},1,{"$f":"IF(F36<B36,(B36-F36)*('Rozpis úklidu'!R37)*2,0)","v":0}]
[{"$f":"'Rozpis úklidu'!A38","v":"San Francisco - 2. NP xPORT"},{"$f":"'Rozpis úklidu'!E38","v":1},{"$f":"IF('Rozpis úklidu'!P38=0,'Rozpis úklidu'!O38*B37/60,'Rozpis úklidu'!P38*B37/60)","v":0.34955555555555562},{"$f":"'Rozpis úklidu'!N38","v":"Typová činnost č.: 3\nPodlahová krytina: koberec"},{"$f":"'Rozpis úklidu'!R38*F37","v":0},1,{"$f":"IF(F37<B37,(B37-F37)*('Rozpis úklidu'!R38)*2,0)","v":0}]
[{"$f":"'Rozpis úklidu'!A39","v":"Recepce včetně meeting rooms - 2. NP xPORT"},{"$f":"'Rozpis úklidu'!E39","v":1},{"$f":"IF('Rozpis úklidu'!P39=0,'Rozpis úklidu'!O39*B38/60,'Rozpis úklidu'!P39*B38/60)","v":0.67327777777777775},{"$f":"'Rozpis úklidu'!N39","v":"Typová činnost č.: 1\nPodlahová krytina: lino"},{"$f":"'Rozpis úklidu'!R39*F38","v":0},1,{"$f":"IF(F38<B38,(B38-F38)*('Rozpis úklidu'!R39)*2,0)","v":0}]
[{"$f":"'Rozpis úklidu'!A40","v":"Open Space - 2. NP xPORT"},{"$f":"'Rozpis úklidu'!E40","v":1},{"$f":"IF('Rozpis úklidu'!P40=0,'Rozpis úklidu'!O40*B39/60,'Rozpis úklidu'!P40*B39/60)","v":1.5111111111111113},{"$f":"'Rozpis úklidu'!N40","v":"Typová činnost č.: 3\nPodlahová krytina: koberec"},{"$f":"'Rozpis úklidu'!R40*F39","v":0},1,{"$f":"IF(F39<B39,(B39-F39)*('Rozpis úklidu'!R40)*2,0)","v":0}]
[{"$f":"'Rozpis úklidu'!A41","v":"Open Space kancelář - 2. NP xPORT"},{"$f":"'Rozpis úklidu'!E41","v":1},{"$f":"IF('Rozpis úklidu'!P41=0,'Rozpis úklidu'!O41*B40/60,'Rozpis úklidu'!P41*B40/60)","v":0.22777777777777777},{"$f":"'Rozpis úklidu'!N41","v":"Typová činnost č.: 3\nPodlahová krytina: koberec"},{"$f":"'Rozpis úklidu'!R41*F40","v":0},{"$f":"B40","v":1},{"$f":"IF(F40<B40,(B40-F40)*('Rozpis úklidu'!R41)*2,0)","v":0}]
[{"$f":"'Rozpis úklidu'!A42","v":"Lobby - 2. NP xPORT"},{"$f":"'Rozpis úklidu'!E42","v":1},{"$f":"IF('Rozpis úklidu'!P42=0,'Rozpis úklidu'!O42*B41/60,'Rozpis úklidu'!P42*B41/60)","v":0.14699999999999999},{"$f":"'Rozpis úklidu'!N42","v":"Typová činnost č.: 3\nPodlahová krytina: lino"},{"$f":"'Rozpis úklidu'!R42*F41","v":0},{"$f":"B41","v":1},{"$f":"IF(F41<B41,(B41-F41)*('Rozpis úklidu'!R42)*2,0)","v":0}]
[{"$f":"'Rozpis úklidu'!A43","v":"Chodba - 2. NP xPORT"},{"$f":"'Rozpis úklidu'!E43","v":1},{"$f":"IF('Rozpis úklidu'!P43=0,'Rozpis úklidu'!O43*B42/60,'Rozpis úklidu'!P43*B42/60)","v":9.1555555555555571E-2},{"$f":"'Rozpis úklidu'!N43","v":"Typová činnost č.: 1\nPodlahová krytina: koberec"},{"$f":"'Rozpis úklidu'!R43*F42","v":0},1,{"$f":"IF(F42<B42,(B42-F42)*('Rozpis úklidu'!R43)*2,0)","v":0}]
[{"$f":"'Rozpis úklidu'!A44","v":"World Trade Centre - 2. NP xPORT"},{"$f":"'Rozpis úklidu'!E44","v":1},{"$f":"IF('Rozpis úklidu'!P44=0,'Rozpis úklidu'!O44*B43/60,'Rozpis úklidu'!P44*B43/60)","v":0.24238888888888888},{"$f":"'Rozpis úklidu'!N44","v":"Typová činnost č.: 3\nPodlahová krytina: koberec"},{"$f":"'Rozpis úklidu'!R44*F43","v":0},1,{"$f":"IF(F43<B43,(B43-F43)*('Rozpis úklidu'!R44)*2,0)","v":0}]
[{"$f":"'Rozpis úklidu'!A45","v":"Malé zas. místnosti - 2. NP xPORT"},{"$f":"'Rozpis úklidu'!E45","v":1},{"$f":"IF('Rozpis úklidu'!P45=0,'Rozpis úklidu'!O45*B44/60,'Rozpis úklidu'!P45*B44/60)","v":0.27766666666666667},{"$f":"'Rozpis úklidu'!N45","v":"Typová činnost č.: 3\nPodlahová krytina: koberec"},{"$f":"'Rozpis úklidu'!R45*F44","v":0},1,{"$f":"IF(F44<B44,(B44-F44)*('Rozpis úklidu'!R45)*2,0)","v":0}]
[{"$f":"'Rozpis úklidu'!A46","v":"Area 51 - 2. NP xPORT"},{"$f":"'Rozpis úklidu'!E46","v":1},{"$f":"IF('Rozpis úklidu'!P46=0,'Rozpis úklidu'!O46*B45/60,'Rozpis úklidu'!P46*B45/60)","v":0.14049999999999999},{"$f":"'Rozpis úklidu'!N46","v":"Typová činnost č.: 3\nPodlahová krytina: koberec"},{"$f":"'Rozpis úklidu'!R46*F45","v":0},1,{"$f":"IF(F45<B45,(B45-F45)*('Rozpis úklidu'!R46)*2,0)","v":0}]
[{"$f":"'Rozpis úklidu'!A47","v":"Call rooms - 2. NP xPORT"},{"$f":"'Rozpis úklidu'!E47","v":1},{"$f":"IF('Rozpis úklidu'!P47=0,'Rozpis úklidu'!O47*B46/60,'Rozpis úklidu'!P47*B46/60)","v":7.0444444444444448E-2},{"$f":"'Rozpis úklidu'!N47","v":"Typová činnost č.: 3\nPodlahová krytina: koberec"},{"$f":"'Rozpis úklidu'!R47*F46","v":0},1,{"$f":"IF(F46<B46,(B46-F46)*('Rozpis úklidu'!R47)*2,0)","v":0}]
[{"$f":"'Rozpis úklidu'!A48","v":"Manhattan - 2. NP xPORT"},{"$f":"'Rozpis úklidu'!E48","v":1},{"$f":"IF('Rozpis úklidu'!P48=0,'Rozpis úklidu'!O48*B47/60,'Rozpis úklidu'!P48*B47/60)","v":0.15183333333333329},{"$f":"'Rozpis úklidu'!N48","v":"Typová činnost č.: 3\nPodlahová krytina: koberec"},{"$f":"'Rozpis úklidu'!R48*F47","v":0},1,{"$f":"IF(F47<B47,(B47-F47)*('Rozpis úklidu'!R48)*2,0)","v":0}]
[{"$f":"'Rozpis úklidu'!A49","v":"Chodba - 3. NP xPORT"},{"$f":"'Rozpis úklidu'!E49","v":1},{"$f":"IF('Rozpis úklidu'!P49=0,'Rozpis úklidu'!O49*B48/60,'Rozpis úklidu'!P49*B48/60)","v":3.2361111111111111E-2},{"$f":"'Rozpis úklidu'!N49","v":"Typová činnost č.: 1\nPodlahová krytina: koberec"},{"$f":"'Rozpis úklidu'!R49*F48","v":0},{"$f":"B48","v":1},{"$f":"IF(F48<B48,(B48-F48)*('Rozpis úklidu'!R49)*2,0)","v":0}]
[{"$f":"'Rozpis úklidu'!A50","v":"Open Space - 3. NP xPORT"},{"$f":"'Rozpis úklidu'!E50","v":1},{"$f":"IF('Rozpis úklidu'!P50=0,'Rozpis úklidu'!O50*B49/60,'Rozpis úklidu'!P50*B49/60)","v":0.66627777777777786},{"$f":"'Rozpis úklidu'!N50","v":"Typová činnost č.: 3\nPodlahová krytina: koberec"},{"$f":"'Rozpis úklidu'!R50*F49","v":0},1,{"$f":"IF(F49<B49,(B49-F49)*('Rozpis úklidu'!R50)*2,0)","v":0}]
[{"$f":"'Rozpis úklidu'!A51","v":"Schodiště - 3. NP xPORT"},{"$f":"'Rozpis úklidu'!E51","v":1},{"$f":"IF('Rozpis úklidu'!P51=0,'Rozpis úklidu'!O51*B50/60,'Rozpis úklidu'!P51*B50/60)","v":4.5124999999999998E-2},{"$f":"'Rozpis úklidu'!N51","v":"Typová činnost č.: 1\nPodlahová krytina: koberec"},{"$f":"'Rozpis úklidu'!R51*F50","v":0},1,{"$f":"IF(F50<B50,(B50-F50)*('Rozpis úklidu'!R51)*2,0)","v":0}]
["Úklidová pohotovost + Operativní úklidové práce dle požadavku vedoucí xPORT",{"$f":"'Základní údaje'!B11","v":0},null,null,{"$f":"B51/60*F51","v":0},null,0]
[null,"Celkem hodin",{"$f":"SUM(C27:C50)","v":7.7006666666666677},"K FAKTURACI CELKEM za xPORT:",{"$f":"SUM(E27:E51)","v":0},null,{"$f":"SUM(G27:G51)","v":0}]
["Podpis vedoucí směny:",null,null,"Podpis zástupce vedení xPORT:"]
[]
["Karta úklidu",null,null,{"$f":"$D$2","v":"Centrum kolejí Jarov"}]
["TÝDENNÍ ÚKLID                 TÝDEN:",{"$f":"WEEKNUM(TODAY(),1)","v":45},null,{"$f":"(NOW())","v":"2023-11-07T15:38:08.010"}]
[{"$f":"'Rozpis úklidu'!$A$3","v":"Úklidová jednotka"},{"$f":"'Rozpis úklidu'!$E$3","v":"počet\núklidových jednotek"},"Doba úklidu\n[hod.]",{"$f":"'Rozpis úklidu'!$N$3","v":"Popis činnosti"},{"$f":"'Rozpis úklidu'!$S$3","v":"cena celkem za všechny úklidové jednotky \n(prac. dny)\n[Kč]"},"Správně\nuklizené\njednotky","Smluvní pokuta\n[Kč]","Poznámka"]
[{"$f":"CONCATENATE('Rozpis úklidu'!A12,\" (\",'Rozpis úklidu'!G12,\")\")","v":"SCHODIŠTĚ včetně podest - ze suterénu k bytům (3. NP)\n(3 podlaží) (týdně)"},{"$f":"CEILING('Rozpis úklidu'!E12/('Rozpis úklidu'!K12-'Rozpis úklidu'!J12+1)*'Rozpis úklidu'!I12,1)","v":1},{"$f":"IF('Rozpis úklidu'!P12=0,'Rozpis úklidu'!O12*B58/60,'Rozpis úklidu'!P12*B58/60)","v":0.52322222222222226},{"$f":"'Rozpis úklidu'!N12","v":"Typová činnost č.: 1\ndlažba"},{"$f":"'Rozpis úklidu'!R12*F58","v":0},{"$f":"B58","v":1},{"$f":"IF(F58<B58,(B58-F58)*('Rozpis úklidu'!R12)*2,0)","v":0}]
[{"$f":"CONCATENATE('Rozpis úklidu'!A13,\" (\",'Rozpis úklidu'!G13,\")\")","v":"Výtah ze suterénu k bytům (týdně)"},{"$f":"CEILING('Rozpis úklidu'!E13/('Rozpis úklidu'!K13-'Rozpis úklidu'!J13+1)*'Rozpis úklidu'!I13,1)","v":1},{"$f":"IF('Rozpis úklidu'!P13=0,'Rozpis úklidu'!O13*B59/60,'Rozpis úklidu'!P13*B59/60)","v":8.3333333333333329E-2},{"$f":"'Rozpis úklidu'!N13","v":"Typová činnost č.: 16"},{"$f":"'Rozpis úklidu'!R13*F59","v":0},{"$f":"B59","v":1},{"$f":"IF(F59<B59,(B59-F59)*('Rozpis úklidu'!R13)*2,0)","v":0}]
[{"$f":"CONCATENATE('Rozpis úklidu'!A14,\" (\",'Rozpis úklidu'!G14,\")\")","v":"Chodba před byty, 3. NP (týdně)"},{"$f":"CEILING('Rozpis úklidu'!E14/('Rozpis úklidu'!K14-'Rozpis úklidu'!J14+1)*'Rozpis úklidu'!I14,1)","v":1},{"$f":"IF('Rozpis úklidu'!P14=0,'Rozpis úklidu'!O14*B60/60,'Rozpis úklidu'!P14*B60/60)","v":7.3749999999999996E-2},{"$f":"'Rozpis úklidu'!N14","v":"Typová činnost č.: 1\ndlažba"},{"$f":"'Rozpis úklidu'!R14*F60","v":0},1,{"$f":"IF(F60<B60,(B60-F60)*('Rozpis úklidu'!R14)*2,0)","v":0}]
[{"$f":"CONCATENATE('Rozpis úklidu'!A17,\" (\",'Rozpis úklidu'!G17,\" \",'Rozpis úklidu'!I17,\"x )\")","v":"KANCELÁŘE - 1. NP\n14x (viz list \"Kanceláře\") (týdně 2x )"},{"$f":"CEILING('Rozpis úklidu'!E17/('Rozpis úklidu'!K17-'Rozpis úklidu'!J17+1)*'Rozpis úklidu'!I17,1)","v":2},{"$f":"IF('Rozpis úklidu'!P17=0,'Rozpis úklidu'!O17*B61/60,'Rozpis úklidu'!P17*B61/60)","v":2.2083333333333335},{"$f":"'Rozpis úklidu'!N17","v":"Typová činnost č.: 3. b\nkoberec"},{"$f":"'Rozpis úklidu'!R17*F61","v":0},{"$f":"B61","v":2},{"$f":"IF(F61<B61,(B61-F61)*('Rozpis úklidu'!R17)*2,0)","v":0}]
[{"$f":"CONCATENATE('Rozpis úklidu'!A18,\" (\",'Rozpis úklidu'!G18,\" \",'Rozpis úklidu'!I18,\"x )\")","v":"KANCELÁŘ 146 - 1. NP (týdně 2x )"},{"$f":"CEILING('Rozpis úklidu'!E18/('Rozpis úklidu'!K18-'Rozpis úklidu'!J18+1)*'Rozpis úklidu'!I18,1)","v":2},{"$f":"IF('Rozpis úklidu'!P18=0,'Rozpis úklidu'!O18*B62/60,'Rozpis úklidu'!P18*B62/60)","v":0.18283333333333332},{"$f":"'Rozpis úklidu'!N18","v":"Typová činnost č.: 3. b\nlinoleum"},{"$f":"'Rozpis úklidu'!R18*F62","v":0},{"$f":"B62","v":2},{"$f":"IF(F62<B62,(B62-F62)*('Rozpis úklidu'!R18)*2,0)","v":0}]
[{"$f":"CONCATENATE('Rozpis úklidu'!A19,\" (\",'Rozpis úklidu'!G19,\" \",'Rozpis úklidu'!I19,\"x )\")","v":"Chodba před kancelářemi (týdně 2x )"},{"$f":"CEILING('Rozpis úklidu'!E19/('Rozpis úklidu'!K19-'Rozpis úklidu'!J19+1)*'Rozpis úklidu'!I19,1)","v":2},{"$f":"IF('Rozpis úklidu'!P19=0,'Rozpis úklidu'!O19*B63/60,'Rozpis úklidu'!P19*B63/60)","v":1.1621666666666666},{"$f":"'Rozpis úklidu'!N19","v":"Typová činnost č.: 3. b\nkoberec/dlažba"},{"$f":"'Rozpis úklidu'!R19*F63","v":0},2,{"$f":"IF(F63<B63,(B63-F63)*('Rozpis úklidu'!R19)*2,0)","v":0}]
[{"$f":"CONCATENATE('Rozpis úklidu'!A21,\" (\",'Rozpis úklidu'!G21,\" \",'Rozpis úklidu'!I21,\"x )\")","v":"Zasedací místnost + komora - 1. NP (týdně 2x )"},{"$f":"CEILING('Rozpis úklidu'!E21/('Rozpis úklidu'!K20-'Rozpis úklidu'!J21+1)*'Rozpis úklidu'!I21,1)","v":2},{"$f":"IF('Rozpis úklidu'!P21=0,'Rozpis úklidu'!O21*B64/60,'Rozpis úklidu'!P21*B64/60)","v":0.32483333333333325},{"$f":"'Rozpis úklidu'!N21","v":"Typová činnost č.: 17\nkoberec"},{"$f":"'Rozpis úklidu'!R21*F64","v":0},2,{"$f":"IF(F64<B64,(B64-F64)*('Rozpis úklidu'!R21)*2,0)","v":0}]
[{"$f":"CONCATENATE('Rozpis úklidu'!A22,\" (\",'Rozpis úklidu'!G22,\" \",'Rozpis úklidu'!I22,\"x )\")","v":"Vynesení pytel ze skartovačky (zasedací místnost) (týdně 1x )"},{"$f":"CEILING('Rozpis úklidu'!E22/('Rozpis úklidu'!K21-'Rozpis úklidu'!J22+1)*'Rozpis úklidu'!I22,1)","v":1},{"$f":"IF('Rozpis úklidu'!P22=0,'Rozpis úklidu'!O22*B65/60,'Rozpis úklidu'!P22*B65/60)","v":0.16666666666666666},{"$f":"'Rozpis úklidu'!N22","v":"Typová činnost č.: 3. a"},{"$f":"'Rozpis úklidu'!R22*F65","v":0},{"$f":"B65","v":1},{"$f":"IF(F65<B65,(B65-F65)*('Rozpis úklidu'!R22)*2,0)","v":0}]
[{"$f":"CONCATENATE('Rozpis úklidu'!A23,\" (\",'Rozpis úklidu'!G23,\" \",'Rozpis úklidu'!I23,\"x )\")","v":"Sprcha dámy (kanceláře) (týdně 2x )"},{"$f":"CEILING('Rozpis úklidu'!E23/('Rozpis úklidu'!K21-'Rozpis úklidu'!J23+1)*'Rozpis úklidu'!I23,1)","v":2},{"$f":"IF('Rozpis úklidu'!P23=0,'Rozpis úklidu'!O23*B66/60,'Rozpis úklidu'!P23*B66/60)","v":4.0500000000000001E-2},{"$f":"'Rozpis úklidu'!N23","v":"Typová činnost č.: 15\ndlažba"},{"$f":"'Rozpis úklidu'!R23*F66","v":0},{"$f":"B66","v":2},{"$f":"IF(F66<B66,(B66-F66)*('Rozpis úklidu'!R23)*2,0)","v":0}]
[{"$f":"CONCATENATE('Rozpis úklidu'!A24,\" (\",'Rozpis úklidu'!G24,\" \",'Rozpis úklidu'!I24,\"x )\")","v":"Sprcha páni (kanceláře) (týdně 2x )"},{"$f":"CEILING('Rozpis úklidu'!E24/('Rozpis úklidu'!K23-'Rozpis úklidu'!J24+1)*'Rozpis úklidu'!I24,1)","v":2},{"$f":"IF('Rozpis úklidu'!P24=0,'Rozpis úklidu'!O24*B67/60,'Rozpis úklidu'!P24*B67/60)","v":2.3833333333333335E-2},{"$f":"'Rozpis úklidu'!N24","v":"Typová činnost č.: 15\ndlažba"},{"$f":"'Rozpis úklidu'!R24*F67","v":0},2,{"$f":"IF(F67<B67,(B67-F67)*('Rozpis úklidu'!R24)*2,0)","v":0}]
[{"$f":"CONCATENATE('Rozpis úklidu'!A25,\" (\",'Rozpis úklidu'!G25,\" \",'Rozpis úklidu'!I25,\"x )\")","v":"WC dány (kanceláře)\n2x záchod, 2x umyvadlo (týdně 2x )"},{"$f":"CEILING('Rozpis úklidu'!E25/('Rozpis úklidu'!K24-'Rozpis úklidu'!J25+1)*'Rozpis úklidu'!I25,1)","v":2},{"$f":"IF('Rozpis úklidu'!P25=0,'Rozpis úklidu'!O25*B68/60,'Rozpis úklidu'!P25*B68/60)","v":9.3333333333333324E-2},{"$f":"'Rozpis úklidu'!N25","v":"Typová činnost č.: 14\ndlažba"},{"$f":"'Rozpis úklidu'!R25*F68","v":0},2,{"$f":"IF(F68<B68,(B68-F68)*('Rozpis úklidu'!R25)*2,0)","v":0},null,{"$f":"IF(OR(AND(WEEKNUM($B$3,1)<='Rozpis úklidu'!K66,WEEKNUM($B$3,1)>='Rozpis úklidu'!J66),AND(WEEKNUM($B$3,1)<='Rozpis úklidu'!K67,WEEKNUM($B$3,1)>='Rozpis úklidu'!J67)),1,0)","v":1}]
[{"$f":"CONCATENATE('Rozpis úklidu'!A26,\" (\",'Rozpis úklidu'!G26,\" \",'Rozpis úklidu'!I26,\"x )\")","v":"WC páni (kanceláře)\n1x záchod, 2x umyvadlo, 2x pisoar (týdně 2x )"},{"$f":"CEILING('Rozpis úklidu'!E26/('Rozpis úklidu'!K25-'Rozpis úklidu'!J26+1)*'Rozpis úklidu'!I26,1)","v":2},{"$f":"IF('Rozpis úklidu'!P26=0,'Rozpis úklidu'!O26*B69/60,'Rozpis úklidu'!P26*B69/60)","v":9.3333333333333324E-2},{"$f":"'Rozpis úklidu'!N26","v":"Typová činnost č.: 14\ndlažba"},{"$f":"'Rozpis úklidu'!R26*F69","v":0},2,{"$f":"IF(F69<B69,(B69-F69)*('Rozpis úklidu'!R26)*2,0)","v":0},null,{"$f":"IF(OR(AND(WEEKNUM($B$3,1)<='Rozpis úklidu'!K68,WEEKNUM($B$3,1)>='Rozpis úklidu'!J68),AND(WEEKNUM($B$3,1)<='Rozpis úklidu'!K69,WEEKNUM($B$3,1)>='Rozpis úklidu'!J69)),1,0)","v":1}]
[{"$f":"CONCATENATE('Rozpis úklidu'!A66,\" (\",'Rozpis úklidu'!G66,\")\")","v":"CVIČEBNÍ SÁL A - 1.PP (sezonně)"},{"$f":"CEILING('Rozpis úklidu'!E66/('Rozpis úklidu'!K66-'Rozpis úklidu'!J66+1)*'Rozpis úklidu'!I66,1)*I68","v":1},{"$f":"IF('Rozpis úklidu'!P66=0,'Rozpis úklidu'!O66*B70/60,'Rozpis úklidu'!P66*B70/60)*I68","v":0.29622222222222222},{"$f":"'Rozpis úklidu'!N66","v":"Typová činnost č.: 3\nPodlahová krytina: žiněnky"},{"$f":"'Rozpis úklidu'!R66*F70*I68","v":0},{"$f":"B70","v":1},{"$f":"IF(F70<B70,(B70-F70)*('Rozpis úklidu'!R66)*2,0)","v":0},null,{"$f":"IF(OR(AND(WEEKNUM($B$3,1)<='Rozpis úklidu'!K56,WEEKNUM($B$3,1)>='Rozpis úklidu'!J56),AND(WEEKNUM($B$3,1)<='Rozpis úklidu'!K57,WEEKNUM($B$3,1)>='Rozpis úklidu'!J57)),1,0)","v":1}]
[{"$f":"CONCATENATE('Rozpis úklidu'!A68,\" (\",'Rozpis úklidu'!G68,\")\")","v":"CVIČEBNÍ SÁL B - 1.PP (sezonně)"},{"$f":"CEILING('Rozpis úklidu'!E68/('Rozpis úklidu'!K68-'Rozpis úklidu'!J68+1)*'Rozpis úklidu'!I68,1)*I69","v":1},{"$f":"IF('Rozpis úklidu'!P68=0,'Rozpis úklidu'!O68*B64/60,'Rozpis úklidu'!P68*B71/60)*I69","v":1.1466666666666667},{"$f":"'Rozpis úklidu'!N68","v":"Typová činnost č.: 3\nPodlahová krytina: žiněnky"},{"$f":"'Rozpis úklidu'!R68*F71*I69","v":0},{"$f":"B71","v":1},{"$f":"IF(F71<B71,(B71-F71)*('Rozpis úklidu'!R68)*2,0)","v":0},null,{"$f":"IF(OR(AND(WEEKNUM($B$3,1)<='Rozpis úklidu'!K58,WEEKNUM($B$3,1)>='Rozpis úklidu'!J58),AND(WEEKNUM($B$3,1)<='Rozpis úklidu'!K59,WEEKNUM($B$3,1)>='Rozpis úklidu'!J59)),1,0)","v":1}]
[{"$f":"CONCATENATE('Rozpis úklidu'!A56,\" (\",'Rozpis úklidu'!G56,\")\")","v":"Předsíň tělocvičny (1.PP) (sezonně)"},{"$f":"CEILING('Rozpis úklidu'!E56/('Rozpis úklidu'!K56-'Rozpis úklidu'!J56+1)*'Rozpis úklidu'!I56,1)*I70","v":1},{"$f":"IF('Rozpis úklidu'!P56=0,'Rozpis úklidu'!O56*B66/60,'Rozpis úklidu'!P56*B72/60)*I70","v":0.11916666666666667},{"$f":"'Rozpis úklidu'!N56","v":"Typová činnost č.: 1\nPodlahová krytina: koberec"},{"$f":"'Rozpis úklidu'!R56*F72*I70","v":0},{"$f":"B72","v":1},{"$f":"IF(F72<B72,(B72-F72)*('Rozpis úklidu'!R56)*2,0)","v":0}]
[{"$f":"CONCATENATE('Rozpis úklidu'!A58,\" (\",'Rozpis úklidu'!G58,\")\")","v":"Chodba před tělocvičnami (1.PP) (sezonně)"},{"$f":"CEILING('Rozpis úklidu'!E58/('Rozpis úklidu'!K58-'Rozpis úklidu'!J58+1)*'Rozpis úklidu'!I58,1)*I71","v":1},{"$f":"IF('Rozpis úklidu'!P58=0,'Rozpis úklidu'!O58*B67/60,'Rozpis úklidu'!P58*B73/60)*I71","v":0.31224999999999997},{"$f":"'Rozpis úklidu'!N58","v":"Typová činnost č.: 1\nPodlahová krytina: dlažba"},{"$f":"'Rozpis úklidu'!R58*F73*I71","v":0},1,{"$f":"IF(F73<B73,(B73-F73)*('Rozpis úklidu'!R58)*2,0)","v":0}]
[null,"celkem hodin/den",{"$f":"SUM(C58:C73)/5","v":1.3700888888888889},"K FAKTURACI CELKEM za CKJ:",{"$f":"SUM(E58:E73)","v":0},null,{"$f":"SUM(G58:G73)","v":0}]
["Podpis vedoucí směny:",null,null,"Podpis zástupce vedení CKJ:"]
[]
["Karta úklidu",null,null,{"$f":"$D$24","v":"xPORT"}]
["TÝDENNÍ ÚKLID                 TÝDEN:",{"$f":"WEEKNUM(TODAY(),1)","v":45},null,{"$f":"(NOW())","v":"2023-11-07T15:38:08"}]
[{"$f":"'Rozpis úklidu'!$A$3","v":"Úklidová jednotka"},{"$f":"'Rozpis úklidu'!$E$3","v":"počet\núklidových jednotek"},"Doba úklidu\n[hod.]",{"$f":"'Rozpis úklidu'!$N$3","v":"Popis činnosti"},{"$f":"'Rozpis úklidu'!$S$3","v":"cena celkem za všechny úklidové jednotky \n(prac. dny)\n[Kč]"},"Správně\nuklizené\njednotky","Smluvní pokuta\n[Kč]","Poznámka"]
[null,null,null,null,null,1]
[null,"celkem hodin/den",{"$f":"SUM(C80:C80)/5","v":0},"K FAKTURACI CELKEM za xPORT:",{"$f":"SUM(E80:E80)","v":0},null,{"$f":"SUM(G80:G80)","v":0}]
["Podpis vedoucí směny:",null,null,"Podpis zástupce vedení xPORT:"]
[]
["Karta úklidu",null,null,{"$f":"$D$2","v":"Centrum kolejí Jarov"}]
["MĚSÍČNÍ ÚKLID                 MĚSÍC:",{"$f":"MONTH(D85)","v":11},null,{"$f":"NOW()","v":"2023-11-07T15:38:08.010"}]
[{"$f":"'Rozpis úklidu'!$A$3","v":"Úklidová jednotka"},{"$f":"'Rozpis úklidu'!$E$3","v":"počet\núklidových jednotek"},"Doba úklidu\n[hod.]",{"$f":"'Rozpis úklidu'!$N$3","v":"Popis činnosti"},{"$f":"'Rozpis úklidu'!$S$3","v":"cena celkem za všechny úklidové jednotky \n(prac. dny)\n[Kč]"},"Správně\nuklizené\njednotky","Smluvní pokuta\n[Kč]","Poznámka"]
[{"$f":"CONCATENATE('Rozpis úklidu'!A10,\" (\",'Rozpis úklidu'!G10,\")\")","v":"Příplatek za silně znečištěné WC (měsíčně)"},null,{"$f":"IF('Rozpis úklidu'!P10=0,'Rozpis úklidu'!O10*B87/60,'Rozpis úklidu'!P10*B87/60)","v":0},{"$f":"'Rozpis úklidu'!N10","v":"Typová činnost č.: 14\n(nutno doložit fotodokumentací)"},{"$f":"'Rozpis úklidu'!R10*F87","v":0},{"$f":"B87","v":0},{"$f":"IF(F87<B87,(B87-F87)*('Rozpis úklidu'!R10)*2,0)","v":0}]
[{"$f":"CONCATENATE('Rozpis úklidu'!A11,\" (\",'Rozpis úklidu'!G11,\")\")","v":"Mytí vnitřních skleněných ploch (měsíčně)"},{"$f":"CEILING('Rozpis úklidu'!E11/('Rozpis úklidu'!K11-'Rozpis úklidu'!J11+1)*'Rozpis úklidu'!I11,1)","v":1},{"$f":"IF('Rozpis úklidu'!P11=0,'Rozpis úklidu'!O11*B88/60,'Rozpis úklidu'!P11*B88/60)","v":1.5666666666666667},{"$f":"'Rozpis úklidu'!N11","v":"Typová činnost č. 12"},{"$f":"'Rozpis úklidu'!R11*F88","v":0},{"$f":"B88","v":1},{"$f":"IF(F88<B88,(B88-F88)*('Rozpis úklidu'!R11)*2,0)","v":0}]
[{"$f":"CONCATENATE('Rozpis úklidu'!A15,\" (\",'Rozpis úklidu'!G15,\")\")","v":"ZADNÍ SCHODIŠTĚ včetně podest - ze suterénu k Xport (3. NP)\n(3 podlaží) (měsíčně)"},{"$f":"CEILING('Rozpis úklidu'!E15/('Rozpis úklidu'!K15-'Rozpis úklidu'!J15+1)*'Rozpis úklidu'!I15,1)","v":1},{"$f":"IF('Rozpis úklidu'!P12=0,'Rozpis úklidu'!O12*B89/60,'Rozpis úklidu'!P12*B89/60)","v":0.52322222222222226},{"$f":"'Rozpis úklidu'!N15","v":"Typová činnost č.: 1\ndlažba"},{"$f":"'Rozpis úklidu'!R15*F89","v":0},{"$f":"B89","v":1},{"$f":"IF(F89<B89,(B89-F89)*('Rozpis úklidu'!R15)*2,0)","v":0}]
[{"$f":"CONCATENATE('Rozpis úklidu'!A80,\" (\",'Rozpis úklidu'!G80,\")\")","v":"Mytí oken v kancelářích (ročně)"},null,{"$f":"IF('Rozpis úklidu'!P80=0,'Rozpis úklidu'!O80*B90/60,'Rozpis úklidu'!P80*B90/60)","v":0},{"$f":"'Rozpis úklidu'!N80","v":"Typová činnost č. 12"},{"$f":"'Rozpis úklidu'!R80*F90","v":0},{"$f":"B90","v":0},{"$f":"IF(F90<B90,(B90-F90)*('Rozpis úklidu'!R80)*2,0)","v":0}]
[null,"celkem hodin/den",{"$f":"SUM(C87:C90)/21","v":9.951851851851852E-2},"K FAKTURACI CELKEM za CKJ:",{"$f":"SUM(E87:E90)","v":0},null,{"$f":"SUM(G89:G90)","v":0}]
["Podpis vedoucí směny:",null,null,"Podpis zástupce vedení CKJ:"]
[]
["Karta úklidu",null,null,{"$f":"$D$24","v":"xPORT"}]
["MĚSÍČNÍ ÚKLID                 MĚSÍC:",{"$f":"MONTH(D95)","v":11},null,{"$f":"NOW()","v":"2023-11-07T15:38:08"}]
[{"$f":"'Rozpis úklidu'!$A$3","v":"Úklidová jednotka"},{"$f":"'Rozpis úklidu'!$E$3","v":"počet\núklidových jednotek"},"Doba úklidu\n[hod.]",{"$f":"'Rozpis úklidu'!$N$3","v":"Popis činnosti"},{"$f":"'Rozpis úklidu'!$S$3","v":"cena celkem za všechny úklidové jednotky \n(prac. dny)\n[Kč]"},"Správně\nuklizené\njednotky","Smluvní pokuta\n[Kč]","Poznámka"]
[{"$f":"CONCATENATE('Rozpis úklidu'!A52,\" (\",'Rozpis úklidu'!G52,\")\")","v":"Schod. ze SÚZ do xPORT - 2. NP xPORT (měsíčně)"},{"$f":"'Rozpis úklidu'!E52/('Rozpis úklidu'!K52-'Rozpis úklidu'!J52+1)*'Rozpis úklidu'!I52","v":1},{"$f":"IF('Rozpis úklidu'!P52=0,'Rozpis úklidu'!O52*B97/60,'Rozpis úklidu'!P52*B97/60)","v":7.4291666666666659E-2},{"$f":"'Rozpis úklidu'!N52","v":"Typová činnost č.: 1\nPodlahová krytina: dlažba"},{"$f":"'Rozpis úklidu'!R52*F97","v":0},{"$f":"B97","v":1},{"$f":"IF(F97<B97,(B97-F97)*('Rozpis úklidu'!R52)*2,0)","v":0}]
[{"$f":"CONCATENATE('Rozpis úklidu'!A53,\" (\",'Rozpis úklidu'!G53,\")\")","v":"Terasa - 3. NP xPORT (měsíčně)"},{"$f":"'Rozpis úklidu'!E53/('Rozpis úklidu'!K53-'Rozpis úklidu'!J53+1)*'Rozpis úklidu'!I53","v":1},{"$f":"IF('Rozpis úklidu'!P53=0,'Rozpis úklidu'!O53*B98/60,'Rozpis úklidu'!P53*B98/60)","v":0.42215277777777777},{"$f":"'Rozpis úklidu'!N53","v":"Typová činnost č.: 2\nPodlahová krytina: plast"},{"$f":"'Rozpis úklidu'!R53*F98","v":0},{"$f":"B98","v":1},{"$f":"IF(F98<B98,(B98-F98)*('Rozpis úklidu'!R53)*2,0)","v":0}]
[{"$f":"CONCATENATE('Rozpis úklidu'!A54,\" (\",'Rozpis úklidu'!G54,\")\")","v":"Mytí vnitřních skleněných ploch xPORT (měsíčně)"},{"$f":"'Rozpis úklidu'!E54/('Rozpis úklidu'!K54-'Rozpis úklidu'!J54+1)*'Rozpis úklidu'!I54","v":1},{"$f":"IF('Rozpis úklidu'!P54=0,'Rozpis úklidu'!O54*B99/60,'Rozpis úklidu'!P54*B99/60)","v":3.8},{"$f":"'Rozpis úklidu'!N54","v":"Typová činnost č.: 12"},{"$f":"'Rozpis úklidu'!R54*F99","v":0},{"$f":"B99","v":1},{"$f":"IF(F99<B99,(B99-F99)*('Rozpis úklidu'!R54)*2,0)","v":0}]
[{"$f":"CONCATENATE('Rozpis úklidu'!A55,\" (\",'Rozpis úklidu'!G55,\")\")","v":"Mytí oken xPORT (ročně)"},null,{"$f":"IF('Rozpis úklidu'!P55=0,'Rozpis úklidu'!O55*B100/60,'Rozpis úklidu'!P55*B100/60)","v":0},{"$f":"'Rozpis úklidu'!N55","v":"Typová činnost č.: 12"},{"$f":"'Rozpis úklidu'!R55*F100","v":0},0,{"$f":"IF(F100<B100,(B100-F100)*('Rozpis úklidu'!R55)*2,0)","v":0}]
[{"$f":"CONCATENATE('Rozpis úklidu'!A36,\" (\",'Rozpis úklidu'!G36,\")\")","v":"Příplatek za silně znečištěné WC xPORT (měsíčně)"},null,{"$f":"IF('Rozpis úklidu'!P36=0,'Rozpis úklidu'!O36*B101/60,'Rozpis úklidu'!P36*B101/60)","v":0},{"$f":"'Rozpis úklidu'!N36","v":"Typová činnost č.: 14\n(nutno doložit fotodokumentací)"},{"$f":"'Rozpis úklidu'!R36*F101","v":0},0,{"$f":"IF(F101<B101,(B101-F101)*('Rozpis úklidu'!R36)*2,0)","v":0}]
[null,"celkem hodin/den",{"$f":"SUM(C97:C101)/21","v":0.20459259259259258},"K FAKTURACI CELKEM za xPORT:",{"$f":"SUM(E97:E101)","v":0},null,{"$f":"SUM(G97:G101)","v":0}]
["Podpis vedoucí směny:",null,null,"Podpis zástupce vedení xPORT:"]

{"sheet":"Činnosti úklidu","index":3,"n_rows":39,"n_cols":2,"rows_kept":39,"cut":false,"hidden":false,"merged":[]}
[null,"Úklidová činnost"]
[null,"Úklidová činnost probíhá v čase od 17:00 hod. do 24:00 hod. v jednosměnném provozu v pětidenním pracovním týdnu. V 17:00 začne úklid v prostorách CKJ a po té bude pokračovat v prostorách xPORTU. Při úklidu je potřeba používat úklidové, čistící a desinfekční prostředky vhodné pro daný předmět úklidu a dodržovat návody na použití příslušných úklidových, čistících a desinfekčních prostředků a bezpečnostní a hygienická pravidla."]
["Definice pojmů:"]
["Zametání","pomocí vhodného smetáku zamést dané podlahové plochy."]
["Vytírání ","pomocí mopu za použití vody a odpovídajícího čistících prostředku vytřít dané podlahové plochy."]
["Mytí ","pomocí hadru, utěrky nebo houbičky, za použití vody a odpovídajícího čistícího prostředku, umýt plochy nábytku, dveří, spotřebičů, keramických a jiných obkladů, topení apod."]
["Čištění ","důkladné čištění, zvláště skvrn, za pomocí odpovídajících čisticích prostředků, ploch nábytku, dveří, spotřebičů, keramických a jiných obkladů, topení apod."]
["Desinfekce ","po umytí nebo vyčištění daných ploch, podlah, spotřebičů aj. použít podle návodu odpovídající desinfekční prostředek."]
["Leštění ","leštění všech skleněných a zrcadlových ploch za použití odpovídajícího přípravku na mytí a leštění skel."]
["Luxování ","čištění podlah za použití vysavače."]
["Strojové čištění ","se provádí za použití čistícího stroje na vodní nebo parní bázi (strojové čištění postelí, matrací, koberců apod.)."]
["Stírání prachu","setření prachu vhodnou utěrkou za použití odpovídajícího přípravku na odstranění prachu, odstranění pavučin."]
["Úklid odpadů ","řádné uvolnění, umytí, vyčištění a vydesinfikování odpadů na soc. zařízeních, WC, umývárnách a sprchových koutech za použití odpovídajících přípravků."]
["Mimořádný úklid ","úklid znečištěného WC (mimo mísu), umývárny nebo společných prostor zvratky nebo exkrementy (uklízečka vyrozumí vedoucí/zástupce vedoucí koleje)."]
["Mytí oken ","umytí parapetů na mokro za použití odpovídajícího saponátu, umytí rámů oken na mokro za použití odpovídajícího saponátu, umytí a vyleštění oken odpovídajícím přípravkem na mytí a leštění oken."]
["Zalévání květin ","zalití květin čistou odstátou vodou v přiměřeném množství s ohledem na druh rostliny, podle potřeby použít odpovídající hnojivo v dávkování podle návodu k použití."]
["Vynášení a likvidace odpadu","vynesení odpadu ze všech odpadních nádob (i z prostoru okolo těchto nádob), a ze skartovaček, umytí odpadních nádob a doplnění pytlů na odpadky do odpadních nádob, odpad dle možnosti vhodným způsobem třídit."]
[]
[]
["Číslo typové činnosti","Popis typových pracovních činností:"]
["1.","Úklidem společných prostor, podlah chodeb, schodišť a vestibulu se rozumí:\nzamést a vytřít podlahy, odstranit našlapané žvýkačky a jiné nečistoty, vyluxovat podlahy kryté kobercem. Umýt parapety, zábradlí a hasicí přístroje umístěné na chodbách, vyleštit skleněné plochy na chodbách a ve vestibulech, Otřít zábradlí u schodišť, setřít prach a pavučiny. Sepsat a nahlásit všechny zjištěné závady a škody."]
["2.","Úklidem balkonů se rozumí: \nzamést a vytřít podlahy, odstranit našlapané žvýkačky a jiné nečistoty, umýt parapety a zábradlí. Odstranit pavučiny. Vynést odpady a popř. i vysypat popelníky."]
["3.","Úklidem společenských, (studoven, kluboven apod.) zájmových (posiloven, tělocvičen apod.) a zasedacích místností, skladů a šaten se rozumí:\nzamést a vytřít podlahy, podlahy pokryté kobercem vyluxovat, setřít prach a pavučiny ze všech dosažitelných a volně přístupných míst a zařízení místností (topení, cvičební nářadí, parapety pod okny apod.), umýt a vyčistit skvrny kolem klik, dveří, vypínačů a světel. Srovnat nábytek a jiné vybavení místností. Srovnat nebo dověsit záclony a závěsy. Vyleštit zrcadla. Vynést odpad. Sepsat a nahlásit všechny zjištěné závady a škody."]
["3. a","Denním úklidem kanceláří se rozumí:\nvynést koš"]
["3. b","Týdenním úklidem kanceláří se rozumí:\npodlahy pokryté kobercem vyluxovat, setřít prach a pavučiny ze všech dosažitelných a volně přístupných míst a zařízení místností (stoly-jen části nepokryté papíry, topení, parapety pod okny apod.), umýt a vyčistit skvrny kolem klik, na dveřích, vypínačů a světel. Vynést odpad. Sepsat a nahlásit všechny zjištěné závady a škody."]
["4.","Úklidem prádelen se rozumí:\nzamést a vytřít podlahy, setřít prach a pavučiny ze všech dosažitelných a volně přístupných míst a zařízení místností (praček, topení, apod.). Vyčistit filtry praček, vyčistit zásobníky na prášek. Umýt a vyčistit dveře, kliky, vypínače a světla. Srovnat nebo dověsit záclony a závěsy. Vyleštit zrcadla. Vynést odpad. Sepsat a nahlásit všechny zjištěné závady a škody."]
["5.","Úklidem kuchyněk se rozumí:\numýt, vyčistit a vydesinfikovat sporák, vařič, mikrovlnnou troubu, digestoř, pracovní desky a zařízení místnosti kuchyňky. Umýt, vyčistit a vydesinfikovat obklady. Odmrazit a vyčistit lednici. Zamést a vytřít podlahy. Vynést odpad. Setřít prach a pavučiny. Sepsat a nahlásit všechny zjištěné závady a škody."]
["6.","Generálním úklidem pokojů po odchodu studentů se rozumí:\numýt nábytek z venku (postele, stoly, židle, police, skříně apod.) i zevnitř (skříně, šuplíky, peřináče, postele apod.) a vyčistit od skvrn. Vyleštit zrcadla a okna. Vyluxovat/strojově vyčistit matrace postelí. Setřít prach a pavučiny (včetně žaluzií). Umýt a vyčistit veškeré obložení, lišty, obrazy, dveře, kliky, rámy oken, parapety, vypínače, zásuvky, topení, světla, lampičky apod. Umýt ledničku zevnitř i zvenku. Zamést a vytřít podlahy, podlahy kryté kobercem vyluxovat, a to i pod a za postelí, křesly a závěsy. Srovnat nebo dověsit záclony a závěsy, srovnat nábytek a jiné vybavení pokoje. Vynést odpad, umýt, otřít a vyleštit odpadkový koš. Zlikvidovat případné komáry a mouchy. Vyvětrat a popř. i navonět. Sepsat a nahlásit všechny zjištěné závady a škody. Případné nalezené věci po ubytovaných předat vedení koleje."]
["7.","Úklidem předsíní buněk se rozumí:\núklid sociálního zařízení podle bodu 14. a 15. úklid kuchyňky podle bodu 5. Zamést a vytřít podlahy. Umýt a vyčistit pracovní plochy a nábytek. Setřít prach a pavučiny. Vynést odpad. Sepsat a nahlásit vedení koleje všechny závady a škody."]
["8.","Úklidem hotelových pokojů po vystěhování se rozumí:\numýt nábytek z venku (postele, stoly, židle, police, skříně apod.) i zevnitř (skříně, šuplíky, peřináče, postele apod.) a vyčistit od skvrn. Vyleštit zrcadla a okna. Převléct a ustlat postele, vyluxovat/strojově vyčistit matrace postelí. Setřít prach a pavučiny (včetně žaluzií). Umýt a vyčistit veškeré obložení, lišty, obrazy, dveře, kliky, rámy oken, parapety, vypínače, zásuvky, televizi, topení, světla, lampičky apod. Umýt nádobí. Umýt ledničku zevnitř i zvenku. Zamést a vytřít podlahy, podlahy kryté kobercem vyluxovat, a to i pod a za postelí, křesly a závěsy. Srovnat nebo dověsit záclony a závěsy, srovnat nábytek a jiné vybavení pokoje. Vynést odpad, umýt, otřít a vyleštit odpadkový koš. Zlikvidovat případné komáry a mouchy. Doplnit hotelové potřeby. Vyvětrat a popř. i navonět. Předat složené použité prádlo a ručníky skladní. Sepsat a nahlásit vedení koleje všechny závady a škody. Případné nalezené věci po hostech předat vedení koleje."]
["9.","Úklidem hotelových pokojů v průběhu ubytování se rozumí:\nustlání postelí, popř. výměna ložního prádla každý 4. den pobytu, výměna osušek a ručníků, doplnění toaletního papíru, vynesení odpadků, umytí koupelny (sprchový kout, WC, umyvadlo), vytření podlahy."]
["10.","Přebráním uklizeného pokoje po studentech se rozumí:\npodle bodu 6. a 7. zkontrolovat úklid provedený studenty. Přebrat klíče od pokoje. Podepsat potvrzení o řádně provedeném úklidu a odevzdání klíčů. Sepsat a nahlásit všechny zjištěné závady a škody. V případě nutnosti upozornit studenty na nedostatky v úklidu s tím, že je musí ve stanovené době odstranit, po té provést novou kontrolu úklidu. V případě, že ani napodruhé nebude pokoj řádně uklizen nahlásit tuto skutečnost vedení koleje."]
["11.","Úklidem výtahu se rozumí:\nzametení a vytření podlahy, vyčištění dveřních drážek, mytí stěn, mytí světel, jsou-li instalována vyleštění zrcadel."]
["12.","Mytím oken se rozumí:\nmytí a leštění skel, mytí rámů, (unitř i zvenku) mytí parapetu, jsou-li instalovány setření žaluzií. Zvenku nelze mýt skleněné plochy z vnitřku budovy."]
["13.","Čištěním matrací:\nvyčištění matrací parním strojem."]
["14.","Úklidem WC se rozumí:\numýt, vyčistit a vydesinfikovat místnost WC, umýt záchodovou mísu zevnitř i zvenku umýt nohu a trubku za WC, umýt prkýnko a nádobu na splachovací vodu, popř. umýt pisoáry, umyvadla, baterie, obklady, odpady, podlahy a dveře. Otřít držák na toaletní papír. Doplnit toaletní papír a papírové ručníky. Umýt dlaždičky a silikon od plísně. Vylít vodu a otřít pouzdro na WC štětku. Vyleštit zrcadla. Vynést odpad. Setřít prach a pavučiny. Vždy za použití odpovídajícího mycího/čistícího přípravku."]
["15.","Úklidem koupelen a sprch se rozumí:\numýt, vyčistit a vydesinfikovat umyvadlo zevnitř i zvenku včetně trubek pod ním, baterie, sprchový kout, obklady, poličku nad umyvadlem i ve sprchovém koutě, odpady, podlahy a dveře. Umýt stěny sprchového koutu, gumové těsnění popř. závěs sprchového koutu. Odstranit rez a vodní kámen. Doplnit papírové ručníky. Vynést odpad. Vyleštit zrcadlo, poličku, sprchu a držák na sprchu. Umýt dlaždičky a silikon od plísně. Vynést odpad. Setřít prach a pavučiny. Vždy za použití odpovídajícího mycího/čistícího přípravku"]
["16.","Úklidem výtahů se rozumí:\nvytřít podlahu, otřít stěny a dveře, vyleštit zrcadlo a chromové části, vyčistit drážku u dveří."]
["17.","Úklidem zasedacé místnosti se rozumí:\nvyluxovat podlahu, otřít stoly, odnést případně zanechané nádobí do kuchyňky, otřít a srovnat židle, vynést tříděný odpad (papír a plasty) z komory, vytřít pavučiny, nahlásit zjištěné závady."]

{"sheet":"kanc.+skleň.pl.","index":4,"n_rows":19,"n_cols":17,"rows_kept":19,"cut":false,"hidden":false,"merged":[]}
["Kancelář SÚZ\nč.:","plocha\n[m2]","krytina:",null,"Vnitřní skleněné\nplochy SÚZ","plocha\n[m2]",null,"Okna SÚZ\n(modul)\n[m2]","počet","plocha\n[m2]",null,"vnitřní skleněné stěny Xport\n[m2]",null,null,"Okna Xport\n[m2]","počet","plocha\n[m2]"]
[123,{"$f":"5.5*3.4","v":18.7},"koberec",null,"Dveře SÚZ 3x",{"$f":"3*(2.21*1.8)","v":11.934000000000001},null,{"$f":"1.8*1.2","v":2.16},{"$f":"24+9+27+5","v":65},{"$f":"H2*I2","v":140.4},null,{"$f":"7*2.6","v":18.2},null,null,{"$f":"1.1*2.7","v":2.9700000000000006},36,{"$f":"O2*P2","v":106.92000000000002}]
[124,{"$f":"5.5*3.4","v":18.7},"koberec",null,"Vstupní dveře do haly 2x",{"$f":"2*(5.4*2.4)","v":25.92},null,{"$f":"(1.13*2.6)+(1.13*4)","v":7.4579999999999993},8,{"$f":"H3*I3","v":59.663999999999994},null,{"$f":"2*2.6","v":5.2},null,null,{"$f":"1.1*4","v":4.4000000000000004},{"$f":"29+9","v":38},{"$f":"O3*P3","v":167.20000000000002}]
[125,{"$f":"5.5*3.5","v":19.25},"koberec",null,"Dveře do menzy",{"$f":"2.15*1.8","v":3.87},null,null,null,0,null,{"$f":"5.65*3.6","v":20.340000000000003},null,null,{"$f":"1.3*2.7","v":3.5100000000000002},1,3.5100000000000002]
[126,{"$f":"5.5*5.7","v":31.35},"koberec",null,"Okna v hale 2x",{"$f":"(1.27*0.9)+(1.3*1.8)","v":3.4830000000000005},null,1,19,{"$f":"H5*I5","v":19},null,{"$f":"1.7*2.2","v":3.74},null,null,{"$f":"1.1*1.9","v":2.09},11,22.99]
[127,{"$f":"5.5*3.1","v":17.05},"koberec",null,"zrcadlo, hala + chodba",{"$f":"(0.36*1.75)+(0.47*1.5)","v":1.335},null,0.5,6,{"$f":"H6*I6","v":3},null,{"$f":"2*(5*2.3)","v":23},null,null,{"$f":"1.5*1.9","v":2.8499999999999996},6,17.099999999999998]
[137,{"$f":"5.6*4.2+3*2","v":29.52},"koberec",null,"CELKEM",{"$f":"SUM(F2:F6)","v":46.541999999999994},null,{"$f":"1.8*1.2","v":2.16},{"$f":"30+12+27","v":69},{"$f":"H7*I7","v":149.04000000000002},null,{"$f":"1.6*2.3","v":3.6799999999999997},null,null,{"$f":"2*4","v":8},1,8]
[138,{"$f":"5.5*3","v":16.5},"koberec",null,"zaokrouhleno:",{"$f":"TRUNC(F7+1,0)","v":47},null,null,"CELKEM",{"$f":"SUM(J2:J7)","v":371.10400000000004},null,{"$f":"2*(1*2.2)","v":4.4000000000000004},null,null,null,"CELKEM",{"$f":"SUM(Q3:Q7)","v":218.8}]
[139,{"$f":"5.5*3","v":16.5},"koberec",null,null,null,null,null,"zaokrouhleno:",{"$f":"TRUNC(J8+1,0)","v":372},null,{"$f":"3.9*2.4","v":9.36},null,null,null,"zaokrouhleno:",{"$f":"TRUNC(Q8+1,0)","v":219}]
[140,{"$f":"5.5*2.7","v":14.850000000000001},"koberec",null,null,null,null,null,null,null,null,{"$f":"8*(1.6*2)","v":25.6}]
[141,{"$f":"5.5*2.7","v":14.850000000000001},"koberec",null,null,null,null,null,null,null,null,"CELKEM",{"$f":"SUM(L2:L10)","v":113.52000000000001}]
[142,{"$f":"5.5*3.45","v":18.975000000000001},"koberec",null,null,null,null,null,null,null,null,"zaokrouhleno:",{"$f":"TRUNC(M11+1,0)","v":114}]
[143,{"$f":"5.5*3","v":16.5},"koberec"]
[144,{"$f":"5.5*2.85","v":15.675000000000001},"koberec"]
[145,{"$f":"5.5*3","v":16.5},"koberec"]
["CELKEM",{"$f":"SUM(B2:B15)","v":264.91999999999996}]
["zaokrouhleno:",{"$f":"TRUNC(B16+1,0)","v":265},null,null,null,null,null,null,null,null,null,null,null,null,null,"  "]
[]
[146,{"$f":"3.8*2.3+2.4*5.5","v":21.939999999999998},"linoleum"]