{"text_format":"1","workbook":"xlsx","n_sheets":4,"sheets":["Základní údaje","Rozpis úklidu","Karty úklidu","Činnosti úklidu"],"not_rendered":{"charts":0,"images":0,"macros":1,"external_links":0,"defined_names":4,"comments":3,"pivot_tables":0},"unopened":[],"bounds":{"document_bytes":16777216,"sheet_cells":100000,"rows_first":2000,"rows_last":500,"rows_between":2000,"halvings":0,"cell_chars":16384,"cell_head_chars":4096},"cells_cut":0,"cells_raw":0,"read":"whole","date_system":"1900"}

{"sheet":"Základní údaje","index":0,"n_rows":15,"n_cols":8,"rows_kept":15,"cut":false,"hidden":false,"merged":[[8,3,8,6],[1,0,1,1]]}
["kolej: Vltava, VŠE"]
["OBDOBÍ:"]
["2022-12-01","2026-11-30"]
["Identifikace subjektu podávajícího nabídku:"]
["Název subjektu:"]
["IČ:"]
["Sídlo:"]
["Zapsaná v:"]
[null,null,null,"Předpoklad roční inflace"]
[null,null,null,"1. rok","2. rok","3. rok","4. rok"]
["CENA pracovní dny [Kč/hodinu/člověka]:",0,{"$f":"IF(B11<>0,B12/B11,0)","v":0},0,0.05,0.04,0.03]
["CENA víkendy [Kč/hodinu/člověka]:",0,{"$f":"IF(B11<>0,(5*B11+2*B12)/7/B11,0)","v":0},1,{"$f":"1+E11","v":1.05},{"$f":"1+F11","v":1.04},1.03]
[null,null,null,1,{"$f":"+D13*E12","v":1.05},{"$f":"+E13*F12","v":1.0920000000000001},1.1247600000000002,{"$f":"SUM(D13:G13)/4","v":1.0666899999999999}]
[]
["CENA CELKEM ZA ROK:",{"$f":"'Rozpis úklidu'!B58:D58","v":0}]

{"sheet":"Rozpis úklidu","index":1,"n_rows":140,"n_cols":20,"rows_kept":140,"cut":false,"hidden":false,"merged":[[57,1,57,3]]}
[{"$f":"'Základní údaje'!A1","v":"kolej: Vltava, VŠE"},{"$f":"'Základní údaje'!A2","v":"OBDOBÍ:"},{"$f":"'Základní údaje'!A3","v":"2022-12-01"},{"$f":"'Základní údaje'!B3","v":"2026-11-30"}]
["Cena za 1 úklidovou hodinu:",{"$f":"'Základní údaje'!B11","v":0},"Kč/hod."]
["Úklidová jednotka","plocha\n[m²]","kusy\n[-]","počet\núklidových jednotek","CELKEM\n[m²]\n[ks]","uklízí se","počet úklidů na jednotku","sezonně\nceloročně","sezonní\ntýden\nod","sezonní\ntýden\ndo","uklízí se v\npracovní dny","uklízí se o\nvíkendech","Popis činnosti","Zadavatelem doporučený čas na úklidovou jednotku\n[min]","Uchazečem navrhovaný čas na úklidovou jednotku\n[min.]","celkový čas úklidu všech úklidových jednotek\n[hod.]","Cena za úklidovou jednotku\n[Kč]","cena celkem za všechny úklidové jednotky \n(prac. dny)\n[Kč]","Cena celkem za období úklidu\n[Kč]","Poznámka"]
["schody na střechu",3,null,3,{"$f":"B4*D4+C4*D4","v":9},"týdně",1,"sezonně",35,52,1,0,"vytření, setření prachu, včetně zábradlí",3.5,3.5,{"$f":"IF(O4=0,N4*D4/60,O4*D4/60)","v":0.17499999999999999},{"$f":"IF(O4=0,N4/60*$B$2,O4/60*$B$2)*IF(AND(L4=1,K4=0),'Základní údaje'!$C$11,IF(AND(L4=1,K4=1),'Základní údaje'!$C$12,1))","v":0},{"$f":"Q4*D4","v":0},{"$f":"IF(F4=\"denně\",R4*G4*(J4-I4+1)*5*$B$57,IF(F4=\"týdně\",R4*G4*(J4-I4+1)*$B$57,IF(F4=\"měsíčně\",R4*G4*INT((J4-I4+1)/4)*$B$57,IF(F4=\"čtvrtletně\",R4*G4*INT((J4-I4+1)/16)*$B$57,IF(F4=\"ročně\",R4*G4*$B$57,G4*R4*$B$57)))))*IF(L4=1,'Základní údaje'!$C$12,1)","v":0}]
["patro chodba s krčkem",236,null,5,1180,"denně",1,"sezonně",35,52,1,0,"Úklidová činnost č. 1",40,40,3.3333333333333335,{"$f":"IF(O5=0,N5/60*$B$2,O5/60*$B$2)*IF(AND(L5=1,K5=0),'Základní údaje'!$C$11,IF(AND(L5=1,K5=1),'Základní údaje'!$C$12,1))","v":0},0,{"$f":"IF(F5=\"denně\",R5*G5*(J5-I5+1)*5*$B$57,IF(F5=\"týdně\",R5*G5*(J5-I5+1)*$B$57,IF(F5=\"měsíčně\",R5*G5*INT((J5-I5+1)/4)*$B$57,IF(F5=\"čtvrtletně\",R5*G5*INT((J5-I5+1)/16)*$B$57,IF(F5=\"ročně\",R5*G5*$B$57,G5*R5*$B$57)))))*IF(L5=1,'Základní údaje'!$C$12,1)","v":0}]
["skleněné plochy na chodbách",null,1,125,{"$f":"B6*D6+C6*D6","v":125},"měsíčně",1,"sezonně",35,52,1,0,"umýt, vyleštit",5,5,{"$f":"IF(O6=0,N6*D6/60,O6*D6/60)","v":10.416666666666666},{"$f":"IF(O6=0,N6/60*$B$2,O6/60*$B$2)*IF(AND(L6=1,K6=0),'Základní údaje'!$C$11,IF(AND(L6=1,K6=1),'Základní údaje'!$C$12,1))","v":0},{"$f":"Q6*D6","v":0},{"$f":"IF(F6=\"denně\",R6*G6*(J6-I6+1)*5*$B$57,IF(F6=\"týdně\",R6*G6*(J6-I6+1)*$B$57,IF(F6=\"měsíčně\",R6*G6*INT((J6-I6+1)/4)*$B$57,IF(F6=\"čtvrtletně\",R6*G6*INT((J6-I6+1)/16)*$B$57,IF(F6=\"ročně\",R6*G6*$B$57,G6*R6*$B$57)))))*IF(L6=1,'Základní údaje'!$C$12,1)","v":0}]
["schodiště mezi patry",4,null,15,60,"týdně",2,"sezonně",35,52,1,0,"Úklidová činnost č. 1",3,3,0.75,{"$f":"IF(O7=0,N7/60*$B$2,O7/60*$B$2)*IF(AND(L7=1,K7=0),'Základní údaje'!$C$11,IF(AND(L7=1,K7=1),'Základní údaje'!$C$12,1))","v":0},0,{"$f":"IF(F7=\"denně\",R7*G7*(J7-I7+1)*5*$B$57,IF(F7=\"týdně\",R7*G7*(J7-I7+1)*$B$57,IF(F7=\"měsíčně\",R7*G7*INT((J7-I7+1)/4)*$B$57,IF(F7=\"čtvrtletně\",R7*G7*INT((J7-I7+1)/16)*$B$57,IF(F7=\"ročně\",R7*G7*$B$57,G7*R7*$B$57)))))*IF(L7=1,'Základní údaje'!$C$12,1)","v":0}]
["zábradlí podél schodiště",null,1,15,15,"týdně",2,"sezonně",35,52,1,0,"mytí zábradlí",2,2,0.5,{"$f":"IF(O8=0,N8/60*$B$2,O8/60*$B$2)*IF(AND(L8=1,K8=0),'Základní údaje'!$C$11,IF(AND(L8=1,K8=1),'Základní údaje'!$C$12,1))","v":0},0,{"$f":"IF(F8=\"denně\",R8*G8*(J8-I8+1)*5*$B$57,IF(F8=\"týdně\",R8*G8*(J8-I8+1)*$B$57,IF(F8=\"měsíčně\",R8*G8*INT((J8-I8+1)/4)*$B$57,IF(F8=\"čtvrtletně\",R8*G8*INT((J8-I8+1)/16)*$B$57,IF(F8=\"ročně\",R8*G8*$B$57,G8*R8*$B$57)))))*IF(L8=1,'Základní údaje'!$C$12,1)","v":0}]
["studovny",31,null,10,310,"denně",1,"sezonně",35,52,1,0,"Úklidová činnost č. 3",15,15,2.5,{"$f":"IF(O9=0,N9/60*$B$2,O9/60*$B$2)*IF(AND(L9=1,K9=0),'Základní údaje'!$C$11,IF(AND(L9=1,K9=1),'Základní údaje'!$C$12,1))","v":0},0,{"$f":"IF(F9=\"denně\",R9*G9*(J9-I9+1)*5*$B$57,IF(F9=\"týdně\",R9*G9*(J9-I9+1)*$B$57,IF(F9=\"měsíčně\",R9*G9*INT((J9-I9+1)/4)*$B$57,IF(F9=\"čtvrtletně\",R9*G9*INT((J9-I9+1)/16)*$B$57,IF(F9=\"ročně\",R9*G9*$B$57,G9*R9*$B$57)))))*IF(L9=1,'Základní údaje'!$C$12,1)","v":0}]
["sušárny",6,null,2,12,"týdně",1,"sezonně",35,52,1,0,"Úklidová činnost č. 3",10,10,0.33333333333333331,{"$f":"IF(O10=0,N10/60*$B$2,O10/60*$B$2)*IF(AND(L10=1,K10=0),'Základní údaje'!$C$11,IF(AND(L10=1,K10=1),'Základní údaje'!$C$12,1))","v":0},0,{"$f":"IF(F10=\"denně\",R10*G10*(J10-I10+1)*5*$B$57,IF(F10=\"týdně\",R10*G10*(J10-I10+1)*$B$57,IF(F10=\"měsíčně\",R10*G10*INT((J10-I10+1)/4)*$B$57,IF(F10=\"čtvrtletně\",R10*G10*INT((J10-I10+1)/16)*$B$57,IF(F10=\"ročně\",R10*G10*$B$57,G10*R10*$B$57)))))*IF(L10=1,'Základní údaje'!$C$12,1)","v":0}]
["společná kuchyňka",null,1,1,1,"týdně",2,"sezonně",35,52,1,0,"Úklidová činnost č. 5",20,20,0.33333333333333331,{"$f":"IF(O11=0,N11/60*$B$2,O11/60*$B$2)*IF(AND(L11=1,K11=0),'Základní údaje'!$C$11,IF(AND(L11=1,K11=1),'Základní údaje'!$C$12,1))","v":0},0,{"$f":"IF(F11=\"denně\",R11*G11*(J11-I11+1)*5*$B$57,IF(F11=\"týdně\",R11*G11*(J11-I11+1)*$B$57,IF(F11=\"měsíčně\",R11*G11*INT((J11-I11+1)/4)*$B$57,IF(F11=\"čtvrtletně\",R11*G11*INT((J11-I11+1)/16)*$B$57,IF(F11=\"ročně\",R11*G11*$B$57,G11*R11*$B$57)))))*IF(L11=1,'Základní údaje'!$C$12,1)","v":0}]
["prádelna + pračky a sušičky",6,null,1,6,"denně",1,"sezonně",35,52,1,0,"Úklidová činnost č. 4",10,10,0.16666666666666666,{"$f":"IF(O12=0,N12/60*$B$2,O12/60*$B$2)*IF(AND(L12=1,K12=0),'Základní údaje'!$C$11,IF(AND(L12=1,K12=1),'Základní údaje'!$C$12,1))","v":0},0,{"$f":"IF(F12=\"denně\",R12*G12*(J12-I12+1)*5*$B$57,IF(F12=\"týdně\",R12*G12*(J12-I12+1)*$B$57,IF(F12=\"měsíčně\",R12*G12*INT((J12-I12+1)/4)*$B$57,IF(F12=\"čtvrtletně\",R12*G12*INT((J12-I12+1)/16)*$B$57,IF(F12=\"ročně\",R12*G12*$B$57,G12*R12*$B$57)))))*IF(L12=1,'Základní údaje'!$C$12,1)","v":0}]
["místnost úklízeček a úklid.prost.",9,null,1,9,"týdně",1,"sezonně",35,52,1,0,"Úklidová činnost č. 3",5,5,8.3333333333333329E-2,{"$f":"IF(O13=0,N13/60*$B$2,O13/60*$B$2)*IF(AND(L13=1,K13=0),'Základní údaje'!$C$11,IF(AND(L13=1,K13=1),'Základní údaje'!$C$12,1))","v":0},0,{"$f":"IF(F13=\"denně\",R13*G13*(J13-I13+1)*5*$B$57,IF(F13=\"týdně\",R13*G13*(J13-I13+1)*$B$57,IF(F13=\"měsíčně\",R13*G13*INT((J13-I13+1)/4)*$B$57,IF(F13=\"čtvrtletně\",R13*G13*INT((J13-I13+1)/16)*$B$57,IF(F13=\"ročně\",R13*G13*$B$57,G13*R13*$B$57)))))*IF(L13=1,'Základní údaje'!$C$12,1)","v":0}]
["045 sklad lůžkovin",34,null,1,34,"týdně",2,"sezonně",35,52,1,0,"Úklidová činnost č. 3",8.5,8.5,0.14166666666666666,{"$f":"IF(O14=0,N14/60*$B$2,O14/60*$B$2)*IF(AND(L14=1,K14=0),'Základní údaje'!$C$11,IF(AND(L14=1,K14=1),'Základní údaje'!$C$12,1))","v":0},0,{"$f":"IF(F14=\"denně\",R14*G14*(J14-I14+1)*5*$B$57,IF(F14=\"týdně\",R14*G14*(J14-I14+1)*$B$57,IF(F14=\"měsíčně\",R14*G14*INT((J14-I14+1)/4)*$B$57,IF(F14=\"čtvrtletně\",R14*G14*INT((J14-I14+1)/16)*$B$57,IF(F14=\"ročně\",R14*G14*$B$57,G14*R14*$B$57)))))*IF(L14=1,'Základní údaje'!$C$12,1)","v":0}]
["023 sklad",45,null,1,45,"týdně",1,"sezonně",35,52,1,0,"Úklidová činnost č. 3",11,11,0.18333333333333332,{"$f":"IF(O15=0,N15/60*$B$2,O15/60*$B$2)*IF(AND(L15=1,K15=0),'Základní údaje'!$C$11,IF(AND(L15=1,K15=1),'Základní údaje'!$C$12,1))","v":0},0,{"$f":"IF(F15=\"denně\",R15*G15*(J15-I15+1)*5*$B$57,IF(F15=\"týdně\",R15*G15*(J15-I15+1)*$B$57,IF(F15=\"měsíčně\",R15*G15*INT((J15-I15+1)/4)*$B$57,IF(F15=\"čtvrtletně\",R15*G15*INT((J15-I15+1)/16)*$B$57,IF(F15=\"ročně\",R15*G15*$B$57,G15*R15*$B$57)))))*IF(L15=1,'Základní údaje'!$C$12,1)","v":0}]
["024 sklad -  nábytek",45,null,1,45,"týdně",1,"sezonně",35,52,1,0,"Úklidová činnost č. 3",11,11,0.18333333333333332,{"$f":"IF(O16=0,N16/60*$B$2,O16/60*$B$2)*IF(AND(L16=1,K16=0),'Základní údaje'!$C$11,IF(AND(L16=1,K16=1),'Základní údaje'!$C$12,1))","v":0},0,{"$f":"IF(F16=\"denně\",R16*G16*(J16-I16+1)*5*$B$57,IF(F16=\"týdně\",R16*G16*(J16-I16+1)*$B$57,IF(F16=\"měsíčně\",R16*G16*INT((J16-I16+1)/4)*$B$57,IF(F16=\"čtvrtletně\",R16*G16*INT((J16-I16+1)/16)*$B$57,IF(F16=\"ročně\",R16*G16*$B$57,G16*R16*$B$57)))))*IF(L16=1,'Základní údaje'!$C$12,1)","v":0}]
[{"$f":"A4","v":"schody na střechu"},3,null,3,9,"týdně",1,"sezonně",1,26,1,0,"vytření, setření prachu, včetně zábradlí",3.5,3.5,0.17499999999999999,{"$f":"IF(O17=0,N17/60*$B$2,O17/60*$B$2)*IF(AND(L17=1,K17=0),'Základní údaje'!$C$11,IF(AND(L17=1,K17=1),'Základní údaje'!$C$12,1))","v":0},0,{"$f":"IF(F17=\"denně\",R17*G17*(J17-I17+1)*5*$B$57,IF(F17=\"týdně\",R17*G17*(J17-I17+1)*$B$57,IF(F17=\"měsíčně\",R17*G17*INT((J17-I17+1)/4)*$B$57,IF(F17=\"čtvrtletně\",R17*G17*INT((J17-I17+1)/16)*$B$57,IF(F17=\"ročně\",R17*G17*$B$57,G17*R17*$B$57)))))*IF(L17=1,'Základní údaje'!$C$12,1)","v":0}]
[{"$f":"A5","v":"patro chodba s krčkem"},236,null,5,1180,"denně",1,"sezonně",1,26,1,0,"Úklidová činnost č. 1",40,40,3.3333333333333335,{"$f":"IF(O18=0,N18/60*$B$2,O18/60*$B$2)*IF(AND(L18=1,K18=0),'Základní údaje'!$C$11,IF(AND(L18=1,K18=1),'Základní údaje'!$C$12,1))","v":0},0,{"$f":"IF(F18=\"denně\",R18*G18*(J18-I18+1)*5*$B$57,IF(F18=\"týdně\",R18*G18*(J18-I18+1)*$B$57,IF(F18=\"měsíčně\",R18*G18*INT((J18-I18+1)/4)*$B$57,IF(F18=\"čtvrtletně\",R18*G18*INT((J18-I18+1)/16)*$B$57,IF(F18=\"ročně\",R18*G18*$B$57,G18*R18*$B$57)))))*IF(L18=1,'Základní údaje'!$C$12,1)","v":0}]
["skleněné plochy na chodbách",null,1,125,{"$f":"B19*D19+C19*D19","v":125},"měsíčně",1,"sezonně",1,26,1,0,"umýt, vyleštit",5,5,{"$f":"IF(O19=0,N19*D19/60,O19*D19/60)","v":10.416666666666666},{"$f":"IF(O19=0,N19/60*$B$2,O19/60*$B$2)*IF(AND(L19=1,K19=0),'Základní údaje'!$C$11,IF(AND(L19=1,K19=1),'Základní údaje'!$C$12,1))","v":0},{"$f":"Q19*D19","v":0},{"$f":"IF(F19=\"denně\",R19*G19*(J19-I19+1)*5*$B$57,IF(F19=\"týdně\",R19*G19*(J19-I19+1)*$B$57,IF(F19=\"měsíčně\",R19*G19*INT((J19-I19+1)/4)*$B$57,IF(F19=\"čtvrtletně\",R19*G19*INT((J19-I19+1)/16)*$B$57,IF(F19=\"ročně\",R19*G19*$B$57,G19*R19*$B$57)))))*IF(L19=1,'Základní údaje'!$C$12,1)","v":0}]
["schodiště mezi patry",4,null,15,60,"týdně",2,"sezonně",1,26,1,0,"Úklidová činnost č. 1",1,1,0.25,{"$f":"IF(O20=0,N20/60*$B$2,O20/60*$B$2)*IF(AND(L20=1,K20=0),'Základní údaje'!$C$11,IF(AND(L20=1,K20=1),'Základní údaje'!$C$12,1))","v":0},0,{"$f":"IF(F20=\"denně\",R20*G20*(J20-I20+1)*5*$B$57,IF(F20=\"týdně\",R20*G20*(J20-I20+1)*$B$57,IF(F20=\"měsíčně\",R20*G20*INT((J20-I20+1)/4)*$B$57,IF(F20=\"čtvrtletně\",R20*G20*INT((J20-I20+1)/16)*$B$57,IF(F20=\"ročně\",R20*G20*$B$57,G20*R20*$B$57)))))*IF(L20=1,'Základní údaje'!$C$12,1)","v":0}]
["zábradlí podél schodiště",null,1,15,15,"týdně",2,"sezonně",1,26,1,0,"mytí zábradlí",1,1,0.25,{"$f":"IF(O21=0,N21/60*$B$2,O21/60*$B$2)*IF(AND(L21=1,K21=0),'Základní údaje'!$C$11,IF(AND(L21=1,K21=1),'Základní údaje'!$C$12,1))","v":0},0,{"$f":"IF(F21=\"denně\",R21*G21*(J21-I21+1)*5*$B$57,IF(F21=\"týdně\",R21*G21*(J21-I21+1)*$B$57,IF(F21=\"měsíčně\",R21*G21*INT((J21-I21+1)/4)*$B$57,IF(F21=\"čtvrtletně\",R21*G21*INT((J21-I21+1)/16)*$B$57,IF(F21=\"ročně\",R21*G21*$B$57,G21*R21*$B$57)))))*IF(L21=1,'Základní údaje'!$C$12,1)","v":0}]
["studovny",31,null,10,310,"denně",1,"sezonně",1,26,1,0,"Úklidová činnost č. 3",15,15,2.5,{"$f":"IF(O22=0,N22/60*$B$2,O22/60*$B$2)*IF(AND(L22=1,K22=0),'Základní údaje'!$C$11,IF(AND(L22=1,K22=1),'Základní údaje'!$C$12,1))","v":0},0,{"$f":"IF(F22=\"denně\",R22*G22*(J22-I22+1)*5*$B$57,IF(F22=\"týdně\",R22*G22*(J22-I22+1)*$B$57,IF(F22=\"měsíčně\",R22*G22*INT((J22-I22+1)/4)*$B$57,IF(F22=\"čtvrtletně\",R22*G22*INT((J22-I22+1)/16)*$B$57,IF(F22=\"ročně\",R22*G22*$B$57,G22*R22*$B$57)))))*IF(L22=1,'Základní údaje'!$C$12,1)","v":0}]
["sušárny",6,null,2,12,"týdně",1,"sezonně",1,26,1,0,"Úklidová činnost č. 3",10,10,0.33333333333333331,{"$f":"IF(O23=0,N23/60*$B$2,O23/60*$B$2)*IF(AND(L23=1,K23=0),'Základní údaje'!$C$11,IF(AND(L23=1,K23=1),'Základní údaje'!$C$12,1))","v":0},0,{"$f":"IF(F23=\"denně\",R23*G23*(J23-I23+1)*5*$B$57,IF(F23=\"týdně\",R23*G23*(J23-I23+1)*$B$57,IF(F23=\"měsíčně\",R23*G23*INT((J23-I23+1)/4)*$B$57,IF(F23=\"čtvrtletně\",R23*G23*INT((J23-I23+1)/16)*$B$57,IF(F23=\"ročně\",R23*G23*$B$57,G23*R23*$B$57)))))*IF(L23=1,'Základní údaje'!$C$12,1)","v":0}]
["společná kuchyňka",null,1,1,{"$f":"B24*D24+C24*D24","v":1},"týdně",2,"sezonně",1,26,1,0,"Úklidová činnost č. 5",20,20,{"$f":"IF(O24=0,N24*D24/60,O24*D24/60)","v":0.33333333333333331},{"$f":"IF(O24=0,N24/60*$B$2,O24/60*$B$2)*IF(AND(L24=1,K24=0),'Základní údaje'!$C$11,IF(AND(L24=1,K24=1),'Základní údaje'!$C$12,1))","v":0},{"$f":"Q24*D24","v":0},{"$f":"IF(F24=\"denně\",R24*G24*(J24-I24+1)*5*$B$57,IF(F24=\"týdně\",R24*G24*(J24-I24+1)*$B$57,IF(F24=\"měsíčně\",R24*G24*INT((J24-I24+1)/4)*$B$57,IF(F24=\"čtvrtletně\",R24*G24*INT((J24-I24+1)/16)*$B$57,IF(F24=\"ročně\",R24*G24*$B$57,G24*R24*$B$57)))))*IF(L24=1,'Základní údaje'!$C$12,1)","v":0}]
["prádelna + pračky a sušičky",6,null,1,6,"denně",1,"sezonně",1,26,1,0,"Úklidová činnost č. 4",10,10,0.16666666666666666,{"$f":"IF(O25=0,N25/60*$B$2,O25/60*$B$2)*IF(AND(L25=1,K25=0),'Základní údaje'!$C$11,IF(AND(L25=1,K25=1),'Základní údaje'!$C$12,1))","v":0},0,{"$f":"IF(F25=\"denně\",R25*G25*(J25-I25+1)*5*$B$57,IF(F25=\"týdně\",R25*G25*(J25-I25+1)*$B$57,IF(F25=\"měsíčně\",R25*G25*INT((J25-I25+1)/4)*$B$57,IF(F25=\"čtvrtletně\",R25*G25*INT((J25-I25+1)/16)*$B$57,IF(F25=\"ročně\",R25*G25*$B$57,G25*R25*$B$57)))))*IF(L25=1,'Základní údaje'!$C$12,1)","v":0}]
["místnost úklízeček a úklid.prost.",9,null,1,9,"týdně",1,"sezonně",1,26,1,0,"Úklidová činnost č. 3",5,5,8.3333333333333329E-2,{"$f":"IF(O26=0,N26/60*$B$2,O26/60*$B$2)*IF(AND(L26=1,K26=0),'Základní údaje'!$C$11,IF(AND(L26=1,K26=1),'Základní údaje'!$C$12,1))","v":0},0,{"$f":"IF(F26=\"denně\",R26*G26*(J26-I26+1)*5*$B$57,IF(F26=\"týdně\",R26*G26*(J26-I26+1)*$B$57,IF(F26=\"měsíčně\",R26*G26*INT((J26-I26+1)/4)*$B$57,IF(F26=\"čtvrtletně\",R26*G26*INT((J26-I26+1)/16)*$B$57,IF(F26=\"ročně\",R26*G26*$B$57,G26*R26*$B$57)))))*IF(L26=1,'Základní údaje'!$C$12,1)","v":0}]
["045 sklad lůžkovin",34,null,1,34,"týdně",2,"sezonně",1,26,1,0,"Úklidová činnost č. 3",8.5,8.5,0.14166666666666666,{"$f":"IF(O27=0,N27/60*$B$2,O27/60*$B$2)*IF(AND(L27=1,K27=0),'Základní údaje'!$C$11,IF(AND(L27=1,K27=1),'Základní údaje'!$C$12,1))","v":0},0,{"$f":"IF(F27=\"denně\",R27*G27*(J27-I27+1)*5*$B$57,IF(F27=\"týdně\",R27*G27*(J27-I27+1)*$B$57,IF(F27=\"měsíčně\",R27*G27*INT((J27-I27+1)/4)*$B$57,IF(F27=\"čtvrtletně\",R27*G27*INT((J27-I27+1)/16)*$B$57,IF(F27=\"ročně\",R27*G27*$B$57,G27*R27*$B$57)))))*IF(L27=1,'Základní údaje'!$C$12,1)","v":0}]
["023 sklad",45,null,1,{"$f":"B28*D28+C28*D28","v":45},"týdně",1,"sezonně",1,26,1,0,"Úklidová činnost č. 3",11,11,{"$f":"IF(O28=0,N28*D28/60,O28*D28/60)","v":0.18333333333333332},{"$f":"IF(O28=0,N28/60*$B$2,O28/60*$B$2)*IF(AND(L28=1,K28=0),'Základní údaje'!$C$11,IF(AND(L28=1,K28=1),'Základní údaje'!$C$12,1))","v":0},{"$f":"Q28*D28","v":0},{"$f":"IF(F28=\"denně\",R28*G28*(J28-I28+1)*5*$B$57,IF(F28=\"týdně\",R28*G28*(J28-I28+1)*$B$57,IF(F28=\"měsíčně\",R28*G28*INT((J28-I28+1)/4)*$B$57,IF(F28=\"čtvrtletně\",R28*G28*INT((J28-I28+1)/16)*$B$57,IF(F28=\"ročně\",R28*G28*$B$57,G28*R28*$B$57)))))*IF(L28=1,'Základní údaje'!$C$12,1)","v":0}]
["024 sklad -  nábytek",45,null,1,45,"týdně",1,"sezonně",1,26,1,0,"Úklidová činnost č. 3",11,11,0.18333333333333332,{"$f":"IF(O29=0,N29/60*$B$2,O29/60*$B$2)*IF(AND(L29=1,K29=0),'Základní údaje'!$C$11,IF(AND(L29=1,K29=1),'Základní údaje'!$C$12,1))","v":0},0,{"$f":"IF(F29=\"denně\",R29*G29*(J29-I29+1)*5*$B$57,IF(F29=\"týdně\",R29*G29*(J29-I29+1)*$B$57,IF(F29=\"měsíčně\",R29*G29*INT((J29-I29+1)/4)*$B$57,IF(F29=\"čtvrtletně\",R29*G29*INT((J29-I29+1)/16)*$B$57,IF(F29=\"ročně\",R29*G29*$B$57,G29*R29*$B$57)))))*IF(L29=1,'Základní údaje'!$C$12,1)","v":0}]
["STUDENTSKÁ KAPACITA"]
["pokoj generální úklid",14,null,266,3724,"ročně",1,"celoročně",1,52,1,1,"Úklidová činnost č. 6",30,30,133,{"$f":"IF(O31=0,N31/60*$B$2,O31/60*$B$2)*IF(AND(L31=1,K31=0),'Základní údaje'!$C$11,IF(AND(L31=1,K31=1),'Základní údaje'!$C$12,1))","v":0},0,{"$f":"IF(F31=\"denně\",R31*G31*(J31-I31+1)*5*$B$57,IF(F31=\"týdně\",R31*G31*(J31-I31+1)*$B$57,IF(F31=\"měsíčně\",R31*G31*INT((J31-I31+1)/4)*$B$57,IF(F31=\"čtvrtletně\",R31*G31*INT((J31-I31+1)/16)*$B$57,IF(F31=\"ročně\",R31*G31*$B$57,G31*R31*$B$57)))))*IF(L31=1,'Základní údaje'!$C$12,1)","v":0}]
["předsíň - generální úklid",15,null,133,{"$f":"B32*D32+C32*D32","v":1995},"ročně",1,"celoročně",1,52,1,1,"Úklidová činnost č. 7",25,25,{"$f":"IF(O32=0,N32*D32/60,O32*D32/60)","v":55.416666666666664},{"$f":"IF(O32=0,N32/60*$B$2,O32/60*$B$2)*IF(AND(L32=1,K32=0),'Základní údaje'!$C$11,IF(AND(L32=1,K32=1),'Základní údaje'!$C$12,1))","v":0},{"$f":"Q32*D32","v":0},{"$f":"IF(F32=\"denně\",R32*G32*(J32-I32+1)*5*$B$57,IF(F32=\"týdně\",R32*G32*(J32-I32+1)*$B$57,IF(F32=\"měsíčně\",R32*G32*INT((J32-I32+1)/4)*$B$57,IF(F32=\"čtvrtletně\",R32*G32*INT((J32-I32+1)/16)*$B$57,IF(F32=\"ročně\",R32*G32*$B$57,G32*R32*$B$57)))))*IF(L32=1,'Základní údaje'!$C$12,1)","v":0}]
["koupelna se sprchou -generální úklid",2,null,133,{"$f":"B33*D33+C33*D33","v":266},"ročně",1,"celoročně",1,52,1,1,"Úklidová činnost č. 15",10,10,{"$f":"IF(O33=0,N33*D33/60,O33*D33/60)","v":22.166666666666668},{"$f":"IF(O33=0,N33/60*$B$2,O33/60*$B$2)*IF(AND(L33=1,K33=0),'Základní údaje'!$C$11,IF(AND(L33=1,K33=1),'Základní údaje'!$C$12,1))","v":0},{"$f":"Q33*D33","v":0},{"$f":"IF(F33=\"denně\",R33*G33*(J33-I33+1)*5*$B$57,IF(F33=\"týdně\",R33*G33*(J33-I33+1)*$B$57,IF(F33=\"měsíčně\",R33*G33*INT((J33-I33+1)/4)*$B$57,IF(F33=\"čtvrtletně\",R33*G33*INT((J33-I33+1)/16)*$B$57,IF(F33=\"ročně\",R33*G33*$B$57,G33*R33*$B$57)))))*IF(L33=1,'Základní údaje'!$C$12,1)","v":0}]
["wc - generální úklid",null,1,133,{"$f":"B34*D34+C34*D34","v":133},"ročně",1,"celoročně",1,52,1,1,"Úklidová činnost č. 14",8,8,{"$f":"IF(O34=0,N34*D34/60,O34*D34/60)","v":17.733333333333334},{"$f":"IF(O34=0,N34/60*$B$2,O34/60*$B$2)*IF(AND(L34=1,K34=0),'Základní údaje'!$C$11,IF(AND(L34=1,K34=1),'Základní údaje'!$C$12,1))","v":0},{"$f":"Q34*D34","v":0},{"$f":"IF(F34=\"denně\",R34*G34*(J34-I34+1)*5*$B$57,IF(F34=\"týdně\",R34*G34*(J34-I34+1)*$B$57,IF(F34=\"měsíčně\",R34*G34*INT((J34-I34+1)/4)*$B$57,IF(F34=\"čtvrtletně\",R34*G34*INT((J34-I34+1)/16)*$B$57,IF(F34=\"ročně\",R34*G34*$B$57,G34*R34*$B$57)))))*IF(L34=1,'Základní údaje'!$C$12,1)","v":0}]
["kuchyňka - generální úklid",null,1,133,{"$f":"B35*D35+C35*D35","v":133},"ročně",1,"celoročně",1,52,1,1,"Úklidová činnost č. 5",12,12,{"$f":"IF(O35=0,N35*D35/60,O35*D35/60)","v":26.6},{"$f":"IF(O35=0,N35/60*$B$2,O35/60*$B$2)*IF(AND(L35=1,K35=0),'Základní údaje'!$C$11,IF(AND(L35=1,K35=1),'Základní údaje'!$C$12,1))","v":0},{"$f":"Q35*D35","v":0},{"$f":"IF(F35=\"denně\",R35*G35*(J35-I35+1)*5*$B$57,IF(F35=\"týdně\",R35*G35*(J35-I35+1)*$B$57,IF(F35=\"měsíčně\",R35*G35*INT((J35-I35+1)/4)*$B$57,IF(F35=\"čtvrtletně\",R35*G35*INT((J35-I35+1)/16)*$B$57,IF(F35=\"ročně\",R35*G35*$B$57,G35*R35*$B$57)))))*IF(L35=1,'Základní údaje'!$C$12,1)","v":0}]
["předsíň",15,null,133,1995,"ročně",2,"celoročně",1,52,1,0,"Úklidová činnost č. 7",25,25,55.416666666666664,{"$f":"IF(O36=0,N36/60*$B$2,O36/60*$B$2)*IF(AND(L36=1,K36=0),'Základní údaje'!$C$11,IF(AND(L36=1,K36=1),'Základní údaje'!$C$12,1))","v":0},0,{"$f":"IF(F36=\"denně\",R36*G36*(J36-I36+1)*5*$B$57,IF(F36=\"týdně\",R36*G36*(J36-I36+1)*$B$57,IF(F36=\"měsíčně\",R36*G36*INT((J36-I36+1)/4)*$B$57,IF(F36=\"čtvrtletně\",R36*G36*INT((J36-I36+1)/16)*$B$57,IF(F36=\"ročně\",R36*G36*$B$57,G36*R36*$B$57)))))*IF(L36=1,'Základní údaje'!$C$12,1)","v":0}]
["wc",null,1,133,133,"ročně",2,"celoročně",1,52,1,0,"Úklidová činnost č. 14",8,8,17.733333333333334,{"$f":"IF(O37=0,N37/60*$B$2,O37/60*$B$2)*IF(AND(L37=1,K37=0),'Základní údaje'!$C$11,IF(AND(L37=1,K37=1),'Základní údaje'!$C$12,1))","v":0},0,{"$f":"IF(F37=\"denně\",R37*G37*(J37-I37+1)*5*$B$57,IF(F37=\"týdně\",R37*G37*(J37-I37+1)*$B$57,IF(F37=\"měsíčně\",R37*G37*INT((J37-I37+1)/4)*$B$57,IF(F37=\"čtvrtletně\",R37*G37*INT((J37-I37+1)/16)*$B$57,IF(F37=\"ročně\",R37*G37*$B$57,G37*R37*$B$57)))))*IF(L37=1,'Základní údaje'!$C$12,1)","v":0}]
["koupelna se sprchou",2,null,133,266,"ročně",2,"celoročně",1,52,1,0,"Úklidová činnost č. 15",10,10,22.166666666666668,{"$f":"IF(O38=0,N38/60*$B$2,O38/60*$B$2)*IF(AND(L38=1,K38=0),'Základní údaje'!$C$11,IF(AND(L38=1,K38=1),'Základní údaje'!$C$12,1))","v":0},0,{"$f":"IF(F38=\"denně\",R38*G38*(J38-I38+1)*5*$B$57,IF(F38=\"týdně\",R38*G38*(J38-I38+1)*$B$57,IF(F38=\"měsíčně\",R38*G38*INT((J38-I38+1)/4)*$B$57,IF(F38=\"čtvrtletně\",R38*G38*INT((J38-I38+1)/16)*$B$57,IF(F38=\"ročně\",R38*G38*$B$57,G38*R38*$B$57)))))*IF(L38=1,'Základní údaje'!$C$12,1)","v":0}]
["kuchyňka",null,1,133,133,"ročně",2,"celoročně",1,52,1,0,"Úklidová činnost č. 5",12,12,26.6,{"$f":"IF(O39=0,N39/60*$B$2,O39/60*$B$2)*IF(AND(L39=1,K39=0),'Základní údaje'!$C$11,IF(AND(L39=1,K39=1),'Základní údaje'!$C$12,1))","v":0},0,{"$f":"IF(F39=\"denně\",R39*G39*(J39-I39+1)*5*$B$57,IF(F39=\"týdně\",R39*G39*(J39-I39+1)*$B$57,IF(F39=\"měsíčně\",R39*G39*INT((J39-I39+1)/4)*$B$57,IF(F39=\"čtvrtletně\",R39*G39*INT((J39-I39+1)/16)*$B$57,IF(F39=\"ročně\",R39*G39*$B$57,G39*R39*$B$57)))))*IF(L39=1,'Základní údaje'!$C$12,1)","v":0}]
["HOTEL",null,null,null,null,null,null,"celoročně",1,52]
["hotelový dvolůžkový, po odjezdu",50,null,1,{"$f":"B41*D41+C41*D41","v":50},"měsíčně",1,"celoročně",1,52,1,1,"Úklidová činnost č. 8",90,90,{"$f":"IF(O41=0,N41*D41/60,O41*D41/60)","v":1.5},{"$f":"IF(O41=0,N41/60*$B$2,O41/60*$B$2)*IF(AND(L41=1,K41=0),'Základní údaje'!$C$11,IF(AND(L41=1,K41=1),'Základní údaje'!$C$12,1))","v":0},{"$f":"Q41*D41","v":0},{"$f":"IF(F41=\"denně\",R41*G41*(J41-I41+1)*5*$B$57,IF(F41=\"týdně\",R41*G41*(J41-I41+1)*$B$57,IF(F41=\"měsíčně\",R41*G41*INT((J41-I41+1)/4)*$B$57,IF(F41=\"čtvrtletně\",R41*G41*INT((J41-I41+1)/16)*$B$57,IF(F41=\"ročně\",R41*G41*$B$57,G41*R41*$B$57)))))*IF(L41=1,'Základní údaje'!$C$12,1)","v":0}]
["hotelový dvolůžkový, průběžně",50,null,1,50,"měsíčně",1,"celoročně",1,52,1,1,"Úklidová činnost č. 9",20,20,0.33333333333333331,{"$f":"IF(O42=0,N42/60*$B$2,O42/60*$B$2)*IF(AND(L42=1,K42=0),'Základní údaje'!$C$11,IF(AND(L42=1,K42=1),'Základní údaje'!$C$12,1))","v":0},0,{"$f":"IF(F42=\"denně\",R42*G42*(J42-I42+1)*5*$B$57,IF(F42=\"týdně\",R42*G42*(J42-I42+1)*$B$57,IF(F42=\"měsíčně\",R42*G42*INT((J42-I42+1)/4)*$B$57,IF(F42=\"čtvrtletně\",R42*G42*INT((J42-I42+1)/16)*$B$57,IF(F42=\"ročně\",R42*G42*$B$57,G42*R42*$B$57)))))*IF(L42=1,'Základní údaje'!$C$12,1)","v":0}]
["Ostatní"]
["okna velká",null,1,500,500,"ročně",1,"celoročně",1,52,1,0,"Úklidová činnost č. 12",30,30,250,{"$f":"IF(O44=0,N44/60*$B$2,O44/60*$B$2)*IF(AND(L44=1,K44=0),'Základní údaje'!$C$11,IF(AND(L44=1,K44=1),'Základní údaje'!$C$12,1))","v":0},0,{"$f":"IF(F44=\"denně\",R44*G44*(J44-I44+1)*5*$B$57,IF(F44=\"týdně\",R44*G44*(J44-I44+1)*$B$57,IF(F44=\"měsíčně\",R44*G44*INT((J44-I44+1)/4)*$B$57,IF(F44=\"čtvrtletně\",R44*G44*INT((J44-I44+1)/16)*$B$57,IF(F44=\"ročně\",R44*G44*$B$57,G44*R44*$B$57)))))*IF(L44=1,'Základní údaje'!$C$12,1)","v":0}]
["balkonové dveře",null,1,52,52,"ročně",1,"celoročně",1,52,1,0,"Úklidová činnost č. 12",30,30,26,{"$f":"IF(O45=0,N45/60*$B$2,O45/60*$B$2)*IF(AND(L45=1,K45=0),'Základní údaje'!$C$11,IF(AND(L45=1,K45=1),'Základní údaje'!$C$12,1))","v":0},0,{"$f":"IF(F45=\"denně\",R45*G45*(J45-I45+1)*5*$B$57,IF(F45=\"týdně\",R45*G45*(J45-I45+1)*$B$57,IF(F45=\"měsíčně\",R45*G45*INT((J45-I45+1)/4)*$B$57,IF(F45=\"čtvrtletně\",R45*G45*INT((J45-I45+1)/16)*$B$57,IF(F45=\"ročně\",R45*G45*$B$57,G45*R45*$B$57)))))*IF(L45=1,'Základní údaje'!$C$12,1)","v":0}]
["malé okno",null,1,65,65,"ročně",1,"celoročně",1,52,1,0,"Úklidová činnost č. 12",20,20,21.666666666666668,{"$f":"IF(O46=0,N46/60*$B$2,O46/60*$B$2)*IF(AND(L46=1,K46=0),'Základní údaje'!$C$11,IF(AND(L46=1,K46=1),'Základní údaje'!$C$12,1))","v":0},0,{"$f":"IF(F46=\"denně\",R46*G46*(J46-I46+1)*5*$B$57,IF(F46=\"týdně\",R46*G46*(J46-I46+1)*$B$57,IF(F46=\"měsíčně\",R46*G46*INT((J46-I46+1)/4)*$B$57,IF(F46=\"čtvrtletně\",R46*G46*INT((J46-I46+1)/16)*$B$57,IF(F46=\"ročně\",R46*G46*$B$57,G46*R46*$B$57)))))*IF(L46=1,'Základní údaje'!$C$12,1)","v":0}]
["čistění matrací",null,1,532,532,"ročně",1,"celoročně",1,52,1,0,"Úklidová činnost č. 13",15,15,133,{"$f":"IF(O47=0,N47/60*$B$2,O47/60*$B$2)*IF(AND(L47=1,K47=0),'Základní údaje'!$C$11,IF(AND(L47=1,K47=1),'Základní údaje'!$C$12,1))","v":0},0,{"$f":"IF(F47=\"denně\",R47*G47*(J47-I47+1)*5*$B$57,IF(F47=\"týdně\",R47*G47*(J47-I47+1)*$B$57,IF(F47=\"měsíčně\",R47*G47*INT((J47-I47+1)/4)*$B$57,IF(F47=\"čtvrtletně\",R47*G47*INT((J47-I47+1)/16)*$B$57,IF(F47=\"ročně\",R47*G47*$B$57,G47*R47*$B$57)))))*IF(L47=1,'Základní údaje'!$C$12,1)","v":0}]
["kontrola stavu úklidu při odjezdu",null,1,266,266,"ročně",1,"celoročně",1,52,1,0,"Úklidová činnost č. 10",8,8,35.466666666666669,{"$f":"IF(O48=0,N48/60*$B$2,O48/60*$B$2)*IF(AND(L48=1,K48=0),'Základní údaje'!$C$11,IF(AND(L48=1,K48=1),'Základní údaje'!$C$12,1))","v":0},0,{"$f":"IF(F48=\"denně\",R48*G48*(J48-I48+1)*5*$B$57,IF(F48=\"týdně\",R48*G48*(J48-I48+1)*$B$57,IF(F48=\"měsíčně\",R48*G48*INT((J48-I48+1)/4)*$B$57,IF(F48=\"čtvrtletně\",R48*G48*INT((J48-I48+1)/16)*$B$57,IF(F48=\"ročně\",R48*G48*$B$57,G48*R48*$B$57)))))*IF(L48=1,'Základní údaje'!$C$12,1)","v":0}]
[null,null,null,null,{"$f":"B49*D49+C49*D49","v":0},null,null,null,null,null,null,null,null,null,null,{"$f":"IF(O49=0,N49*D49/60,O49*D49/60)","v":0},{"$f":"IF(O49=0,N49/60*$B$2,O49/60*$B$2)*IF(AND(L49=1,K49=0),'Základní údaje'!$C$11,IF(AND(L49=1,K49=1),'Základní údaje'!$C$12,1))","v":0},{"$f":"Q49*D49","v":0},{"$f":"IF(F49=\"denně\",R49*G49*(J49-I49+1)*5*$B$57,IF(F49=\"týdně\",R49*G49*(J49-I49+1)*$B$57,IF(F49=\"měsíčně\",R49*G49*INT((J49-I49+1)/4)*$B$57,IF(F49=\"čtvrtletně\",R49*G49*INT((J49-I49+1)/16)*$B$57,IF(F49=\"ročně\",R49*G49*$B$57,G49*R49*$B$57)))))*IF(L49=1,'Základní údaje'!$C$12,1)","v":0}]
[null,null,null,null,0,null,null,null,null,null,null,null,null,null,null,0,{"$f":"IF(O50=0,N50/60*$B$2,O50/60*$B$2)*IF(AND(L50=1,K50=0),'Základní údaje'!$C$11,IF(AND(L50=1,K50=1),'Základní údaje'!$C$12,1))","v":0},0,{"$f":"IF(F50=\"denně\",R50*G50*(J50-I50+1)*5*$B$57,IF(F50=\"týdně\",R50*G50*(J50-I50+1)*$B$57,IF(F50=\"měsíčně\",R50*G50*INT((J50-I50+1)/4)*$B$57,IF(F50=\"čtvrtletně\",R50*G50*INT((J50-I50+1)/16)*$B$57,IF(F50=\"ročně\",R50*G50*$B$57,G50*R50*$B$57)))))*IF(L50=1,'Základní údaje'!$C$12,1)","v":0}]
[null,null,null,null,{"$f":"B51*D51+C51*D51","v":0},null,null,null,null,null,null,null,null,null,null,{"$f":"IF(O51=0,N51*D51/60,O51*D51/60)","v":0},{"$f":"IF(O51=0,N51/60*$B$2,O51/60*$B$2)*IF(AND(L51=1,K51=0),'Základní údaje'!$C$11,IF(AND(L51=1,K51=1),'Základní údaje'!$C$12,1))","v":0},{"$f":"Q51*D51","v":0},{"$f":"IF(F51=\"denně\",R51*G51*(J51-I51+1)*5*$B$57,IF(F51=\"týdně\",R51*G51*(J51-I51+1)*$B$57,IF(F51=\"měsíčně\",R51*G51*INT((J51-I51+1)/4)*$B$57,IF(F51=\"čtvrtletně\",R51*G51*INT((J51-I51+1)/16)*$B$57,IF(F51=\"ročně\",R51*G51*$B$57,G51*R51*$B$57)))))*IF(L51=1,'Základní údaje'!$C$12,1)","v":0}]
["Plocha celkem",{"$f":"SUMPRODUCT(B4:B51,D4:D51)","v":11766},"[m²]"]
["Počet kusů celkem",{"$f":"SUMPRODUCT(C4:C38,D4:D38)","v":681},"[-]"]
["Počet pracovních dnů úklidu:",{"$f":"NETWORKDAYS($C$1,$D$1,$A$64:$A$140)","v":1008},null,null,null,null,null,null,null,null,null,null,{"$f":"NETWORKDAYS(K54,L54,K55)","v":0}]
["Počet týdnů úklidu:",{"$f":"B57*52","v":208}]
["Počet měsíců úklidu:",{"$f":"B57*12","v":48}]
["Počet let úklidu",{"$f":"YEAR(D1)-YEAR(C1)","v":4}]
["CENA CELKEM:",{"$f":"ROUND(SUM(S4:S51),0)/4","v":0},null,null,"[Kč/rok]"]
[]
[]
[]
[]
["svátky:","četnost úklidu","označení","období úklidu",null,null,"Kritéria"]
["2019-01-01","denně",0,"1. Q",null,null,{"$f":"$F$3","v":"uklízí se"}]
["2019-04-19","týdně",1,"2. Q",null,null,{"$f":"B64","v":"denně"}]
["2019-04-22","měsíčně",null,"3. Q"]
["2019-05-01","čtvrtletně",null,"4. Q",null,null,{"$f":"$F$3","v":"uklízí se"}]
["2019-05-08","ročně",null,"leden",null,null,{"$f":"B65","v":"týdně"}]
["2019-07-05","sezonně",null,"únor"]
["2019-10-28",null,null,"březen",null,null,{"$f":"$F$3","v":"uklízí se"}]
["2019-12-24",null,null,"duben",null,null,{"$f":"B66","v":"měsíčně"}]
["2019-12-25",null,null,"květen"]
["2019-12-26",null,null,"červen",null,null,{"$f":"$F$3","v":"uklízí se"}]
["2020-01-01",null,null,"červenec",null,null,{"$f":"B67","v":"čtvrtletně"}]
["2020-04-10",null,null,"srpen"]
["2020-04-13",null,null,"září",null,null,{"$f":"$F$3","v":"uklízí se"}]
["2020-05-01",null,null,"říjen",null,null,{"$f":"B68","v":"ročně"}]
["2020-05-08",null,null,"listopat"]
["2020-07-06",null,null,"prosinec"]
["2020-09-28"]
["2020-10-28"]
["2020-11-17"]
["2020-12-24"]
["2020-12-25"]
["2021-01-01"]
["2021-04-02"]
["2021-04-05"]
["2021-07-05"]
["2021-07-06"]
["2021-09-28"]
["2021-10-28"]
["2021-11-17"]
["2021-12-24"]
["2022-04-15"]
["2022-04-18"]
["2022-07-05"]
["2022-07-06"]
["2022-09-28"]
["2022-10-28"]
["2022-11-17"]
["2022-12-26"]
["2023-04-07"]
["2023-04-10"]
["2023-05-01"]
["2023-05-08"]
["2023-07-05"]
["2023-07-06"]
["2023-09-28"]
["2023-11-17"]
["2023-12-25"]
["2023-12-26"]
["2024-01-01"]
["2024-03-29"]
["2024-04-01"]
["2024-05-01"]
["2024-05-08"]
["2024-07-05"]
["2024-10-28"]
["2024-12-24"]
["2024-12-26"]
["2024-12-26"]
["2025-01-01"]
["2025-04-18"]
["2025-04-21"]
["2025-10-28"]
["2025-11-17"]
["2025-12-24"]
["2025-12-25"]
["2025-12-26"]
["2026-01-01"]
["2026-04-06"]
["2026-05-08"]
["2026-07-05"]
["2026-07-06"]
["2026-09-28"]
["2026-10-28"]
["2026-11-17"]
["2026-12-24"]
["2026-12-25"]
["2026-12-26"]

{"sheet":"Karty úklidu","index":2,"n_rows":74,"n_cols":8,"rows_kept":74,"cut":false,"hidden":false,"merged":[]}
["V komentáři jsou zkatky pro tisk"]
["Karta úklidu",null,null,{"$f":"'Rozpis úklidu'!$A$1","v":"kolej: Vltava, VŠE"}]
["DENNÍ ÚKLID                       DNE:",{"$f":"NOW()","v":"2022-09-08T16:19:41.390"}]
[{"$f":"'Rozpis úklidu'!$A$3","v":"Úklidová jednotka"},{"$f":"'Rozpis úklidu'!$D$3","v":"počet\núklidových jednotek"},"Doba úklidu\n[hod.]",{"$f":"'Rozpis úklidu'!$M$3","v":"Popis činnosti"},{"$f":"'Rozpis úklidu'!$R$3","v":"cena celkem za všechny úklidové jednotky \n(prac. dny)\n[Kč]"},"Správně\nuklizené\njednotky","Smluvní pokuta\n[Kč]","Poznámka"]
[{"$f":"'Rozpis úklidu'!A5","v":"patro chodba s krčkem"},{"$f":"'Rozpis úklidu'!D5","v":5},{"$f":"'Rozpis úklidu'!O5*B5/60","v":3.3333333333333335},{"$f":"'Rozpis úklidu'!M5","v":"Úklidová činnost č. 1"},{"$f":"'Rozpis úklidu'!O5*F5/60*'Základní údaje'!$B$11","v":0},{"$f":"B5","v":5},{"$f":"IF(F5<B5,(B5-F5)*('Rozpis úklidu'!N5/60*'Základní údaje'!$B$11)*2,0)","v":0}]
[{"$f":"'Rozpis úklidu'!A9","v":"studovny"},{"$f":"'Rozpis úklidu'!D9","v":10},{"$f":"'Rozpis úklidu'!O9*B6/60","v":2.5},{"$f":"'Rozpis úklidu'!M9","v":"Úklidová činnost č. 3"},{"$f":"'Rozpis úklidu'!O9*F6/60*'Základní údaje'!$B$11","v":0},{"$f":"B6","v":10},{"$f":"IF(F6<B6,(B6-F6)*('Rozpis úklidu'!N9/60*'Základní údaje'!$B$11)*2,0)","v":0}]
[{"$f":"'Rozpis úklidu'!A12","v":"prádelna + pračky a sušičky"},{"$f":"'Rozpis úklidu'!D12","v":1},{"$f":"'Rozpis úklidu'!O12*B7/60","v":0.16666666666666666},{"$f":"'Rozpis úklidu'!M12","v":"Úklidová činnost č. 4"},{"$f":"'Rozpis úklidu'!O12*F7/60*'Základní údaje'!$B$11","v":0},{"$f":"B7","v":1},{"$f":"IF(F7<B7,(B7-F7)*('Rozpis úklidu'!N12/60*'Základní údaje'!$B$11)*2,0)","v":0}]
["Úklidová pohotovost + Operativní úklidové práce dle požadavku vedoucí koleje",{"$f":"'Základní údaje'!B11","v":0},null,null,{"$f":"B8/60*F8","v":0},null,0]
[null,"Celkem hodin",{"$f":"CONCATENATE(FIXED(SUM(C5:C7),2),\" / \",FIXED(C5+C6+C7+C30+C47,2))","v":"6,00 / 7,40"},"K FAKTURACI CELKEM:",{"$f":"SUM(E5:E8)","v":0},null,{"$f":"SUM(G5:G8)","v":0}]
["Podpis vedoucí směny:",null,null,"Podpis zástupce vedení koleje:"]
[]
["Karta úklidu",null,null,{"$f":"'Rozpis úklidu'!$A$1","v":"kolej: Vltava, VŠE"}]
["TÝDENNÍ ÚKLID                 TÝDEN:",{"$f":"WEEKNUM(TODAY(),1)","v":37},null,{"$f":"(NOW())","v":"2022-09-08T16:19:41.390"}]
[{"$f":"'Rozpis úklidu'!$A$3","v":"Úklidová jednotka"},{"$f":"'Rozpis úklidu'!$D$3","v":"počet\núklidových jednotek"},"Doba úklidu\n[hod.]",{"$f":"'Rozpis úklidu'!$M$3","v":"Popis činnosti"},{"$f":"'Rozpis úklidu'!$R$3","v":"cena celkem za všechny úklidové jednotky \n(prac. dny)\n[Kč]"},"Správně\nuklizené\njednotky","Smluvní pokuta\n[Kč]","Poznámka"]
[{"$f":"CONCATENATE('Rozpis úklidu'!A4,\" (\",'Rozpis úklidu'!G4,\"x týdně)\")","v":"schody na střechu (1x týdně)"},{"$f":"'Rozpis úklidu'!D4*'Rozpis úklidu'!G4","v":3},{"$f":"'Rozpis úklidu'!O4*B15/60","v":0.17499999999999999},{"$f":"'Rozpis úklidu'!M4","v":"vytření, setření prachu, včetně zábradlí"},{"$f":"'Rozpis úklidu'!O4*F15/60*'Základní údaje'!$B$11","v":0},{"$f":"B15","v":3},{"$f":"IF(F15<B15,(B15-F15)*('Rozpis úklidu'!N4/60*'Základní údaje'!$B$11)*2,0)","v":0}]
[{"$f":"CONCATENATE('Rozpis úklidu'!A7,\" (\",'Rozpis úklidu'!G7,\"x týdně)\")","v":"schodiště mezi patry (2x týdně)"},{"$f":"'Rozpis úklidu'!D7*'Rozpis úklidu'!G7","v":30},{"$f":"'Rozpis úklidu'!O7*B16/60","v":1.5},{"$f":"'Rozpis úklidu'!M7","v":"Úklidová činnost č. 1"},{"$f":"'Rozpis úklidu'!O7*F16/60*'Základní údaje'!$B$11","v":0},{"$f":"B16","v":30},{"$f":"IF(F16<B16,(B16-F16)*('Rozpis úklidu'!N7/60*'Základní údaje'!$B$11)*2,0)","v":0}]
[{"$f":"CONCATENATE('Rozpis úklidu'!A8,\" (\",'Rozpis úklidu'!G8,\"x týdně)\")","v":"zábradlí podél schodiště (2x týdně)"},{"$f":"'Rozpis úklidu'!D8*'Rozpis úklidu'!G8","v":30},{"$f":"'Rozpis úklidu'!O8*B17/60","v":1},{"$f":"'Rozpis úklidu'!M8","v":"mytí zábradlí"},{"$f":"'Rozpis úklidu'!O8*F17/60*'Základní údaje'!$B$11","v":0},{"$f":"B17","v":30},{"$f":"IF(F17<B17,(B17-F17)*('Rozpis úklidu'!N8/60*'Základní údaje'!$B$11)*2,0)","v":0}]
[{"$f":"CONCATENATE('Rozpis úklidu'!A10,\" (\",'Rozpis úklidu'!G10,\"x týdně)\")","v":"sušárny (1x týdně)"},{"$f":"'Rozpis úklidu'!D10*'Rozpis úklidu'!G10","v":2},{"$f":"'Rozpis úklidu'!O10*B18/60","v":0.33333333333333331},{"$f":"'Rozpis úklidu'!M10","v":"Úklidová činnost č. 3"},{"$f":"'Rozpis úklidu'!O10*F18/60*'Základní údaje'!$B$11","v":0},{"$f":"B18","v":2},{"$f":"IF(F18<B18,(B18-F18)*('Rozpis úklidu'!N10/60*'Základní údaje'!$B$11)*2,0)","v":0}]
[{"$f":"CONCATENATE('Rozpis úklidu'!A11,\" (\",'Rozpis úklidu'!G11,\"x týdně)\")","v":"společná kuchyňka (2x týdně)"},{"$f":"'Rozpis úklidu'!D11*'Rozpis úklidu'!G11","v":2},{"$f":"'Rozpis úklidu'!O11*B19/60","v":0.66666666666666663},{"$f":"'Rozpis úklidu'!M11","v":"Úklidová činnost č. 5"},{"$f":"'Rozpis úklidu'!O11*F19/60*'Základní údaje'!$B$11","v":0},{"$f":"B19","v":2},{"$f":"IF(F19<B19,(B19-F19)*('Rozpis úklidu'!N11/60*'Základní údaje'!$B$11)*2,0)","v":0}]
[{"$f":"CONCATENATE('Rozpis úklidu'!A13,\" (\",'Rozpis úklidu'!G13,\"x týdně)\")","v":"místnost úklízeček a úklid.prost. (1x týdně)"},{"$f":"'Rozpis úklidu'!D13*'Rozpis úklidu'!G13","v":1},{"$f":"'Rozpis úklidu'!O13*B20/60","v":8.3333333333333329E-2},{"$f":"'Rozpis úklidu'!M13","v":"Úklidová činnost č. 3"},{"$f":"'Rozpis úklidu'!O13*F20/60*'Základní údaje'!$B$11","v":0},1,{"$f":"IF(F20<B20,(B20-F20)*('Rozpis úklidu'!N13/60*'Základní údaje'!$B$11)*2,0)","v":0}]
[{"$f":"CONCATENATE('Rozpis úklidu'!A14,\" (\",'Rozpis úklidu'!G14,\"x týdně)\")","v":"045 sklad lůžkovin (2x týdně)"},{"$f":"'Rozpis úklidu'!D14*'Rozpis úklidu'!G14","v":2},{"$f":"'Rozpis úklidu'!O14*B21/60","v":0.28333333333333333},{"$f":"'Rozpis úklidu'!M14","v":"Úklidová činnost č. 3"},{"$f":"'Rozpis úklidu'!O14*F21/60*'Základní údaje'!$B$11","v":0},{"$f":"B21","v":2},{"$f":"IF(F21<B21,(B21-F21)*('Rozpis úklidu'!N14/60*'Základní údaje'!$B$11)*2,0)","v":0}]
[{"$f":"CONCATENATE('Rozpis úklidu'!A15,\" (\",'Rozpis úklidu'!G15,\"x týdně)\")","v":"023 sklad (1x týdně)"},{"$f":"'Rozpis úklidu'!D15*'Rozpis úklidu'!G15","v":1},{"$f":"'Rozpis úklidu'!O15*B22/60","v":0.18333333333333332},{"$f":"'Rozpis úklidu'!M15","v":"Úklidová činnost č. 3"},{"$f":"'Rozpis úklidu'!O15*F22/60*'Základní údaje'!$B$11","v":0},1,{"$f":"IF(F22<B22,(B22-F22)*('Rozpis úklidu'!N15/60*'Základní údaje'!$B$11)*2,0)","v":0}]
[{"$f":"CONCATENATE('Rozpis úklidu'!A16,\" (\",'Rozpis úklidu'!G16,\"x týdně)\")","v":"024 sklad -  nábytek (1x týdně)"},{"$f":"'Rozpis úklidu'!D16*'Rozpis úklidu'!G16","v":1},{"$f":"'Rozpis úklidu'!O16*B23/60","v":0.18333333333333332},{"$f":"'Rozpis úklidu'!M16","v":"Úklidová činnost č. 3"},{"$f":"'Rozpis úklidu'!O16*F23/60*'Základní údaje'!$B$11","v":0},{"$f":"B23","v":1},{"$f":"IF(F23<B23,(B23-F23)*('Rozpis úklidu'!N16/60*'Základní údaje'!$B$11)*2,0)","v":0}]
[{"$f":"'Rozpis úklidu'!A36","v":"předsíň"},0,{"$f":"'Rozpis úklidu'!O36*B24/60","v":0},{"$f":"'Rozpis úklidu'!M36","v":"Úklidová činnost č. 7"},{"$f":"'Rozpis úklidu'!O36*F24/60*'Základní údaje'!$B$11","v":0},{"$f":"B24","v":0},{"$f":"IF(F24<B24,(B24-F24)*('Rozpis úklidu'!N36/60*'Základní údaje'!$B$11)*2,0)","v":0}]
[{"$f":"'Rozpis úklidu'!A37","v":"wc"},0,{"$f":"'Rozpis úklidu'!O37*B25/60","v":0},{"$f":"'Rozpis úklidu'!M37","v":"Úklidová činnost č. 14"},{"$f":"'Rozpis úklidu'!O37*F25/60*'Základní údaje'!$B$11","v":0},{"$f":"B25","v":0},{"$f":"IF(F25<B25,(B25-F25)*('Rozpis úklidu'!N37/60*'Základní údaje'!$B$11)*2,0)","v":0}]
[{"$f":"'Rozpis úklidu'!A38","v":"koupelna se sprchou"},0,{"$f":"'Rozpis úklidu'!O38*B26/60","v":0},{"$f":"'Rozpis úklidu'!M38","v":"Úklidová činnost č. 15"},{"$f":"'Rozpis úklidu'!O38*F26/60*'Základní údaje'!$B$11","v":0},0,{"$f":"IF(F26<B26,(B26-F26)*('Rozpis úklidu'!N38/60*'Základní údaje'!$B$11)*2,0)","v":0}]
[{"$f":"'Rozpis úklidu'!A39","v":"kuchyňka"},0,{"$f":"'Rozpis úklidu'!O39*B27/60","v":0},{"$f":"'Rozpis úklidu'!M39","v":"Úklidová činnost č. 5"},{"$f":"'Rozpis úklidu'!O39*F27/60*'Základní údaje'!$B$11","v":0},0,{"$f":"IF(F27<B27,(B27-F27)*('Rozpis úklidu'!N39/60*'Základní údaje'!$B$11)*2,0)","v":0}]
[{"$f":"'Rozpis úklidu'!A41","v":"hotelový dvolůžkový, po odjezdu"},0,{"$f":"'Rozpis úklidu'!O41*B28/60","v":0},{"$f":"'Rozpis úklidu'!M41","v":"Úklidová činnost č. 8"},{"$f":"'Rozpis úklidu'!O41*F28/60*'Základní údaje'!$B$11","v":0},{"$f":"B28","v":0},{"$f":"IF(F28<B28,(B28-F28)*('Rozpis úklidu'!N41/60*'Základní údaje'!$B$11)*2,0)","v":0}]
[{"$f":"'Rozpis úklidu'!A42","v":"hotelový dvolůžkový, průběžně"},0,{"$f":"'Rozpis úklidu'!O42*B29/60","v":0},{"$f":"'Rozpis úklidu'!M42","v":"Úklidová činnost č. 9"},{"$f":"'Rozpis úklidu'!O42*F29/60*'Základní údaje'!$B$11","v":0},{"$f":"B29","v":0},{"$f":"IF(F29<B29,(B29-F29)*('Rozpis úklidu'!N42/60*'Základní údaje'!$B$11)*2,0)","v":0}]
[null,"celkem hodin/den",{"$f":"SUM(C15:C29)/5","v":0.88166666666666682},"K FAKTURACI CELKEM:",{"$f":"SUM(E15:E29)","v":0},null,{"$f":"SUM(G15:G29)","v":0}]
["Podpis vedoucí směny:",null,null,"Podpis zástupce vedení koleje:"]
[]
["Karta úklidu",null,null,{"$f":"'Rozpis úklidu'!$A$1","v":"kolej: Vltava, VŠE"}]
["MĚSÍČNÍ ÚKLID                 MĚSÍC:",{"$f":"MONTH(D34)","v":9},null,{"$f":"NOW()","v":"2022-09-08T16:19:41.390"}]
[{"$f":"'Rozpis úklidu'!$A$3","v":"Úklidová jednotka"},{"$f":"'Rozpis úklidu'!$D$3","v":"počet\núklidových jednotek"},"Doba úklidu\n[hod.]",{"$f":"'Rozpis úklidu'!$M$3","v":"Popis činnosti"},{"$f":"'Rozpis úklidu'!$R$3","v":"cena celkem za všechny úklidové jednotky \n(prac. dny)\n[Kč]"},"Správně\nuklizené\njednotky","Smluvní pokuta\n[Kč]","Poznámka"]
[{"$f":"CONCATENATE('Rozpis úklidu'!A6,\" (\",'Rozpis úklidu'!G6,\"x \",'Rozpis úklidu'!F6,\")\")","v":"skleněné plochy na chodbách (1x měsíčně)"},{"$f":"'Rozpis úklidu'!D6*'Rozpis úklidu'!G6","v":125},{"$f":"'Rozpis úklidu'!O6*B36/60","v":10.416666666666666},{"$f":"'Rozpis úklidu'!M6","v":"umýt, vyleštit"},{"$f":"'Rozpis úklidu'!O6*F36/60*'Základní údaje'!$B$11","v":0},{"$f":"B36","v":125},{"$f":"IF(F36<B36,(B36-F36)*('Rozpis úklidu'!N6/60*'Základní údaje'!$B$11)*2,0)","v":0}]
[{"$f":"CONCATENATE('Rozpis úklidu'!A44,\" / \",'Rozpis úklidu'!F44,\" (\",'Rozpis úklidu'!D44,\")\")","v":"okna velká / ročně (500)"},0,{"$f":"'Rozpis úklidu'!O44*B37/60","v":0},{"$f":"'Rozpis úklidu'!M44","v":"Úklidová činnost č. 12"},{"$f":"'Rozpis úklidu'!O44*F37/60*'Základní údaje'!$B$11","v":0},{"$f":"B37","v":0},{"$f":"IF(F37<B37,(B37-F37)*('Rozpis úklidu'!N44/60*'Základní údaje'!$B$11)*2,0)","v":0}]
[{"$f":"CONCATENATE('Rozpis úklidu'!A45,\" / \",'Rozpis úklidu'!F45,\" (\",'Rozpis úklidu'!D45,\")\")","v":"balkonové dveře / ročně (52)"},0,{"$f":"'Rozpis úklidu'!O45*B38/60","v":0},{"$f":"'Rozpis úklidu'!M45","v":"Úklidová činnost č. 12"},{"$f":"'Rozpis úklidu'!O45*F38/60*'Základní údaje'!$B$11","v":0},{"$f":"B38","v":0},{"$f":"IF(F38<B38,(B38-F38)*('Rozpis úklidu'!N45/60*'Základní údaje'!$B$11)*2,0)","v":0}]
[{"$f":"CONCATENATE('Rozpis úklidu'!A46,\" / \",'Rozpis úklidu'!F46,\" (\",'Rozpis úklidu'!D46,\")\")","v":"malé okno / ročně (65)"},0,{"$f":"'Rozpis úklidu'!O46*B39/60","v":0},{"$f":"'Rozpis úklidu'!M46","v":"Úklidová činnost č. 12"},{"$f":"'Rozpis úklidu'!O46*F39/60*'Základní údaje'!$B$11","v":0},0,{"$f":"IF(F39<B39,(B39-F39)*('Rozpis úklidu'!N46/60*'Základní údaje'!$B$11)*2,0)","v":0}]
[{"$f":"CONCATENATE('Rozpis úklidu'!A47,\" / \",'Rozpis úklidu'!F47,\" (\",'Rozpis úklidu'!D47,\")\")","v":"čistění matrací / ročně (532)"},0,{"$f":"'Rozpis úklidu'!O47*B40/60","v":0},{"$f":"'Rozpis úklidu'!M47","v":"Úklidová činnost č. 13"},{"$f":"'Rozpis úklidu'!O47*F40/60*'Základní údaje'!$B$11","v":0},{"$f":"B40","v":0},{"$f":"IF(F40<B40,(B40-F40)*('Rozpis úklidu'!N47/60*'Základní údaje'!$B$11)*2,0)","v":0}]
[{"$f":"CONCATENATE('Rozpis úklidu'!A48,\" / \",'Rozpis úklidu'!F48,\" (\",'Rozpis úklidu'!D48,\")\")","v":"kontrola stavu úklidu při odjezdu / ročně (266)"},0,{"$f":"'Rozpis úklidu'!O48*B41/60","v":0},{"$f":"'Rozpis úklidu'!M48","v":"Úklidová činnost č. 10"},{"$f":"'Rozpis úklidu'!O48*F41/60*'Základní údaje'!$B$11","v":0},0,{"$f":"IF(F41<B41,(B41-F41)*('Rozpis úklidu'!N48/60*'Základní údaje'!$B$11)*2,0)","v":0}]
[{"$f":"CONCATENATE('Rozpis úklidu'!A31,\" / \",'Rozpis úklidu'!F31,\" (\",'Rozpis úklidu'!D31,\")\")","v":"pokoj generální úklid / ročně (266)"},0,{"$f":"'Rozpis úklidu'!O31*B42/60","v":0},{"$f":"'Rozpis úklidu'!M31","v":"Úklidová činnost č. 6"},{"$f":"'Rozpis úklidu'!O31*F42/60*'Základní údaje'!$B$11","v":0},{"$f":"B42","v":0},{"$f":"IF(F42<B42,(B42-F42)*('Rozpis úklidu'!N31/60*'Základní údaje'!$B$11)*2,0)","v":0}]
[{"$f":"CONCATENATE('Rozpis úklidu'!A32,\" / \",'Rozpis úklidu'!F32,\" (\",'Rozpis úklidu'!D32,\")\")","v":"předsíň - generální úklid / ročně (133)"},0,{"$f":"'Rozpis úklidu'!O32*B43/60","v":0},{"$f":"'Rozpis úklidu'!M32","v":"Úklidová činnost č. 7"},{"$f":"'Rozpis úklidu'!O32*F43/60*'Základní údaje'!$B$11","v":0},{"$f":"B43","v":0},{"$f":"IF(F43<B43,(B43-F43)*('Rozpis úklidu'!N32/60*'Základní údaje'!$B$11)*2,0)","v":0}]
[{"$f":"CONCATENATE('Rozpis úklidu'!A33,\" / \",'Rozpis úklidu'!F33,\" (\",'Rozpis úklidu'!D33,\")\")","v":"koupelna se sprchou -generální úklid / ročně (133)"},0,{"$f":"'Rozpis úklidu'!O33*B44/60","v":0},{"$f":"'Rozpis úklidu'!M33","v":"Úklidová činnost č. 15"},{"$f":"'Rozpis úklidu'!O33*F44/60*'Základní údaje'!$B$11","v":0},0,{"$f":"IF(F44<B44,(B44-F44)*('Rozpis úklidu'!N33/60*'Základní údaje'!$B$11)*2,0)","v":0}]
[{"$f":"CONCATENATE('Rozpis úklidu'!A34,\" / \",'Rozpis úklidu'!F34,\" (\",'Rozpis úklidu'!D34,\")\")","v":"wc - generální úklid / ročně (133)"},0,{"$f":"'Rozpis úklidu'!O34*B45/60","v":0},{"$f":"'Rozpis úklidu'!M34","v":"Úklidová činnost č. 14"},{"$f":"'Rozpis úklidu'!O34*F45/60*'Základní údaje'!$B$11","v":0},0,{"$f":"IF(F45<B45,(B45-F45)*('Rozpis úklidu'!N34/60*'Základní údaje'!$B$11)*2,0)","v":0}]
[{"$f":"CONCATENATE('Rozpis úklidu'!A35,\" / \",'Rozpis úklidu'!F35,\" (\",'Rozpis úklidu'!D35,\")\")","v":"kuchyňka - generální úklid / ročně (133)"},0,{"$f":"'Rozpis úklidu'!O35*B46/60","v":0},{"$f":"'Rozpis úklidu'!M35","v":"Úklidová činnost č. 5"},{"$f":"'Rozpis úklidu'!O35*F46/60*'Základní údaje'!$B$11","v":0},{"$f":"B46","v":0},{"$f":"IF(F46<B46,(B46-F46)*('Rozpis úklidu'!N35/60*'Základní údaje'!$B$11)*2,0)","v":0}]
[null,"celkem hodin/den",{"$f":"SUM(C36:C46)/20","v":0.52083333333333326},"K FAKTURACI CELKEM:",{"$f":"SUM(E36:E46)","v":0},null,{"$f":"SUM(G36:G46)","v":0}]
["Podpis vedoucí směny:",null,null,"Podpis zástupce vedení koleje:"]
[]
["Karta úklidu",null,null,{"$f":"'Rozpis úklidu'!$A$1","v":"kolej: Vltava, VŠE"}]
["SEZONNÍ ÚKLID                 MĚSÍC:",{"$f":"MONTH(D51)","v":9},null,{"$f":"(NOW())","v":"2022-09-08T16:19:41.390"}]
[{"$f":"'Rozpis úklidu'!$A$3","v":"Úklidová jednotka"},{"$f":"'Rozpis úklidu'!$D$3","v":"počet\núklidových jednotek"},"Doba úklidu\n[hod.]",{"$f":"'Rozpis úklidu'!$M$3","v":"Popis činnosti"},{"$f":"'Rozpis úklidu'!$R$3","v":"cena celkem za všechny úklidové jednotky \n(prac. dny)\n[Kč]"},"Správně\nuklizené\njednotky","Smluvní pokuta\n[Kč]","Poznámka"]
[{"$f":"CONCATENATE('Rozpis úklidu'!A31,\" / \",'Rozpis úklidu'!F31,\" (\",'Rozpis úklidu'!D31,\")\")","v":"pokoj generální úklid / ročně (266)"},0,{"$f":"'Rozpis úklidu'!O31*B53/60","v":0},{"$f":"'Rozpis úklidu'!M31","v":"Úklidová činnost č. 6"},{"$f":"'Rozpis úklidu'!O31*F53/60*'Základní údaje'!$B$11","v":0},{"$f":"B53","v":0},{"$f":"IF(F53<B53,(B53-F53)*('Rozpis úklidu'!N31/60*'Základní údaje'!$B$11)*2,0)","v":0}]
[{"$f":"CONCATENATE('Rozpis úklidu'!A32,\" / \",'Rozpis úklidu'!F32,\" (\",'Rozpis úklidu'!D32,\")\")","v":"předsíň - generální úklid / ročně (133)"},0,{"$f":"'Rozpis úklidu'!O32*B54/60","v":0},{"$f":"'Rozpis úklidu'!M32","v":"Úklidová činnost č. 7"},{"$f":"'Rozpis úklidu'!O32*F54/60*'Základní údaje'!$B$11","v":0},0,{"$f":"IF(F54<B54,(B54-F54)*('Rozpis úklidu'!N32/60*'Základní údaje'!$B$11)*2,0)","v":0}]
[{"$f":"CONCATENATE('Rozpis úklidu'!A34,\" / \",'Rozpis úklidu'!F34,\" (\",'Rozpis úklidu'!D34,\")\")","v":"wc - generální úklid / ročně (133)"},0,{"$f":"'Rozpis úklidu'!O33*B55/60","v":0},{"$f":"'Rozpis úklidu'!M34","v":"Úklidová činnost č. 14"},{"$f":"'Rozpis úklidu'!O33*F55/60*'Základní údaje'!$B$11","v":0},0,{"$f":"IF(F55<B55,(B55-F55)*('Rozpis úklidu'!N33/60*'Základní údaje'!$B$11)*2,0)","v":0}]
[{"$f":"CONCATENATE('Rozpis úklidu'!A33,\" / \",'Rozpis úklidu'!F33,\" (\",'Rozpis úklidu'!D33,\")\")","v":"koupelna se sprchou -generální úklid / ročně (133)"},0,{"$f":"'Rozpis úklidu'!O34*B56/60","v":0},{"$f":"'Rozpis úklidu'!M33","v":"Úklidová činnost č. 15"},{"$f":"'Rozpis úklidu'!O34*F56/60*'Základní údaje'!$B$11","v":0},0,{"$f":"IF(F56<B56,(B56-F56)*('Rozpis úklidu'!N34/60*'Základní údaje'!$B$11)*2,0)","v":0}]
[{"$f":"CONCATENATE('Rozpis úklidu'!A35,\" / \",'Rozpis úklidu'!F35,\" (\",'Rozpis úklidu'!D35,\")\")","v":"kuchyňka - generální úklid / ročně (133)"},0,{"$f":"'Rozpis úklidu'!O35*B57/60","v":0},{"$f":"'Rozpis úklidu'!M35","v":"Úklidová činnost č. 5"},{"$f":"'Rozpis úklidu'!O35*F57/60*'Základní údaje'!$B$11","v":0},0,{"$f":"IF(F57<B57,(B57-F57)*('Rozpis úklidu'!N35/60*'Základní údaje'!$B$11)*2,0)","v":0}]
[{"$f":"CONCATENATE('Rozpis úklidu'!A48,\" / \",'Rozpis úklidu'!F48,\" (\",'Rozpis úklidu'!D48,\")\")","v":"kontrola stavu úklidu při odjezdu / ročně (266)"},0,{"$f":"'Rozpis úklidu'!O48*B58/60","v":0},{"$f":"'Rozpis úklidu'!M48","v":"Úklidová činnost č. 10"},{"$f":"'Rozpis úklidu'!O48*F58/60*'Základní údaje'!$B$11","v":0},0,{"$f":"IF(F58<B58,(B58-F58)*('Rozpis úklidu'!N48/60*'Základní údaje'!$B$11)*2,0)","v":0}]
[null,"celkem hodin",{"$f":"SUM(C53:C58)","v":0},"K FAKTURACI CELKEM:",{"$f":"SUM(E53:E58)","v":0},null,{"$f":"SUM(G53:G58)","v":0}]
["Podpis vedoucí směny:",null,null,"Podpis zástupce vedení koleje:"]
[]
["Karta úklidu",null,null,{"$f":"'Rozpis úklidu'!$A$1","v":"kolej: Vltava, VŠE"}]
["ÚKLID O VÍKENDU                 DNE:",{"$f":"(NOW())","v":"2022-09-08T16:19:41.390"}]
[{"$f":"'Rozpis úklidu'!$A$3","v":"Úklidová jednotka"},{"$f":"'Rozpis úklidu'!$D$3","v":"počet\núklidových jednotek"},"Doba úklidu\n[hod.]",{"$f":"'Rozpis úklidu'!$M$3","v":"Popis činnosti"},"cena celkem za všechny úklidové jednotky \n(VÍKEND)\n[Kč]","Správně\nuklizené\njednotky","Smluvní pokuta\n[Kč]","Poznámka"]
[{"$f":"CONCATENATE('Rozpis úklidu'!A31,\" / \",'Rozpis úklidu'!F31,\" (\",'Rozpis úklidu'!D31,\")\")","v":"pokoj generální úklid / ročně (266)"},0,{"$f":"'Rozpis úklidu'!O31*B65/60","v":0},{"$f":"'Rozpis úklidu'!M31","v":"Úklidová činnost č. 6"},{"$f":"'Rozpis úklidu'!O31*F65/60*'Základní údaje'!$B$12","v":0},{"$f":"B65","v":0},{"$f":"IF(F65<B65,(B65-F65)*'Rozpis úklidu'!Q31*2,0)","v":0}]
[{"$f":"CONCATENATE('Rozpis úklidu'!A32,\" / \",'Rozpis úklidu'!F32,\" (\",'Rozpis úklidu'!D32,\")\")","v":"předsíň - generální úklid / ročně (133)"},0,{"$f":"'Rozpis úklidu'!O32*B66/60","v":0},{"$f":"'Rozpis úklidu'!M32","v":"Úklidová činnost č. 7"},{"$f":"'Rozpis úklidu'!O32*F66/60*'Základní údaje'!$B$12","v":0},{"$f":"B66","v":0},{"$f":"IF(F66<B66,(B66-F66)*'Rozpis úklidu'!Q32*2,0)","v":0}]
[{"$f":"CONCATENATE('Rozpis úklidu'!A33,\" / \",'Rozpis úklidu'!F33,\" (\",'Rozpis úklidu'!D33,\")\")","v":"koupelna se sprchou -generální úklid / ročně (133)"},0,{"$f":"'Rozpis úklidu'!O33*B67/60","v":0},{"$f":"'Rozpis úklidu'!M33","v":"Úklidová činnost č. 15"},{"$f":"'Rozpis úklidu'!O33*F67/60*'Základní údaje'!$B$12","v":0},0,{"$f":"IF(F67<B67,(B67-F67)*'Rozpis úklidu'!Q33*2,0)","v":0}]
[{"$f":"CONCATENATE('Rozpis úklidu'!A34,\" / \",'Rozpis úklidu'!F34,\" (\",'Rozpis úklidu'!D34,\")\")","v":"wc - generální úklid / ročně (133)"},0,{"$f":"'Rozpis úklidu'!O34*B68/60","v":0},{"$f":"'Rozpis úklidu'!M34","v":"Úklidová činnost č. 14"},{"$f":"'Rozpis úklidu'!O34*F68/60*'Základní údaje'!$B$12","v":0},0,{"$f":"IF(F68<B68,(B68-F68)*'Rozpis úklidu'!Q34*2,0)","v":0}]
[{"$f":"CONCATENATE('Rozpis úklidu'!A35,\" / \",'Rozpis úklidu'!F35,\" (\",'Rozpis úklidu'!D35,\")\")","v":"kuchyňka - generální úklid / ročně (133)"},0,{"$f":"'Rozpis úklidu'!O35*B69/60","v":0},{"$f":"'Rozpis úklidu'!M35","v":"Úklidová činnost č. 5"},{"$f":"'Rozpis úklidu'!O35*F69/60*'Základní údaje'!$B$12","v":0},0,{"$f":"IF(F69<B69,(B69-F69)*'Rozpis úklidu'!Q35*2,0)","v":0}]
[{"$f":"CONCATENATE('Rozpis úklidu'!A41,\" / \",'Rozpis úklidu'!F41,\" (\",'Rozpis úklidu'!D41,\")\")","v":"hotelový dvolůžkový, po odjezdu / měsíčně (1)"},0,{"$f":"'Rozpis úklidu'!O41*B70/60","v":0},{"$f":"'Rozpis úklidu'!M41","v":"Úklidová činnost č. 8"},{"$f":"'Rozpis úklidu'!O41*F70/60*'Základní údaje'!$B$12","v":0},{"$f":"B70","v":0},{"$f":"IF(F70<B70,(B70-F70)*'Rozpis úklidu'!Q41*2,0)","v":0}]
[{"$f":"CONCATENATE('Rozpis úklidu'!A42,\" / \",'Rozpis úklidu'!F42,\" (\",'Rozpis úklidu'!D42,\")\")","v":"hotelový dvolůžkový, průběžně / měsíčně (1)"},0,{"$f":"'Rozpis úklidu'!O42*B71/60","v":0},{"$f":"'Rozpis úklidu'!M42","v":"Úklidová činnost č. 9"},{"$f":"'Rozpis úklidu'!O42*F71/60*'Základní údaje'!$B$12","v":0},{"$f":"B71","v":0},{"$f":"IF(F71<B71,(B71-F71)*'Rozpis úklidu'!Q42*2,0)","v":0}]
[{"$f":"CONCATENATE('Rozpis úklidu'!A48,\" / \",'Rozpis úklidu'!F48,\" (\",'Rozpis úklidu'!D48,\")\")","v":"kontrola stavu úklidu při odjezdu / ročně (266)"},0,{"$f":"'Rozpis úklidu'!O48*B72/60","v":0},{"$f":"'Rozpis úklidu'!M48","v":"Úklidová činnost č. 10"},{"$f":"'Rozpis úklidu'!O48*F72/60*'Základní údaje'!$B$12","v":0},0,{"$f":"IF(F72<B72,(B72-F72)*'Rozpis úklidu'!Q48*2,0)","v":0}]
[null,"celkem hodin/víkend",{"$f":"SUM(C65:C72)","v":0},"K FAKTURACI CELKEM:",{"$f":"SUM(E65:E72)","v":0},null,{"$f":"SUM(G65:G72)","v":0}]
["Podpis vedoucí směny:",null,null,"Podpis zástupce vedení koleje:"]

{"sheet":"Činnosti úklidu","index":3,"n_rows":35,"n_cols":2,"rows_kept":35,"cut":false,"hidden":false,"merged":[]}
[null,"Úklidová činnost"]
[null,"Úklidová činnost probíhá v čase od 07:00 hod. do 15.00 hod. v jednosměnném provozu v pětidenním pracovním týdnu, úklid hotelových pokojů musí být dle potřeby zajištěn i o víkendu. V době nastěhování a vystěhování studentů koncem letního semestru a začátkem zimního semestru stanovuje dobu pro úklid podle aktuálních potřeb vedoucí/zástupce vedoucí koleje a to včetně úklidu o víkendu. Při úklidu je potřeba používat úklidové, čistící a desinfekční prostředky vhodné pro daný předmět úklidu a dodržovat návody na použití příslušných úklidových, čistících a desinfekčních prostředků a bezpečnostní a hygienická pravidla"]
["Definice pojmů:"]
["Zametání","pomocí vhodného smetáku zamést dané podlahové plochy."]
["Vytírání ","pomocí mopu za použití vody a odpovídajícího saponátu vytřít dané podlahové plochy."]
["Mytí ","pomocí hadru, utěrky nebo houbičky, za použití vody a odpovídajícího saponátu, umýt plochy nábytku, dveří, spotřebičů, keramických a jiných obkladů, topení apod."]
["Čištění ","důkladné čištění, zvláště skvrn, za pomocí odpovídajících čisticích prostředků, ploch nábytku, dveří, spotřebičů, keramických a jiných obkladů, topení apod."]
["Desinfekce ","po umytí nebo vyčištění daných ploch, podlah, spotřebičů aj. použít podle návodu odpovídající desinfekční prostředek."]
["Leštění ","leštění všech skleněných a zrcadlových ploch za použití odpovídajícího přípravku na mytí a leštění skel."]
["Luxování ","čištění podlah za použití vysavače."]
["Strojové čištění ","se provádí za použití čistícího stroje na vodní nebo parní bázi (strojové čištění postelí, matrací, koberců apod.)."]
["Stírání prachu","setření prachu vhodnou utěrkou za použití odpovídajícího přípravku na odstranění prachu, odstranění pavučin."]
["Úklid odpadů ","řádné uvolnění, umytí, vyčištění a vydesinfikování odpadů na soc. zařízeních, WC, umývárnách a sprchových koutech za použití odpovídajících přípravků."]
["Mimořádný úklid ","úklid znečištěného WC (mimo mísu), umývárny nebo společných prostor zvratky nebo exkrementy (uklízečka vyrozumí vedoucí/zástupce vedoucí koleje)."]
["Mytí oken ","umytí parapetů na mokro za použití odpovídajícího saponátu, umytí rámů oken na mokro za použití odpovídajícího saponátu, umytí a vyleštění oken odpovídajícím přípravkem na mytí a leštění oken."]
["Zalévání květin ","zalití květin čistou odstátou vodou v přiměřeném množství s ohledem na druh rostliny. Podle potřeby použít odpovídající hnojivo v dávkování podle návodu k použití."]
["Vynášení a likvidace odpadu","vynesení odpadu ze všech odpadních nádob (i z prostoru okolo těchto nádob), a ze skartovaček, umytí odpadních nádob a doplnění pytlů na odpadky do odpadních nádob. Odpad dle možnosti vhodným způsobem třídit."]
["Doplňování hotelových potřeb ","v hotelovém provozu doplnit toaletní papír do zásobníků doplnit ručníky a hotelové mýdlo."]
[]
["Číslo typové činnosti","Popis typových pracovních činností:"]
["1.","Úklidem společných prostor, podlah chodeb, schodišť a vestibulu se rozumí:\nzamést a vytřít podlahy, odstranit našlapané žvýkačky a jiné nečistoty, vyluxovat podlahy kryté kobercem. Umýt parapety, zábradlí a hasicí přístroje umístěné na chodbách, vyleštit skleněné plochy na chodbách a ve vestibulech, setřít prach a pavučiny. Sepsat a nahlásit vedení koleje všechny závady a škody."]
["2.","Úklidem balkonů se rozumí: \nzamést a vytřít podlahy, odstranit našlapané žvýkačky a jiné nečistoty, umýt parapety a zábradlí. Odstranit pavučiny. Vynést odpady a popř. i vysypat popelníky."]
["3.","Úklidem společenských, (studoven, kluboven apod.) zájmových (posiloven, tělocvičen apod.) a zasedacích místností, kanceláří, skladů, šaten a výtahů se rozumí:\nzamést a vytřít podlahy, podlahy pokryté kobercem vyluxovat, setřít prach a pavučiny ze všech dosažitelných a volně přístupných míst a zařízení místností (topení, cvičební nářadí apod.), umýt a vyčistit skvrny kolem klik, dveří, vypínačů a světel. Srovnat nábytek a jiné vybavení místností. Srovnat nebo dověsit záclony a závěsy. Vyleštit zrcadla. Vynést odpad. Sepsat a nahlásit vedení koleje všechny závady a škody."]
["4.","Úklidem prádelen se rozumí:\nzamést a vytřít podlahy, setřít prach a pavučiny ze všech dosažitelných a volně přístupných míst a zařízení místností (praček, topení, apod.). Vyčistit filtry praček, vyčistit zásobníky na prášek. Umýt a vyčistit dveře, kliky, vypínače a světla. Srovnat nebo dověsit záclony a závěsy. Vyleštit zrcadla. Vynést odpad. Sepsat a nahlásit vedení koleje všechny závady a škody."]
["5.","Úklidem kuchyněk se rozumí:\numýt, vyčistit a vydesinfikovat sporák, vařič, mikrovlnnou troubu, digestoř, pracovní desky a zařízení místnosti kuchyňky. Umýt, vyčistit a vydesinfikovat obklady. Pokud je kuchyňka vybavena nádobím umýt nádobí. Odmrazit a vyčistit lednici. Odstranit všechny prošlé nebo kazící se potraviny. Zamést a vytřít podlahy. Vynést odpad. Setřít prach a pavučiny. Sepsat a nahlásit vedení koleje všechny závady a škody."]
["6.","Generálním úklidem pokojů po odchodu studentů se rozumí:\numýt nábytek z venku (postele, stoly, židle, police, skříně apod.) i zevnitř (skříně, šuplíky, peřináče, postele apod.) a vyčistit od skvrn. Vyleštit zrcadla a okna. Vyluxovat/strojově vyčistit matrace postelí. Setřít prach a pavučiny (včetně žaluzií). Umýt a vyčistit veškeré obložení, lišty, obrazy, dveře, kliky, rámy oken, parapety, vypínače, zásuvky, topení, světla, lampičky apod. Umýt ledničku zevnitř i zvenku. Zamést a vytřít podlahy, podlahy kryté kobercem vyluxovat, a to i pod a za postelí, křesly a závěsy. Srovnat nebo dověsit záclony a závěsy, srovnat nábytek a jiné vybavení pokoje. Vynést odpad, umýt, otřít a vyleštit odpadkový koš. Zlikvidovat případné komáry a mouchy. Vyvětrat a popř. i navonět. Sepsat a nahlásit vedení koleje všechny závady a škody. Případné nalezené věci po ubytovaných předat vedení koleje."]
["7.","Úklidem předsíní buněk se rozumí:\núklid sociálního zařízení podle bodu 14. a 15. úklid kuchyňky podle bodu 5. Zamést a vytřít podlahy. Umýt a vyčistit pracovní plochy a nábytek. Setřít prach a pavučiny. Vynést odpad. Sepsat a nahlásit vedení koleje všechny závady a škody."]
["8.","Úklidem hotelových pokojů po vystěhování se rozumí:\numýt nábytek z venku (postele, stoly, židle, police, skříně apod.) i zevnitř (skříně, šuplíky, peřináče, postele apod.) a vyčistit od skvrn. Vyleštit zrcadla a okna. Převléct a ustlat postele, vyluxovat/strojově vyčistit matrace postelí. Setřít prach a pavučiny (včetně žaluzií). Umýt a vyčistit veškeré obložení, lišty, obrazy, dveře, kliky, rámy oken, parapety, vypínače, zásuvky, televizi, topení, světla, lampičky apod. Umýt nádobí. Umýt ledničku zevnitř i zvenku. Zamést a vytřít podlahy, podlahy kryté kobercem vyluxovat, a to i pod a za postelí, křesly a závěsy. Srovnat nebo dověsit záclony a závěsy, srovnat nábytek a jiné vybavení pokoje. Vynést odpad, umýt, otřít a vyleštit odpadkový koš. Zlikvidovat případné komáry a mouchy. Doplnit hotelové potřeby. Vyvětrat a popř. i navonět. Předat složené použité prádlo a ručníky skladní. Sepsat a nahlásit vedení koleje všechny závady a škody. Případné nalezené věci po hostech předat vedení koleje."]
["9.","Úklidem hotelových pokojů v průběhu ubytování se rozumí:\nustlání postelí, popř. výměna ložního prádla každý 4. den pobytu, výměna osušek a ručníků, doplnění toaletního papíru, vynesení odpadků, umytí koupelny (sprchový kout, WC, umyvadlo), vytření podlahy."]
["10.","Přebráním uklizeného pokoje po studentech se rozumí:\npodle bodu 6. a 7. zkontrolovat úklid provedený studenty. Přebrat klíče od pokoje. Podepsat potvrzení o řádně provedeném úklidu a odevzdání klíčů. Sepsat a nahlásit vedení koleje všechny závady a škody. V případě nutnosti upozornit studenty na nedostatky v úklidu s tím, že je musí ve stanovené době odstranit, po té provést novou kontrolu úklidu. V případě, že ani napodruhé nebude pokoj řádně uklizen nahlásit tuto skutečnost vedení koleje."]
["11.","Úklidem výtahu se rozumí:\nzametení a vytření podlahy, vyčištění dveřních drážek, mytí stěn, mytí světel, jsou li instalována vyleštění zrcadel."]
["12.","Mytím oken se rozumí:\nmytí a leštění skel, mytí rámů, mytí parapetu, jsou-li instalovány setření žaluzií."]
["13.","Čištěním matrací:\nvyčištění matrací parním strojem."]
["14.","Úklidem WC se rozumí:\numýt, vyčistit a vydesinfikovat místnost WC, umýt záchodovou mísu zevnitř i zvenku umýt nohu a trubku za WC, umýt prkýnko a nádobu na splachovací vodu, popř. umýt pisoáry, umyvadla, baterie, obklady, odpady, podlahy a dveře. Otřít držák na toaletní papír. Umýt dlaždičky a silikon od plísně. Vylít vodu a otřít pouzdro na WC štětku. Vyleštit zrcadla. Vynést odpad. Setřít prach a pavučiny. Vždy za použití odpovídajícího mycího/čistícího přípravku."]
["15.","Úklidem koupelen a sprch se rozumí:\numýt, vyčistit a vydesinfikovat umyvadlo zevnitř i zvenku včetně trubek pod ním, baterie, sprchový kout, obklady, poličku nad umyvadlem i ve sprchovém koutě, odpady, podlahy a dveře. Umýt stěny sprchového koutu, gumové těsnění popř. závěs sprchového koutu. Odstranit rez a vodní kámen. Vynést odpad. Vyleštit zrcadlo, poličku, sprchu a držák na sprchu. Umýt dlaždičky a silikon od plísně. Vynést odpad. Setřít prach a pavučiny. Vždy za použití odpovídajícího mycího/čistícího přípravku"]